BEGIN:VCALENDAR
VERSION:2.0
PRODID:-//Ruelle sur Touvre - ECPv6.15.17//NONSGML v1.0//EN
CALSCALE:GREGORIAN
METHOD:PUBLISH
X-WR-CALNAME:Ruelle sur Touvre
X-ORIGINAL-URL:https://www.ville-ruellesurtouvre.fr
X-WR-CALDESC:Évènements pour Ruelle sur Touvre
REFRESH-INTERVAL;VALUE=DURATION:PT1H
X-Robots-Tag:noindex
X-PUBLISHED-TTL:PT1H
BEGIN:VTIMEZONE
TZID:Europe/Paris
BEGIN:DAYLIGHT
TZOFFSETFROM:+0100
TZOFFSETTO:+0200
TZNAME:CEST
DTSTART:20180325T010000
END:DAYLIGHT
BEGIN:STANDARD
TZOFFSETFROM:+0200
TZOFFSETTO:+0100
TZNAME:CET
DTSTART:20181028T010000
END:STANDARD
BEGIN:DAYLIGHT
TZOFFSETFROM:+0100
TZOFFSETTO:+0200
TZNAME:CEST
DTSTART:20190331T010000
END:DAYLIGHT
BEGIN:STANDARD
TZOFFSETFROM:+0200
TZOFFSETTO:+0100
TZNAME:CET
DTSTART:20191027T010000
END:STANDARD
BEGIN:DAYLIGHT
TZOFFSETFROM:+0100
TZOFFSETTO:+0200
TZNAME:CEST
DTSTART:20200329T010000
END:DAYLIGHT
BEGIN:STANDARD
TZOFFSETFROM:+0200
TZOFFSETTO:+0100
TZNAME:CET
DTSTART:20201025T010000
END:STANDARD
END:VTIMEZONE
BEGIN:VEVENT
DTSTART;TZID=Europe/Paris:20191107T080000
DTEND;TZID=Europe/Paris:20191107T170000
DTSTAMP:20260425T162329
CREATED:20191107T081618Z
LAST-MODIFIED:20191107T081618Z
UID:5687-1573113600-1573146000@www.ville-ruellesurtouvre.fr
SUMMARY:Vide mairie
DESCRIPTION:À l’occasion du regroupement de l’école des Seguins avec les autres écoles de la ville\, la mairie avait organisé un « vide-école ». Devant le succès rencontré\, les services de la commune ont proposé\, avec le soutien logistique de l’Amicale du personnel\, de renouveler l’opération afin de désencombrer les nombreux entrepôts de la ville et donner une seconde vie aux différents objets recensés… Outre des\nmeubles et objets à bas prix\, vous pourrez\, à l’approche des fêtes\, trouver le cadeau idéal dans les affiches et cartes anciennes qui seront proposées à la vente. Les bénéfices seront dispatchés entre la caisse des écoles et le CCAS. \n\nLe lieu : école du Maine-Gagnaud\, 98 avenue Jean Jaurès\nLa date : le samedi 16 novembre de 9h à 16h.
URL:https://www.ville-ruellesurtouvre.fr/evenement/vide-mairie/
LOCATION:Ecole du Maine-Gagnaud\, 98 avenue Jean Jaurès\, Ruelle sur Touvre\, France
CATEGORIES:Agenda associatif,Agenda citoyen
ATTACH;FMTTYPE=image/jpeg:https://www.ville-ruellesurtouvre.fr/wp-content/uploads/2019/11/affiche-vide-mairie.jpg
END:VEVENT
BEGIN:VEVENT
DTSTART;VALUE=DATE:20191122
DTEND;VALUE=DATE:20191123
DTSTAMP:20260425T162329
CREATED:20191118T160236Z
LAST-MODIFIED:20191118T160236Z
UID:5737-1574380800-1574467199@www.ville-ruellesurtouvre.fr
SUMMARY:Soirée dansante Beaujolais
DESCRIPTION:Au Centre culturel\, soirée organisée par le Comité de quartier de Villement.
URL:https://www.ville-ruellesurtouvre.fr/evenement/soiree-dansante-beaujolais/
LOCATION:Centre culturel -Ruelle-sur-Touvre\, Place Auguste Rouyer
CATEGORIES:Agenda associatif
ATTACH;FMTTYPE=image/png:https://www.ville-ruellesurtouvre.fr/wp-content/uploads/2019/11/vin-F.png
END:VEVENT
BEGIN:VEVENT
DTSTART;VALUE=DATE:20191123
DTEND;VALUE=DATE:20191124
DTSTAMP:20260425T162329
CREATED:20191118T160411Z
LAST-MODIFIED:20191118T160411Z
UID:5741-1574467200-1574553599@www.ville-ruellesurtouvre.fr
SUMMARY:Soirée Beaujolais
DESCRIPTION:Soirée au Centre culturel organisée par l’OFCR.
URL:https://www.ville-ruellesurtouvre.fr/evenement/soiree-beaujolais/
LOCATION:Centre culturel -Ruelle-sur-Touvre\, Place Auguste Rouyer
CATEGORIES:Agenda associatif
ATTACH;FMTTYPE=image/png:https://www.ville-ruellesurtouvre.fr/wp-content/uploads/2019/11/vin-F.png
END:VEVENT
BEGIN:VEVENT
DTSTART;TZID=Europe/Paris:20191130T150000
DTEND;TZID=Europe/Paris:20191130T170000
DTSTAMP:20260425T162329
CREATED:20191121T130357Z
LAST-MODIFIED:20191121T130615Z
UID:5753-1575126000-1575133200@www.ville-ruellesurtouvre.fr
SUMMARY:Randonnée pédestre
DESCRIPTION:Vous voulez participer à cette mobilisation exceptionnelle pour vaincre la maladie\, alors\, venez nous rejoindre sur les entiers de cette randonnée\, et passer un excellent moment !
URL:https://www.ville-ruellesurtouvre.fr/evenement/randonnee-pedestre/
LOCATION:Centre culturel -Ruelle-sur-Touvre\, Place Auguste Rouyer
CATEGORIES:Agenda associatif,Agenda sportif
ATTACH;FMTTYPE=image/jpeg:https://www.ville-ruellesurtouvre.fr/wp-content/uploads/2019/11/rando-pedestre-2019.jpg
END:VEVENT
END:VCALENDAR