BEGIN:VCALENDAR
VERSION:2.0
PRODID:-//Ruelle sur Touvre - ECPv6.15.17//NONSGML v1.0//EN
CALSCALE:GREGORIAN
METHOD:PUBLISH
X-ORIGINAL-URL:https://www.ville-ruellesurtouvre.fr
X-WR-CALDESC:Évènements pour Ruelle sur Touvre
REFRESH-INTERVAL;VALUE=DURATION:PT1H
X-Robots-Tag:noindex
X-PUBLISHED-TTL:PT1H
BEGIN:VTIMEZONE
TZID:Europe/Paris
BEGIN:DAYLIGHT
TZOFFSETFROM:+0100
TZOFFSETTO:+0200
TZNAME:CEST
DTSTART:20190331T010000
END:DAYLIGHT
BEGIN:STANDARD
TZOFFSETFROM:+0200
TZOFFSETTO:+0100
TZNAME:CET
DTSTART:20191027T010000
END:STANDARD
BEGIN:DAYLIGHT
TZOFFSETFROM:+0100
TZOFFSETTO:+0200
TZNAME:CEST
DTSTART:20200329T010000
END:DAYLIGHT
BEGIN:STANDARD
TZOFFSETFROM:+0200
TZOFFSETTO:+0100
TZNAME:CET
DTSTART:20201025T010000
END:STANDARD
BEGIN:DAYLIGHT
TZOFFSETFROM:+0100
TZOFFSETTO:+0200
TZNAME:CEST
DTSTART:20210328T010000
END:DAYLIGHT
BEGIN:STANDARD
TZOFFSETFROM:+0200
TZOFFSETTO:+0100
TZNAME:CET
DTSTART:20211031T010000
END:STANDARD
END:VTIMEZONE
BEGIN:VEVENT
DTSTART;VALUE=DATE:20200701
DTEND;VALUE=DATE:20200702
DTSTAMP:20260423T061458
CREATED:20200622T082944Z
LAST-MODIFIED:20200622T082944Z
UID:6551-1593561600-1593647999@www.ville-ruellesurtouvre.fr
SUMMARY:Eau-vive reprend du service !
DESCRIPTION:Prochaine collecte de papiers : mercredi 1er juillet 2020
URL:https://www.ville-ruellesurtouvre.fr/evenement/eau-vive-reprend-du-service/
CATEGORIES:Agenda associatif
ATTACH;FMTTYPE=image/png:https://www.ville-ruellesurtouvre.fr/wp-content/uploads/2020/06/collecte-papiers.png
END:VEVENT
BEGIN:VEVENT
DTSTART;VALUE=DATE:20200702
DTEND;VALUE=DATE:20200801
DTSTAMP:20260423T061458
CREATED:20200623T081611Z
LAST-MODIFIED:20200623T082111Z
UID:6571-1593648000-1596239999@www.ville-ruellesurtouvre.fr
SUMMARY:Animation Tir à l'arc en juillet
DESCRIPTION:
URL:https://www.ville-ruellesurtouvre.fr/evenement/animation-tir-a-larc-en-juillet/
CATEGORIES:Agenda associatif,Agenda sportif
ATTACH;FMTTYPE=image/jpeg:https://www.ville-ruellesurtouvre.fr/wp-content/uploads/2020/06/logo_archers_de_la_touvre.jpg
END:VEVENT
END:VCALENDAR