BEGIN:VCALENDAR
VERSION:2.0
PRODID:-//Ruelle sur Touvre - ECPv6.15.17//NONSGML v1.0//EN
CALSCALE:GREGORIAN
METHOD:PUBLISH
X-WR-CALNAME:Ruelle sur Touvre
X-ORIGINAL-URL:https://www.ville-ruellesurtouvre.fr
X-WR-CALDESC:Évènements pour Ruelle sur Touvre
REFRESH-INTERVAL;VALUE=DURATION:PT1H
X-Robots-Tag:noindex
X-PUBLISHED-TTL:PT1H
BEGIN:VTIMEZONE
TZID:Europe/Paris
BEGIN:DAYLIGHT
TZOFFSETFROM:+0100
TZOFFSETTO:+0200
TZNAME:CEST
DTSTART:20190331T010000
END:DAYLIGHT
BEGIN:STANDARD
TZOFFSETFROM:+0200
TZOFFSETTO:+0100
TZNAME:CET
DTSTART:20191027T010000
END:STANDARD
BEGIN:DAYLIGHT
TZOFFSETFROM:+0100
TZOFFSETTO:+0200
TZNAME:CEST
DTSTART:20200329T010000
END:DAYLIGHT
BEGIN:STANDARD
TZOFFSETFROM:+0200
TZOFFSETTO:+0100
TZNAME:CET
DTSTART:20201025T010000
END:STANDARD
BEGIN:DAYLIGHT
TZOFFSETFROM:+0100
TZOFFSETTO:+0200
TZNAME:CEST
DTSTART:20210328T010000
END:DAYLIGHT
BEGIN:STANDARD
TZOFFSETFROM:+0200
TZOFFSETTO:+0100
TZNAME:CET
DTSTART:20211031T010000
END:STANDARD
END:VTIMEZONE
BEGIN:VEVENT
DTSTART;TZID=Europe/Paris:20200903T180000
DTEND;TZID=Europe/Paris:20200903T193000
DTSTAMP:20260423T145741
CREATED:20200831T133546Z
LAST-MODIFIED:20200831T133546Z
UID:6804-1599156000-1599161400@www.ville-ruellesurtouvre.fr
SUMMARY:Vernissage de l'exposition du Club photo
DESCRIPTION:Dans le cadre de l’exposition du Club photo dans le Hall de la mairie\, nous vous invitons au vernissage en présence des photographes.
URL:https://www.ville-ruellesurtouvre.fr/evenement/vernissage-de-lexposition-du-club-photo/
LOCATION:Hall de la Mairie\, Place Auguste Rouyer\, Ruelle-sur-Touvre\, 16600
CATEGORIES:Agenda associatif,Agenda culturel
ATTACH;FMTTYPE=image/jpeg:https://www.ville-ruellesurtouvre.fr/wp-content/uploads/2020/08/Pêcheur-flamme.jpg
END:VEVENT
BEGIN:VEVENT
DTSTART;TZID=Europe/Paris:20200912T140000
DTEND;TZID=Europe/Paris:20200912T170000
DTSTAMP:20260423T145741
CREATED:20200907T115701Z
LAST-MODIFIED:20200907T115701Z
UID:6848-1599919200-1599930000@www.ville-ruellesurtouvre.fr
SUMMARY:Portes ouvertes de l'Université Populaire
DESCRIPTION:
URL:https://www.ville-ruellesurtouvre.fr/evenement/portes-ouvertes-de-luniversite-populaire/
CATEGORIES:Agenda associatif
ATTACH;FMTTYPE=image/jpeg:https://www.ville-ruellesurtouvre.fr/wp-content/uploads/2020/09/UP.jpg
END:VEVENT
BEGIN:VEVENT
DTSTART;TZID=Europe/Paris:20200918T180000
DTEND;TZID=Europe/Paris:20200918T193000
DTSTAMP:20260423T145741
CREATED:20200831T133956Z
LAST-MODIFIED:20200831T134026Z
UID:6807-1600452000-1600457400@www.ville-ruellesurtouvre.fr
SUMMARY:Vernissage de l'exposition d'Isabelle Rapp Tetard
DESCRIPTION:Au sein de l’épicerie coopérative Hêtre Solidaire (au 3 rue Charles Gide)\, l’artiste peintre Isabelle Rapp Tetard\, vous propose de découvrir son travail. \n 
URL:https://www.ville-ruellesurtouvre.fr/evenement/vernissage-de-lexposition-disabelle-rapp-tetard/
CATEGORIES:Agenda associatif
ATTACH;FMTTYPE=image/png:https://www.ville-ruellesurtouvre.fr/wp-content/uploads/2020/08/hetre_solidaire_expo.png
END:VEVENT
BEGIN:VEVENT
DTSTART;VALUE=DATE:20200920
DTEND;VALUE=DATE:20200921
DTSTAMP:20260423T145741
CREATED:20200731T090927Z
LAST-MODIFIED:20200731T091355Z
UID:6740-1600560000-1600646399@www.ville-ruellesurtouvre.fr
SUMMARY:Déball'tout Villement - ANNULÉ
DESCRIPTION:Le déball’tout organisé par le comité de quartier de Villement prévu le 20 septembre est annulé.
URL:https://www.ville-ruellesurtouvre.fr/evenement/deballtout-villement-annule/
CATEGORIES:Agenda associatif
END:VEVENT
END:VCALENDAR