BEGIN:VCALENDAR
VERSION:2.0
PRODID:-//Ruelle sur Touvre - ECPv6.15.17//NONSGML v1.0//EN
CALSCALE:GREGORIAN
METHOD:PUBLISH
X-ORIGINAL-URL:https://www.ville-ruellesurtouvre.fr
X-WR-CALDESC:Évènements pour Ruelle sur Touvre
REFRESH-INTERVAL;VALUE=DURATION:PT1H
X-Robots-Tag:noindex
X-PUBLISHED-TTL:PT1H
BEGIN:VTIMEZONE
TZID:Europe/Paris
BEGIN:DAYLIGHT
TZOFFSETFROM:+0100
TZOFFSETTO:+0200
TZNAME:CEST
DTSTART:20200329T010000
END:DAYLIGHT
BEGIN:STANDARD
TZOFFSETFROM:+0200
TZOFFSETTO:+0100
TZNAME:CET
DTSTART:20201025T010000
END:STANDARD
BEGIN:DAYLIGHT
TZOFFSETFROM:+0100
TZOFFSETTO:+0200
TZNAME:CEST
DTSTART:20210328T010000
END:DAYLIGHT
BEGIN:STANDARD
TZOFFSETFROM:+0200
TZOFFSETTO:+0100
TZNAME:CET
DTSTART:20211031T010000
END:STANDARD
BEGIN:DAYLIGHT
TZOFFSETFROM:+0100
TZOFFSETTO:+0200
TZNAME:CEST
DTSTART:20220327T010000
END:DAYLIGHT
BEGIN:STANDARD
TZOFFSETFROM:+0200
TZOFFSETTO:+0100
TZNAME:CET
DTSTART:20221030T010000
END:STANDARD
END:VTIMEZONE
BEGIN:VEVENT
DTSTART;TZID=Europe/Paris:20211004T083000
DTEND;TZID=Europe/Paris:20211029T120000
DTSTAMP:20260422T075132
CREATED:20210823T145236Z
LAST-MODIFIED:20210823T145236Z
UID:8261-1633336200-1635508800@www.ville-ruellesurtouvre.fr
SUMMARY:Exposition "Histoire de la forge de Ruelle\, de 1750 à la fin du XVIIIe siècle"
DESCRIPTION:Proposée par La route des tonneaux et des canons
URL:https://www.ville-ruellesurtouvre.fr/evenement/exposition-histoire-de-la-forge-de-ruelle-de-1750-a-la-fin-du-xviiie-siecle/
LOCATION:Hall de la Mairie\, Place Auguste Rouyer\, Ruelle-sur-Touvre\, 16600
CATEGORIES:Agenda associatif,Agenda culturel
END:VEVENT
BEGIN:VEVENT
DTSTART;TZID=Europe/Paris:20211006T203000
DTEND;TZID=Europe/Paris:20211006T220000
DTSTAMP:20260422T075132
CREATED:20210823T141733Z
LAST-MODIFIED:20210823T141733Z
UID:8248-1633552200-1633557600@www.ville-ruellesurtouvre.fr
SUMMARY:Conférence de l'Université Populaire "Un génie nommé Chaplin"
DESCRIPTION:Par Yves Pedrono
URL:https://www.ville-ruellesurtouvre.fr/evenement/conference-de-luniversite-populaire-un-genie-nomme-chaplin/
LOCATION:Salle de L’UP – Espace Jean Ferrat\, place du Champ de Mars\, Ruelle sur Touvre\, 16600\, France
CATEGORIES:Agenda associatif,Agenda culturel
ORGANIZER;CN="Universit%C3%A9 populaire":MAILTO:up-ruelle@wanadoo.fr
END:VEVENT
END:VCALENDAR