BEGIN:VCALENDAR
VERSION:2.0
PRODID:-//Ruelle sur Touvre - ECPv6.15.17//NONSGML v1.0//EN
CALSCALE:GREGORIAN
METHOD:PUBLISH
X-WR-CALNAME:Ruelle sur Touvre
X-ORIGINAL-URL:https://www.ville-ruellesurtouvre.fr
X-WR-CALDESC:Évènements pour Ruelle sur Touvre
REFRESH-INTERVAL;VALUE=DURATION:PT1H
X-Robots-Tag:noindex
X-PUBLISHED-TTL:PT1H
BEGIN:VTIMEZONE
TZID:Europe/Paris
BEGIN:DAYLIGHT
TZOFFSETFROM:+0100
TZOFFSETTO:+0200
TZNAME:CEST
DTSTART:20200329T010000
END:DAYLIGHT
BEGIN:STANDARD
TZOFFSETFROM:+0200
TZOFFSETTO:+0100
TZNAME:CET
DTSTART:20201025T010000
END:STANDARD
BEGIN:DAYLIGHT
TZOFFSETFROM:+0100
TZOFFSETTO:+0200
TZNAME:CEST
DTSTART:20210328T010000
END:DAYLIGHT
BEGIN:STANDARD
TZOFFSETFROM:+0200
TZOFFSETTO:+0100
TZNAME:CET
DTSTART:20211031T010000
END:STANDARD
BEGIN:DAYLIGHT
TZOFFSETFROM:+0100
TZOFFSETTO:+0200
TZNAME:CEST
DTSTART:20220327T010000
END:DAYLIGHT
BEGIN:STANDARD
TZOFFSETFROM:+0200
TZOFFSETTO:+0100
TZNAME:CET
DTSTART:20221030T010000
END:STANDARD
BEGIN:DAYLIGHT
TZOFFSETFROM:+0100
TZOFFSETTO:+0200
TZNAME:CEST
DTSTART:20230326T010000
END:DAYLIGHT
BEGIN:STANDARD
TZOFFSETFROM:+0200
TZOFFSETTO:+0100
TZNAME:CET
DTSTART:20231029T010000
END:STANDARD
END:VTIMEZONE
BEGIN:VEVENT
DTSTART;TZID=Europe/Paris:20211201T083000
DTEND;TZID=Europe/Paris:20220103T120000
DTSTAMP:20260422T040403
CREATED:20210823T145721Z
LAST-MODIFIED:20210823T145721Z
UID:8265-1638347400-1641211200@www.ville-ruellesurtouvre.fr
SUMMARY:Exposition "L'ombre du RAP"
DESCRIPTION:Le jeune artiste El Leao vous invite à découvrir l’univers du Rap à travers ses créations.
URL:https://www.ville-ruellesurtouvre.fr/evenement/exposition-lombre-du-rap/
LOCATION:Hall de la Mairie\, Place Auguste Rouyer\, Ruelle-sur-Touvre\, 16600
CATEGORIES:Agenda associatif
END:VEVENT
BEGIN:VEVENT
DTSTART;VALUE=DATE:20211203
DTEND;VALUE=DATE:20211205
DTSTAMP:20260422T040403
CREATED:20210809T093305Z
LAST-MODIFIED:20210809T093414Z
UID:8223-1638489600-1638662399@www.ville-ruellesurtouvre.fr
SUMMARY:TÉLÉTHON
DESCRIPTION:Animations\, spectacles\, rencontres au profit du Téléthon. \nEnsemble\, transformons la recherche en victoires ! \nTout public
URL:https://www.ville-ruellesurtouvre.fr/evenement/telethon/
CATEGORIES:Agenda associatif,Agenda festif
ATTACH;FMTTYPE=image/jpeg:https://www.ville-ruellesurtouvre.fr/wp-content/uploads/2021/08/TelethonWEB.jpg
END:VEVENT
END:VCALENDAR