BEGIN:VCALENDAR
VERSION:2.0
PRODID:-//Ruelle sur Touvre - ECPv6.15.17//NONSGML v1.0//EN
CALSCALE:GREGORIAN
METHOD:PUBLISH
X-ORIGINAL-URL:https://www.ville-ruellesurtouvre.fr
X-WR-CALDESC:Évènements pour Ruelle sur Touvre
REFRESH-INTERVAL;VALUE=DURATION:PT1H
X-Robots-Tag:noindex
X-PUBLISHED-TTL:PT1H
BEGIN:VTIMEZONE
TZID:Europe/Paris
BEGIN:DAYLIGHT
TZOFFSETFROM:+0100
TZOFFSETTO:+0200
TZNAME:CEST
DTSTART:20210328T010000
END:DAYLIGHT
BEGIN:STANDARD
TZOFFSETFROM:+0200
TZOFFSETTO:+0100
TZNAME:CET
DTSTART:20211031T010000
END:STANDARD
BEGIN:DAYLIGHT
TZOFFSETFROM:+0100
TZOFFSETTO:+0200
TZNAME:CEST
DTSTART:20220327T010000
END:DAYLIGHT
BEGIN:STANDARD
TZOFFSETFROM:+0200
TZOFFSETTO:+0100
TZNAME:CET
DTSTART:20221030T010000
END:STANDARD
BEGIN:DAYLIGHT
TZOFFSETFROM:+0100
TZOFFSETTO:+0200
TZNAME:CEST
DTSTART:20230326T010000
END:DAYLIGHT
BEGIN:STANDARD
TZOFFSETFROM:+0200
TZOFFSETTO:+0100
TZNAME:CET
DTSTART:20231029T010000
END:STANDARD
END:VTIMEZONE
BEGIN:VEVENT
DTSTART;TZID=Europe/Paris:20220302T203000
DTEND;TZID=Europe/Paris:20220302T223000
DTSTAMP:20260421T230628
CREATED:20220224T140959Z
LAST-MODIFIED:20220224T140959Z
UID:9192-1646253000-1646260200@www.ville-ruellesurtouvre.fr
SUMMARY:CONFÉRENCE DE L'UNIVERSITÉ POPULAIRE
DESCRIPTION:La grippe espagnole par Dominique Breillat et le Dr. Patrick Bouet.
URL:https://www.ville-ruellesurtouvre.fr/evenement/conference-de-luniversite-populaire/
LOCATION:Université Populaire\, Place du champ de mars\, Ruelle Sur Touvre\, 16600\, France
CATEGORIES:Agenda associatif
ORGANIZER;CN="Universit%C3%A9 populaire":MAILTO:up-ruelle@wanadoo.fr
END:VEVENT
BEGIN:VEVENT
DTSTART;TZID=Europe/Paris:20220305T140000
DTEND;TZID=Europe/Paris:20220305T170000
DTSTAMP:20260421T230628
CREATED:20220304T072951Z
LAST-MODIFIED:20220304T072951Z
UID:9293-1646488800-1646499600@www.ville-ruellesurtouvre.fr
SUMMARY:Marche gratuite
DESCRIPTION:DÉPART : 14H DEVANT L’ANCIENNE ÉCOLE DES RIFFAUDS \nMARCHE ORGANISÉE PAR L’ARA DES RIFFAUDS
URL:https://www.ville-ruellesurtouvre.fr/evenement/marche-gratuite/
LOCATION:Quartier des Riffauds
CATEGORIES:Agenda associatif,Agenda sportif
ATTACH;FMTTYPE=image/jpeg:https://www.ville-ruellesurtouvre.fr/wp-content/uploads/2022/03/20220115_140628-scaled.jpg
END:VEVENT
END:VCALENDAR