BEGIN:VCALENDAR
VERSION:2.0
PRODID:-//Ruelle sur Touvre - ECPv6.15.17//NONSGML v1.0//EN
CALSCALE:GREGORIAN
METHOD:PUBLISH
X-ORIGINAL-URL:https://www.ville-ruellesurtouvre.fr
X-WR-CALDESC:Évènements pour Ruelle sur Touvre
REFRESH-INTERVAL;VALUE=DURATION:PT1H
X-Robots-Tag:noindex
X-PUBLISHED-TTL:PT1H
BEGIN:VTIMEZONE
TZID:Europe/Paris
BEGIN:DAYLIGHT
TZOFFSETFROM:+0100
TZOFFSETTO:+0200
TZNAME:CEST
DTSTART:20210328T010000
END:DAYLIGHT
BEGIN:STANDARD
TZOFFSETFROM:+0200
TZOFFSETTO:+0100
TZNAME:CET
DTSTART:20211031T010000
END:STANDARD
BEGIN:DAYLIGHT
TZOFFSETFROM:+0100
TZOFFSETTO:+0200
TZNAME:CEST
DTSTART:20220327T010000
END:DAYLIGHT
BEGIN:STANDARD
TZOFFSETFROM:+0200
TZOFFSETTO:+0100
TZNAME:CET
DTSTART:20221030T010000
END:STANDARD
BEGIN:DAYLIGHT
TZOFFSETFROM:+0100
TZOFFSETTO:+0200
TZNAME:CEST
DTSTART:20230326T010000
END:DAYLIGHT
BEGIN:STANDARD
TZOFFSETFROM:+0200
TZOFFSETTO:+0100
TZNAME:CET
DTSTART:20231029T010000
END:STANDARD
END:VTIMEZONE
BEGIN:VEVENT
DTSTART;TZID=Europe/Paris:20220507T140000
DTEND;TZID=Europe/Paris:20220507T170000
DTSTAMP:20260421T194507
CREATED:20220304T073228Z
LAST-MODIFIED:20220304T073228Z
UID:9298-1651932000-1651942800@www.ville-ruellesurtouvre.fr
SUMMARY:Marche gratuite
DESCRIPTION:DÉPART : 14H DEVANT L’ANCIENNE ÉCOLE DES RIFFAUDS \nMARCHE ORGANISÉE PAR L’ARA DES RIFFAUDS
URL:https://www.ville-ruellesurtouvre.fr/evenement/marche-gratuite-3/
LOCATION:Quartier des Riffauds
CATEGORIES:Agenda associatif,Agenda sportif
ATTACH;FMTTYPE=image/jpeg:https://www.ville-ruellesurtouvre.fr/wp-content/uploads/2022/03/20220115_140628-scaled.jpg
END:VEVENT
BEGIN:VEVENT
DTSTART;TZID=Europe/Paris:20220511T203000
DTEND;TZID=Europe/Paris:20220511T220000
DTSTAMP:20260421T194507
CREATED:20220224T141359Z
LAST-MODIFIED:20220224T141540Z
UID:9199-1652301000-1652306400@www.ville-ruellesurtouvre.fr
SUMMARY:CONFÉRENCE DE L'UNIVERSITÉ POPULAIRE
DESCRIPTION:Plantes sauvages\, comestibles et médicinales. Par Katia Jicquel des Jardins d’Isis.
URL:https://www.ville-ruellesurtouvre.fr/evenement/conference-de-luniversite-populaire-3/
LOCATION:Université Populaire\, Place du champ de mars\, Ruelle Sur Touvre\, 16600\, France
CATEGORIES:Agenda associatif
ORGANIZER;CN="Universit%C3%A9 populaire":MAILTO:up-ruelle@wanadoo.fr
END:VEVENT
BEGIN:VEVENT
DTSTART;TZID=Europe/Paris:20220514T100000
DTEND;TZID=Europe/Paris:20220514T160000
DTSTAMP:20260421T194507
CREATED:20220310T132733Z
LAST-MODIFIED:20220310T133408Z
UID:9341-1652522400-1652544000@www.ville-ruellesurtouvre.fr
SUMMARY:JOURNÉE PORTES OUVERTES
DESCRIPTION:L’épicerie Hêtre Solidaire Coop est une épicerie coopérative auto-gérée et une association pour la promotion du « MIEUX MANGER » par une consommation de produits d’épicerie BIO ou locaux. Approvisionnement chez des producteurs et grossistes BIO\, si possible locaux et issus de l’économie sociale et solidaire. Collaboration avec le CIDIL\, l’ARU…\n\n\nVous trouverez une diversité de produits d’épicerie\, du vrac\, des produits d’hygiène à prix coûtant. L’épicerie est\, en définitive\, un collectif dans lequel chacun(e) devient acteur de sa consommation alimentaire en évitant les marges et le fonctionnement de la grande distribution. L’adhésion annuelle est de 20€. En avant pour des actions participatives\, citoyennes et conviviales ! \n\n\nJournée portes ouvertes le samedi 14 mai de 10h à 16h à l’épicerie située au 98\, Avenue du Président Wilson.\n \n\n\nContact : hetresolidairecoop@lilo.org
URL:https://www.ville-ruellesurtouvre.fr/evenement/journee-portes-ouvertes-2/
CATEGORIES:Agenda associatif
ATTACH;FMTTYPE=image/jpeg:https://www.ville-ruellesurtouvre.fr/wp-content/uploads/2022/03/thumbnail_Screenshot_20220127-095333_Chrome.jpg
END:VEVENT
END:VCALENDAR