BEGIN:VCALENDAR
VERSION:2.0
PRODID:-//Ruelle sur Touvre - ECPv6.15.17//NONSGML v1.0//EN
CALSCALE:GREGORIAN
METHOD:PUBLISH
X-WR-CALNAME:Ruelle sur Touvre
X-ORIGINAL-URL:https://www.ville-ruellesurtouvre.fr
X-WR-CALDESC:Évènements pour Ruelle sur Touvre
REFRESH-INTERVAL;VALUE=DURATION:PT1H
X-Robots-Tag:noindex
X-PUBLISHED-TTL:PT1H
BEGIN:VTIMEZONE
TZID:Europe/Paris
BEGIN:DAYLIGHT
TZOFFSETFROM:+0100
TZOFFSETTO:+0200
TZNAME:CEST
DTSTART:20210328T010000
END:DAYLIGHT
BEGIN:STANDARD
TZOFFSETFROM:+0200
TZOFFSETTO:+0100
TZNAME:CET
DTSTART:20211031T010000
END:STANDARD
BEGIN:DAYLIGHT
TZOFFSETFROM:+0100
TZOFFSETTO:+0200
TZNAME:CEST
DTSTART:20220327T010000
END:DAYLIGHT
BEGIN:STANDARD
TZOFFSETFROM:+0200
TZOFFSETTO:+0100
TZNAME:CET
DTSTART:20221030T010000
END:STANDARD
BEGIN:DAYLIGHT
TZOFFSETFROM:+0100
TZOFFSETTO:+0200
TZNAME:CEST
DTSTART:20230326T010000
END:DAYLIGHT
BEGIN:STANDARD
TZOFFSETFROM:+0200
TZOFFSETTO:+0100
TZNAME:CET
DTSTART:20231029T010000
END:STANDARD
END:VTIMEZONE
BEGIN:VEVENT
DTSTART;TZID=Europe/Paris:20220604T094500
DTEND;TZID=Europe/Paris:20220604T163000
DTSTAMP:20260421T180118
CREATED:20220304T073405Z
LAST-MODIFIED:20220523T075358Z
UID:9300-1654335900-1654360200@www.ville-ruellesurtouvre.fr
SUMMARY:MARCHE ET «PIQUE-NIQUE» DÉCOUVERTE DE RUELLE
DESCRIPTION:«PIQUE-NIQUE» DÉCOUVERTE DE RUELLE\nMARCHE GRATUITE ORGANISÉE PAR L’ARA \n\n\n\nL’Association Riffauds Animations organise sa marche mensuelle ce samedi 04 juin 2022. \n\n\n📅👉 RDV : 9h45 – Place des Écoles des Riffauds\n\n\nDépart à 10h.\n\n\n– Matin : 6 à 7 km env.\n\n\n– Déjeuner vers 12h30\n\n\n– Après midi : 5 à 6 km env.\n\n\nRetour vers 16h-16h30.\n\n\nPrix : 2€.\n\n\nInscription : 06 74 78 22 64\n\n\n(50 personnes maxi.)\n\n\nTransport possible de votre pique-nique par un\n\n\nmembre de l·ARA.
URL:https://www.ville-ruellesurtouvre.fr/evenement/marche-gratuite-4/
LOCATION:Quartier des Riffauds
CATEGORIES:Agenda associatif
ATTACH;FMTTYPE=image/jpeg:https://www.ville-ruellesurtouvre.fr/wp-content/uploads/2022/03/20220115_140628-scaled.jpg
END:VEVENT
END:VCALENDAR