BEGIN:VCALENDAR
VERSION:2.0
PRODID:-//Ruelle sur Touvre - ECPv6.15.17//NONSGML v1.0//EN
CALSCALE:GREGORIAN
METHOD:PUBLISH
X-ORIGINAL-URL:https://www.ville-ruellesurtouvre.fr
X-WR-CALDESC:Évènements pour Ruelle sur Touvre
REFRESH-INTERVAL;VALUE=DURATION:PT1H
X-Robots-Tag:noindex
X-PUBLISHED-TTL:PT1H
BEGIN:VTIMEZONE
TZID:Europe/Paris
BEGIN:DAYLIGHT
TZOFFSETFROM:+0100
TZOFFSETTO:+0200
TZNAME:CEST
DTSTART:20210328T010000
END:DAYLIGHT
BEGIN:STANDARD
TZOFFSETFROM:+0200
TZOFFSETTO:+0100
TZNAME:CET
DTSTART:20211031T010000
END:STANDARD
BEGIN:DAYLIGHT
TZOFFSETFROM:+0100
TZOFFSETTO:+0200
TZNAME:CEST
DTSTART:20220327T010000
END:DAYLIGHT
BEGIN:STANDARD
TZOFFSETFROM:+0200
TZOFFSETTO:+0100
TZNAME:CET
DTSTART:20221030T010000
END:STANDARD
BEGIN:DAYLIGHT
TZOFFSETFROM:+0100
TZOFFSETTO:+0200
TZNAME:CEST
DTSTART:20230326T010000
END:DAYLIGHT
BEGIN:STANDARD
TZOFFSETFROM:+0200
TZOFFSETTO:+0100
TZNAME:CET
DTSTART:20231029T010000
END:STANDARD
END:VTIMEZONE
BEGIN:VEVENT
DTSTART;TZID=Europe/Paris:20221008T094500
DTEND;TZID=Europe/Paris:20221008T163000
DTSTAMP:20260421T122209
CREATED:20220304T073824Z
LAST-MODIFIED:20220927T083316Z
UID:9306-1665222300-1665246600@www.ville-ruellesurtouvre.fr
SUMMARY:MARCHE «PIQUE-NIQUE» DÉCOUVERTE DE RUELLE
DESCRIPTION:Samedi 08 Octobre 2022 \nRDV : 9h45 – Place des Écoles des Riffauds \nDépart à 10h. \n– Matin : 6 à 7 km env. \n– Déjeuner vers 12h30 \n– Après midi : 5 à 6 km env. \nRetour vers 16h-16h30. \nPrix : 2€ \nInscription : 06 74 78 22 64 (50 personnes maxi.) \nTransport possible de votre pique-nique par un membre de l’ARA.
URL:https://www.ville-ruellesurtouvre.fr/evenement/marche-gratuite-7/
LOCATION:Quartier des Riffauds
CATEGORIES:Agenda associatif,Agenda sportif
ATTACH;FMTTYPE=image/jpeg:https://www.ville-ruellesurtouvre.fr/wp-content/uploads/2022/03/20220115_140628-scaled.jpg
END:VEVENT
BEGIN:VEVENT
DTSTART;TZID=Europe/Paris:20221018T180000
DTEND;TZID=Europe/Paris:20221018T200000
DTSTAMP:20260421T122209
CREATED:20221012T074143Z
LAST-MODIFIED:20221012T074143Z
UID:10005-1666116000-1666123200@www.ville-ruellesurtouvre.fr
SUMMARY:AG Comité des jumelages
DESCRIPTION:Assemblée Générale le 18 octobre à 18h00 au Pôle associatif Jacques Prévert\,\nsuivi d’un temps d’échange ouvert à toutes les personnes intéressées à partir de 19h30.
URL:https://www.ville-ruellesurtouvre.fr/evenement/ag-comite-des-jumelages/
CATEGORIES:Agenda associatif
END:VEVENT
END:VCALENDAR