BEGIN:VCALENDAR
VERSION:2.0
PRODID:-//Ruelle sur Touvre - ECPv6.15.17//NONSGML v1.0//EN
CALSCALE:GREGORIAN
METHOD:PUBLISH
X-ORIGINAL-URL:https://www.ville-ruellesurtouvre.fr
X-WR-CALDESC:Évènements pour Ruelle sur Touvre
REFRESH-INTERVAL;VALUE=DURATION:PT1H
X-Robots-Tag:noindex
X-PUBLISHED-TTL:PT1H
BEGIN:VTIMEZONE
TZID:Europe/Paris
BEGIN:DAYLIGHT
TZOFFSETFROM:+0100
TZOFFSETTO:+0200
TZNAME:CEST
DTSTART:20240331T010000
END:DAYLIGHT
BEGIN:STANDARD
TZOFFSETFROM:+0200
TZOFFSETTO:+0100
TZNAME:CET
DTSTART:20241027T010000
END:STANDARD
BEGIN:DAYLIGHT
TZOFFSETFROM:+0100
TZOFFSETTO:+0200
TZNAME:CEST
DTSTART:20250330T010000
END:DAYLIGHT
BEGIN:STANDARD
TZOFFSETFROM:+0200
TZOFFSETTO:+0100
TZNAME:CET
DTSTART:20251026T010000
END:STANDARD
BEGIN:DAYLIGHT
TZOFFSETFROM:+0100
TZOFFSETTO:+0200
TZNAME:CEST
DTSTART:20260329T010000
END:DAYLIGHT
BEGIN:STANDARD
TZOFFSETFROM:+0200
TZOFFSETTO:+0100
TZNAME:CET
DTSTART:20261025T010000
END:STANDARD
END:VTIMEZONE
BEGIN:VEVENT
DTSTART;TZID=Europe/Paris:20251001T203000
DTEND;TZID=Europe/Paris:20251001T213000
DTSTAMP:20260424T113417
CREATED:20250805T140233Z
LAST-MODIFIED:20250926T125732Z
UID:13803-1759350600-1759354200@www.ville-ruellesurtouvre.fr
SUMMARY:Spectacle Au fil du conte : Robin Recours – Il était une fois… Les langues
DESCRIPTION:Et si l’anglais\, le chinois\, l’espagnol\, l’arabe\, l’occitan\, l’allemand\, le portugais\, l’italien\, le swahili\, le russe étaient tout simplement ancrés au plus profond de nous\, et si l’humour et la poésie étaient les clés de la communication universelle ? \nEn s’appuyant sur des histoires appartenant à la mémoire collective internationale\, Robin Recours jongle avec les mots et partage un pouvoir\, celui de parler une multitude de langues le temps d’un spectacle. Un One man show conté multilingue ! \nGratuit – A partir de 14 ans – Infos : 05 45 65 34 89
URL:https://www.ville-ruellesurtouvre.fr/evenement/spectacle-au-fil-du-conte-robin-recours-il-etait-une-fois-les-langues/
LOCATION:Théâtre Jean Ferrat
CATEGORIES:Agenda culturel,Agenda jeunesse
ATTACH;FMTTYPE=image/jpeg:https://www.ville-ruellesurtouvre.fr/wp-content/uploads/2025/08/Au-fil-du-conte.jpg
END:VEVENT
BEGIN:VEVENT
DTSTART;TZID=Europe/Paris:20251003T200000
DTEND;TZID=Europe/Paris:20251003T213000
DTSTAMP:20260424T113417
CREATED:20250805T140454Z
LAST-MODIFIED:20250805T140454Z
UID:13806-1759521600-1759527000@www.ville-ruellesurtouvre.fr
SUMMARY:Soirée ciné
DESCRIPTION:Choisissez votre film préféré parmi une sélection de 5 bandes-annonces\, installez-vous confortablement et découvrez le film sélectionné. On en discute juste après ! \nEn partenariat avec la bibliothèque numérique de Charente\, Sésame. \nGratuit – Sur inscriptions – A partir de 14 ans – Infos : 05 45 65 34 89
URL:https://www.ville-ruellesurtouvre.fr/evenement/soiree-cine-5/
LOCATION:Médiathèque La Médiaporte
CATEGORIES:Agenda culturel
ATTACH;FMTTYPE=image/jpeg:https://www.ville-ruellesurtouvre.fr/wp-content/uploads/2024/08/vista-de-3d-xicara-de-pipoca-com-assento-de-cinema_23-2150866179.jpg
END:VEVENT
BEGIN:VEVENT
DTSTART;TZID=Europe/Paris:20251007T180000
DTEND;TZID=Europe/Paris:20251007T200000
DTSTAMP:20260424T113417
CREATED:20250805T141226Z
LAST-MODIFIED:20250805T141226Z
UID:13808-1759860000-1759867200@www.ville-ruellesurtouvre.fr
SUMMARY:La rentrée littéraire avec la librairie Lilosimages
DESCRIPTION:Venez découvrir les coups de cœur de nos libraires : des voix contemporaines\, de littérature francophone et étrangère\, des récits intimes\, politiques\, d’aventure\, d’imaginaire… on vous garantit émerveillement\, effroi\, poésie\, indignation\, douceur et coups de poings littéraires !\nVente de livres sur place. \nGratuit – Tout public – Infos : 05 45 65 34 89
URL:https://www.ville-ruellesurtouvre.fr/evenement/la-rentree-litteraire-avec-la-librairie-lilosimages/
LOCATION:Médiathèque La Médiaporte
CATEGORIES:Agenda culturel
ATTACH;FMTTYPE=image/jpeg:https://www.ville-ruellesurtouvre.fr/wp-content/uploads/2025/08/Lilosimages.jpg
END:VEVENT
BEGIN:VEVENT
DTSTART;TZID=Europe/Paris:20251007T200000
DTEND;TZID=Europe/Paris:20251007T220000
DTSTAMP:20260424T113417
CREATED:20250805T144515Z
LAST-MODIFIED:20250926T125714Z
UID:13816-1759867200-1759874400@www.ville-ruellesurtouvre.fr
SUMMARY:Piano en Valois : Concert d’Elian RAMAMONJISAO
DESCRIPTION:« Prodige du piano depuis l’âge de 5 ans » \nElian Ramamonjisoa enchaîne les distinctions prestigieuses. Sa virtuosité le mène sur les scènes du Festival Chopin de Nohant\, de Fontainebleau\, et même jusqu’en Espagne. En 2024\, il remporte le 1er prix du Piano Campus\, raflant une pluie de récompenses. Lauréat SAFRAN 2024/2025\, il incarne déjà la relève éclatante du piano français. \nRéservations et infos auprès du festival Piano en Valois : 05 45 95 16 84
URL:https://www.ville-ruellesurtouvre.fr/evenement/piano-en-valois-concert-delian-ramamonjisao/
LOCATION:Théâtre Jean Ferrat
CATEGORIES:Agenda culturel
ATTACH;FMTTYPE=image/jpeg:https://www.ville-ruellesurtouvre.fr/wp-content/uploads/2025/09/Affiche-75x114-Ruelle-Valois-10-09-2025-300dpi_page-0001-scaled.jpg
END:VEVENT
BEGIN:VEVENT
DTSTART;TZID=Europe/Paris:20251008T143000
DTEND;TZID=Europe/Paris:20251008T163000
DTSTAMP:20260424T113417
CREATED:20250805T143945Z
LAST-MODIFIED:20250805T143945Z
UID:13811-1759933800-1759941000@www.ville-ruellesurtouvre.fr
SUMMARY:Les Z’arteliers – Cocotte en papier et méga pouet pouet
DESCRIPTION:On ravive des souvenirs chez tes parents et on te fait découvrir la “cocotte en papier” : Cette fabuleuse machine\, qui\, dans la cour de récréation\, pouvait prédire l’avenir. On s’attaque ensuite au “MEGA POUET POUET”.
URL:https://www.ville-ruellesurtouvre.fr/evenement/les-zarteliers-cocotte-en-papier-et-mega-pouet-pouet/
LOCATION:Médiathèque La Médiaporte
CATEGORIES:Agenda culturel,Agenda jeunesse
ATTACH;FMTTYPE=image/jpeg:https://www.ville-ruellesurtouvre.fr/wp-content/uploads/2025/03/logo_LaVillette_Culture_Ruelle_sur_Touvre2-300x300-1.jpg
END:VEVENT
BEGIN:VEVENT
DTSTART;TZID=Europe/Paris:20251011T143000
DTEND;TZID=Europe/Paris:20251011T163000
DTSTAMP:20260424T113417
CREATED:20250805T144108Z
LAST-MODIFIED:20250805T144108Z
UID:13814-1760193000-1760200200@www.ville-ruellesurtouvre.fr
SUMMARY:Les Z’arteliers – Cocotte en papier et méga pouet pouet
DESCRIPTION:On ravive des souvenirs chez tes parents et on te fait découvrir la “cocotte en papier” : Cette fabuleuse machine\, qui\, dans la cour de récréation\, pouvait prédire l’avenir. On s’attaque ensuite au “MEGA POUET POUET”.
URL:https://www.ville-ruellesurtouvre.fr/evenement/les-zarteliers-cocotte-en-papier-et-mega-pouet-pouet-2/
LOCATION:Médiathèque La Médiaporte
CATEGORIES:Agenda culturel,Agenda jeunesse
ATTACH;FMTTYPE=image/jpeg:https://www.ville-ruellesurtouvre.fr/wp-content/uploads/2024/12/logo_LaVillette_Culture_Ruelle_sur_Touvre2-300x300-1-150x150-1.jpg
END:VEVENT
BEGIN:VEVENT
DTSTART;TZID=Europe/Paris:20251019T150000
DTEND;TZID=Europe/Paris:20251019T163000
DTSTAMP:20260424T113417
CREATED:20250926T125623Z
LAST-MODIFIED:20251009T082534Z
UID:13970-1760886000-1760891400@www.ville-ruellesurtouvre.fr
SUMMARY:ANNULATION : Spectacle LE PETIT PRINCЕ d’Antoine de Saint-Exupéry par la Compagnie des Arceaux.
DESCRIPTION:ANNULATION : \nSpectacle LE PETIT PRINCЕ d’Antoine de Saint-Exupéry par la Compagnie des Arceaux.\nMise en Scène: Martine Ladoire-Tornil \nCe Petit Prince qui devra quitter cette rose pour partir à la découverte du monde; ce Petit Prince dans sa recherche d’amis qui va découvrir la pesanteur absurde de certaines grandes personnes.\nHeureusement il est tour à tour naïf et profond\, joueur et sérieux\, joyeux et malheureux et toujours curieux\, prêt à écouter le secret du Renard : « On ne voit bien qu’avec le cœur; l’essentiel est invisible pour les yeux ». \nDIMANCHE 19 OCTOBRE – 15h\nTHÉÂTRE JEAN FERRAT\n10€ – Au profit de l’UNICEF \nBilletterie / réservations: cie.arceaux@wanadoo.fr\nRenseignements : 06 82 42 38 21
URL:https://www.ville-ruellesurtouvre.fr/evenement/spectacle-le-petit-princ%d0%b5-dantoine-de-saint-exupery-par-la-compagnie-des-arceaux/
CATEGORIES:Agenda associatif,Agenda culturel
ATTACH;FMTTYPE=image/png:https://www.ville-ruellesurtouvre.fr/wp-content/uploads/2025/09/Affiche-750x1140mm-Petit-Prince-ANNULATION_Plan-de-travail-1-01-min.png
END:VEVENT
END:VCALENDAR