BEGIN:VCALENDAR
VERSION:2.0
PRODID:-//Ruelle sur Touvre - ECPv6.15.17//NONSGML v1.0//EN
CALSCALE:GREGORIAN
METHOD:PUBLISH
X-WR-CALNAME:Ruelle sur Touvre
X-ORIGINAL-URL:https://www.ville-ruellesurtouvre.fr
X-WR-CALDESC:Évènements pour Ruelle sur Touvre
REFRESH-INTERVAL;VALUE=DURATION:PT1H
X-Robots-Tag:noindex
X-PUBLISHED-TTL:PT1H
BEGIN:VTIMEZONE
TZID:Europe/Paris
BEGIN:DAYLIGHT
TZOFFSETFROM:+0100
TZOFFSETTO:+0200
TZNAME:CEST
DTSTART:20250330T010000
END:DAYLIGHT
BEGIN:STANDARD
TZOFFSETFROM:+0200
TZOFFSETTO:+0100
TZNAME:CET
DTSTART:20251026T010000
END:STANDARD
BEGIN:DAYLIGHT
TZOFFSETFROM:+0100
TZOFFSETTO:+0200
TZNAME:CEST
DTSTART:20260329T010000
END:DAYLIGHT
BEGIN:STANDARD
TZOFFSETFROM:+0200
TZOFFSETTO:+0100
TZNAME:CET
DTSTART:20261025T010000
END:STANDARD
BEGIN:DAYLIGHT
TZOFFSETFROM:+0100
TZOFFSETTO:+0200
TZNAME:CEST
DTSTART:20270328T010000
END:DAYLIGHT
BEGIN:STANDARD
TZOFFSETFROM:+0200
TZOFFSETTO:+0100
TZNAME:CET
DTSTART:20271031T010000
END:STANDARD
END:VTIMEZONE
BEGIN:VEVENT
DTSTART;TZID=Europe/Paris:20260506T143000
DTEND;TZID=Europe/Paris:20260506T153000
DTSTAMP:20260420T105200
CREATED:20260326T131631Z
LAST-MODIFIED:20260326T131631Z
UID:14532-1778077800-1778081400@www.ville-ruellesurtouvre.fr
SUMMARY:Les Z'arteliers : Sculpteur en herbe !
DESCRIPTION:Lance-toi dans l’aventure des sculpteurs en fil de fer ! Donne vie à des figures élancées\, inspirées par l’univers de Giacometti.\nÀ partir de 5 ans. Gratuit sur inscription : 05 45 65 34 89
URL:https://www.ville-ruellesurtouvre.fr/evenement/les-zarteliers-sculpteur-en-herbe/
LOCATION:Médiathèque La Médiaporte
CATEGORIES:Agenda culturel,Agenda jeunesse
ATTACH;FMTTYPE=image/jpeg:https://www.ville-ruellesurtouvre.fr/wp-content/uploads/2026/03/Zartelier-Giacometti-Sculpteur-en-herbe-scaled.jpg
END:VEVENT
BEGIN:VEVENT
DTSTART;TZID=Europe/Paris:20260513T150000
DTEND;TZID=Europe/Paris:20260513T163000
DTSTAMP:20260420T105200
CREATED:20260326T132232Z
LAST-MODIFIED:20260326T132232Z
UID:14537-1778684400-1778689800@www.ville-ruellesurtouvre.fr
SUMMARY:Spectacle : Ose ! par la Compagnie Théïa
DESCRIPTION:Thalie veut devenir chanteuse mais n’ose pas se lancer. Elle sera aidée par la Fée des chants qui va lui apprendre qu’aucun pouvoir magique ne peut réaliser son rêve.\nLe spectacle « Ose ! » amène le public à explorer et libérer sa voix\, en participant aux jeux vocaux de la bienveillante Fée des chants. Ces « cours de chant » aux allures de parcours initiatique\, aussi hilarants qu’instructifs vont-ils permettre à Thalie (et au public) d’oser franchir le pas ? \nEn création au théâtre du 6 au 13 mai. Écrit et interprété par Dyonne et Charlotte Van Dongen. \nÀ partir de 8 ans. Gratuit. Durée 1h10.
URL:https://www.ville-ruellesurtouvre.fr/evenement/spectacle-ose-par-la-compagnie-theia/
LOCATION:Théâtre Jean Ferrat
CATEGORIES:Agenda culturel
ATTACH;FMTTYPE=image/jpeg:https://www.ville-ruellesurtouvre.fr/wp-content/uploads/2026/03/ProgCultur_avril-juin26_12p_148x210_v57-e1774531322131.jpg
END:VEVENT
BEGIN:VEVENT
DTSTART;VALUE=DATE:20260519
DTEND;VALUE=DATE:20260531
DTSTAMP:20260420T105200
CREATED:20260326T130720Z
LAST-MODIFIED:20260326T130720Z
UID:14524-1779148800-1780185599@www.ville-ruellesurtouvre.fr
SUMMARY:Exposition "Des p'tits trous d'Hector Dexet
DESCRIPTION:Dans le cadre du festival Petites Oreilles en Goguette : le festival des 0-5 ans. \nQu’ils soient ronds ou en forme d’objets\, les petits trous d’Hector Dexet animent ses illustrations au fil des pages\, pour transformer une tortue en igloo ou un bateau en fusée ! Une exposition construite pour les petites mains\, où ses créations ajourées se déploient grâce à un module et des jeux de manipulation en bois. Un espace tout doux en tissu accueille les bambins pour lire\, jouer\, trier et explorer le petit monde d’Hector ! \nGratuit – Aux heures d’ouverture de la médiathèque
URL:https://www.ville-ruellesurtouvre.fr/evenement/exposition-des-ptits-trous-dhector-dexet/
LOCATION:Médiathèque La Médiaporte
CATEGORIES:Agenda culturel,Agenda jeunesse
ATTACH;FMTTYPE=image/jpeg:https://www.ville-ruellesurtouvre.fr/wp-content/uploads/2026/03/POG.jpg
END:VEVENT
BEGIN:VEVENT
DTSTART;TZID=Europe/Paris:20260519T160000
DTEND;TZID=Europe/Paris:20260519T170000
DTSTAMP:20260420T105200
CREATED:20260326T143351Z
LAST-MODIFIED:20260326T143351Z
UID:14582-1779206400-1779210000@www.ville-ruellesurtouvre.fr
SUMMARY:Café lecture
DESCRIPTION:Rencontres et discussions\, amateurs de romans\, de polars\, de BD et autres histoires\, soyez les bienvenus !\nTout public. Gratuit.
URL:https://www.ville-ruellesurtouvre.fr/evenement/cafe-lecture-17/
LOCATION:Médiathèque La Médiaporte
CATEGORIES:Agenda culturel
ATTACH;FMTTYPE=image/jpeg:https://www.ville-ruellesurtouvre.fr/wp-content/uploads/2019/12/café-lecture-petit.jpg
END:VEVENT
BEGIN:VEVENT
DTSTART;TZID=Europe/Paris:20260520T143000
DTEND;TZID=Europe/Paris:20260520T153000
DTSTAMP:20260420T105200
CREATED:20260326T131731Z
LAST-MODIFIED:20260326T131731Z
UID:14535-1779287400-1779291000@www.ville-ruellesurtouvre.fr
SUMMARY:Les Z'arteliers : Sculpteur en herbe !
DESCRIPTION:Lance-toi dans l’aventure des sculpteurs en fil de fer ! Donne vie à des figures élancées\, inspirées par l’univers de Giacometti.\nÀ partir de 5 ans. Gratuit sur inscription : 05 45 65 34 89
URL:https://www.ville-ruellesurtouvre.fr/evenement/les-zarteliers-sculpteur-en-herbe-2/
LOCATION:Médiathèque La Médiaporte
CATEGORIES:Agenda culturel,Agenda jeunesse
ATTACH;FMTTYPE=image/jpeg:https://www.ville-ruellesurtouvre.fr/wp-content/uploads/2026/03/Zartelier-Giacometti-Sculpteur-en-herbe-scaled.jpg
END:VEVENT
BEGIN:VEVENT
DTSTART;TZID=Europe/Paris:20260524T170000
DTEND;TZID=Europe/Paris:20260524T183000
DTSTAMP:20260420T105200
CREATED:20260326T132527Z
LAST-MODIFIED:20260326T132527Z
UID:14540-1779642000-1779647400@www.ville-ruellesurtouvre.fr
SUMMARY:Concert : Arco & Co rencontre Amanda Favier
DESCRIPTION:Organisé par l’École Départementale de Musique. \nL’orchestre à cordes Arco & Co accueille la violoniste de renommée internationale Amanda Favier pour un concert placé sous le signe de la rencontre et du partage.\nSoliste brillante et musicienne curieuse\, Amanda Favier se produit sur les plus grandes scènes européennes et multiplie les collaborations artistiques. Son parcours prestigieux et son approche généreuse de la musique font de cette rencontre un moment unique\, où exigence artistique et plaisir de jouer se rejoignent.\nUn concert vivant et inspirant à l’image d’une artiste passionnée et d’une jeune génération de musiciens engagée et enthousiaste. \nTout public. Gratuit. Durée 1h15. \n 
URL:https://www.ville-ruellesurtouvre.fr/evenement/concert-arco-co-rencontre-amanda-favier/
LOCATION:Théâtre Jean Ferrat
CATEGORIES:Agenda culturel
ATTACH;FMTTYPE=image/jpeg:https://www.ville-ruellesurtouvre.fr/wp-content/uploads/2026/03/Amanda-Favier.jpeg
END:VEVENT
BEGIN:VEVENT
DTSTART;TZID=Europe/Paris:20260526T183000
DTEND;TZID=Europe/Paris:20260526T193000
DTSTAMP:20260420T105200
CREATED:20260326T110935Z
LAST-MODIFIED:20260326T110935Z
UID:14493-1779820200-1779823800@www.ville-ruellesurtouvre.fr
SUMMARY:Atelier d'écriture
DESCRIPTION:L’association En Voix des Mots vous propose un cycle d’ateliers d’écriture ouvert à tous. En Voix des Mots propose depuis bientôt trois ans des ateliers d’écriture\, des stages\, des scènes ouvertes et des concerts poétiques.\nDans le respect de tous\, venez libérer votre créativité et faire entendre votre voix. \nÀ partir de 12 ans. Gratuit – Sur inscription : 05 45 65 34 89
URL:https://www.ville-ruellesurtouvre.fr/evenement/atelier-decriture-2/
LOCATION:Médiathèque La Médiaporte
CATEGORIES:Agenda culturel
ATTACH;FMTTYPE=image/png:https://www.ville-ruellesurtouvre.fr/wp-content/uploads/2026/03/logo_en-voix-des-mots-rond.png
END:VEVENT
BEGIN:VEVENT
DTSTART;TZID=Europe/Paris:20260527T100000
DTEND;TZID=Europe/Paris:20260527T110000
DTSTAMP:20260420T105200
CREATED:20260326T131230Z
LAST-MODIFIED:20260326T131230Z
UID:14527-1779876000-1779879600@www.ville-ruellesurtouvre.fr
SUMMARY:Atelier : Trous trous dis-moi trous !
DESCRIPTION:Viens découvrir l’univers Hector Dexet! Écoute des histoires\, découvre et joue dans son exposition et crée-toi aussi ton petit trou ! \nDans le cadre du festival Petites Oreilles en Goguette : le festival des 0-5ans. \nAtelier pour les 2-5 ans. Gratuit sur inscription : 05 45 65 34 89
URL:https://www.ville-ruellesurtouvre.fr/evenement/atelier-trous-trous-dis-moi-trous/
LOCATION:Médiathèque La Médiaporte
CATEGORIES:Agenda culturel,Agenda jeunesse
ATTACH;FMTTYPE=image/jpeg:https://www.ville-ruellesurtouvre.fr/wp-content/uploads/2026/03/expo-Hector-Dexet.jpg
END:VEVENT
BEGIN:VEVENT
DTSTART;VALUE=DATE:20260529
DTEND;VALUE=DATE:20260601
DTSTAMP:20260420T105200
CREATED:20260326T133235Z
LAST-MODIFIED:20260326T133235Z
UID:14545-1780012800-1780271999@www.ville-ruellesurtouvre.fr
SUMMARY:La Touvre en Fête : 5e édition
DESCRIPTION:Du 29 au 31 mai les communes de Touvre\, Magnac sur Touvre\, Ruelle sur Touvre et Gond-Pontouvre vous invitent à découvrir\, comprendre et jouer avec la Touvre.\n• 4 communes\,\n• 3 jours d’animations et de concerts\nProgramme complet du week-end à venir sur les sites des communes et sur les notre page Facebook 
URL:https://www.ville-ruellesurtouvre.fr/evenement/la-touvre-en-fete-5e-edition/
CATEGORIES:Agenda culturel
ATTACH;FMTTYPE=image/png:https://www.ville-ruellesurtouvre.fr/wp-content/uploads/2025/04/Bandeau-Touvre-en-Fete-e1774531908824.png
END:VEVENT
BEGIN:VEVENT
DTSTART;TZID=Europe/Paris:20260529T200000
DTEND;TZID=Europe/Paris:20260529T213000
DTSTAMP:20260420T105200
CREATED:20260326T132751Z
LAST-MODIFIED:20260326T132751Z
UID:14543-1780084800-1780090200@www.ville-ruellesurtouvre.fr
SUMMARY:Soirée ciné
DESCRIPTION:Choisissez votre film préféré parmi une sélection de 5 bandes annonces\, installez vous confortablement et découvrez le film sélectionné. On en discute juste après !\nEn partenariat avec la bibliothèque numérique de Charente\, Sésame. \nÀ partir de 14 ans. Gratuit sur inscription : 05 45 65 34 89
URL:https://www.ville-ruellesurtouvre.fr/evenement/soiree-cine-8/
LOCATION:Médiathèque La Médiaporte
CATEGORIES:Agenda culturel
ATTACH;FMTTYPE=image/jpeg:https://www.ville-ruellesurtouvre.fr/wp-content/uploads/2024/08/vista-de-3d-xicara-de-pipoca-com-assento-de-cinema_23-2150866179.jpg
END:VEVENT
BEGIN:VEVENT
DTSTART;TZID=Europe/Paris:20260530T100000
DTEND;TZID=Europe/Paris:20260530T110000
DTSTAMP:20260420T105200
CREATED:20260326T131327Z
LAST-MODIFIED:20260326T131414Z
UID:14530-1780135200-1780138800@www.ville-ruellesurtouvre.fr
SUMMARY:Atelier : Trous trous dis-moi trous !
DESCRIPTION:Viens découvrir l’univers Hector Dexet! Écoute des histoires\, découvre et joue dans son exposition et crée-toi aussi ton petit trou ! \nDans le cadre du festival Petites Oreilles en Goguette : le festival des 0-5ans. \nAtelier pour les 2-5 ans. Gratuit sur inscription : 05 45 65 34 89
URL:https://www.ville-ruellesurtouvre.fr/evenement/atelier-trous-trous-dis-moi-trous-2/
CATEGORIES:Agenda culturel,Agenda jeunesse
ATTACH;FMTTYPE=image/jpeg:https://www.ville-ruellesurtouvre.fr/wp-content/uploads/2026/03/expo-Hector-Dexet.jpg
END:VEVENT
END:VCALENDAR