BEGIN:VCALENDAR
VERSION:2.0
PRODID:-//Ruelle sur Touvre - ECPv6.15.17//NONSGML v1.0//EN
CALSCALE:GREGORIAN
METHOD:PUBLISH
X-ORIGINAL-URL:https://www.ville-ruellesurtouvre.fr
X-WR-CALDESC:Évènements pour Ruelle sur Touvre
REFRESH-INTERVAL;VALUE=DURATION:PT1H
X-Robots-Tag:noindex
X-PUBLISHED-TTL:PT1H
BEGIN:VTIMEZONE
TZID:Europe/Paris
BEGIN:DAYLIGHT
TZOFFSETFROM:+0100
TZOFFSETTO:+0200
TZNAME:CEST
DTSTART:20230326T010000
END:DAYLIGHT
BEGIN:STANDARD
TZOFFSETFROM:+0200
TZOFFSETTO:+0100
TZNAME:CET
DTSTART:20231029T010000
END:STANDARD
BEGIN:DAYLIGHT
TZOFFSETFROM:+0100
TZOFFSETTO:+0200
TZNAME:CEST
DTSTART:20240331T010000
END:DAYLIGHT
BEGIN:STANDARD
TZOFFSETFROM:+0200
TZOFFSETTO:+0100
TZNAME:CET
DTSTART:20241027T010000
END:STANDARD
BEGIN:DAYLIGHT
TZOFFSETFROM:+0100
TZOFFSETTO:+0200
TZNAME:CEST
DTSTART:20250330T010000
END:DAYLIGHT
BEGIN:STANDARD
TZOFFSETFROM:+0200
TZOFFSETTO:+0100
TZNAME:CET
DTSTART:20251026T010000
END:STANDARD
END:VTIMEZONE
BEGIN:VEVENT
DTSTART;TZID=Europe/Paris:20240621T100000
DTEND;TZID=Europe/Paris:20240621T120000
DTSTAMP:20260422T075146
CREATED:20240304T125605Z
LAST-MODIFIED:20240304T125843Z
UID:11778-1718964000-1718971200@www.ville-ruellesurtouvre.fr
SUMMARY:Conférence "En aparté" : Culture(s) en partage
DESCRIPTION:Présentes au quotidien\, porteuses de symboles et de souvenirs\, nos traditions culinaires ont le don de nous ressembler… \nMais aussi de nous rassembler ! Route des épices\, fêtes traditionnelles et pièces de vaisselle somptueuses\, découvrez d’étonnants points communs entre cultures juive et arabe. \nGRATUIT – Tout public \n \n 
URL:https://www.ville-ruellesurtouvre.fr/evenement/conference-en-aparte-cultures-en-partage/
LOCATION:Médiathèque La Médiaporte
CATEGORIES:Agenda culturel
END:VEVENT
BEGIN:VEVENT
DTSTART;TZID=Europe/Paris:20240619T143000
DTEND;TZID=Europe/Paris:20240619T163000
DTSTAMP:20260422T075146
CREATED:20240304T125335Z
LAST-MODIFIED:20240304T125335Z
UID:11776-1718807400-1718814600@www.ville-ruellesurtouvre.fr
SUMMARY:L'atelier qui donne grave la banane
DESCRIPTION:Avec Geoffrey Grimal\, découvrez la gravure sur banane ! Une fois dessinée à la pointe sèche\, elle s’oxyde et noircit. Pour immortaliser l’image qui disparaîtra une fois la banane mangée\, un studio photo sera prévu et les participants recevront leur souvenir. Une fois la banane gravée et épluchée\, une recette de banana bread à partager peut ensuite commencer !  \nEn partenariat avec la Médiathèque Départementale de la Charente. \nGRATUIT – A partir de 7 ans sur inscription 05 45 65 34 89
URL:https://www.ville-ruellesurtouvre.fr/evenement/latelier-qui-donne-grave-la-banane/
LOCATION:Médiathèque La Médiaporte
CATEGORIES:Agenda culturel,Agenda jeunesse
END:VEVENT
BEGIN:VEVENT
DTSTART;VALUE=DATE:20240615
DTEND;VALUE=DATE:20240617
DTSTAMP:20260422T075146
CREATED:20240219T105123Z
LAST-MODIFIED:20240219T105132Z
UID:11604-1718409600-1718582399@www.ville-ruellesurtouvre.fr
SUMMARY:Exposition photographique
DESCRIPTION:
URL:https://www.ville-ruellesurtouvre.fr/evenement/exposition-photographique/
LOCATION:Salon Jean Ferrat
CATEGORIES:Agenda associatif,Agenda culturel
ATTACH;FMTTYPE=image/jpeg:https://www.ville-ruellesurtouvre.fr/wp-content/uploads/2024/02/affiche-full-scaled.jpg
END:VEVENT
BEGIN:VEVENT
DTSTART;TZID=Europe/Paris:20240614T180000
DTEND;TZID=Europe/Paris:20240614T200000
DTSTAMP:20260422T075146
CREATED:20240304T130437Z
LAST-MODIFIED:20240304T130437Z
UID:11792-1718388000-1718395200@www.ville-ruellesurtouvre.fr
SUMMARY:Apéro du monde : voyage en Afrique
DESCRIPTION:Lilanimo : spectacle du conteur Ladji Diallo. \nPromenons-nous sur les eaux vers les îles aux animaux. Picoti Picota\, une souris par là. Picota Picoti\, une poule par ici. Roule boule dans la boue avec Papou le phacochère. Pas à pas dans les pas des éléphants à la rivière.\nSpectacle suivi d’une dégustation de spécialités africaines. \nEn partenariat avec la Médiathèque Départementale de la Charente. \nGRATUIT – A partir de 3 ans sur inscription 05 45 65 34 89
URL:https://www.ville-ruellesurtouvre.fr/evenement/apero-du-monde-voyage-en-afrique/
LOCATION:Médiathèque La Médiaporte
CATEGORIES:Agenda culturel,Agenda festif
END:VEVENT
BEGIN:VEVENT
DTSTART;VALUE=DATE:20240612
DTEND;VALUE=DATE:20240713
DTSTAMP:20260422T075146
CREATED:20240304T104545Z
LAST-MODIFIED:20240304T104545Z
UID:11749-1718150400-1720828799@www.ville-ruellesurtouvre.fr
SUMMARY:Exposition "Les pupilles gustatives\, de l'image à l'assiette"
DESCRIPTION:Fichtre Diantre est une boutique d’images et une agence d’artistes\, à Angoulême. \nIls ont concocté une exposition qui va vous mettre l’eau à la bouche ! 12 mois\, 12 recettes et 12 artistes !\nUne exposition colorée\, ludique et en volume à déguster sans modération. \nEn partenariat avec la Médiathèque Départementale de la Charente. \nGRATUIT – Aux heures d’ouverture de la médiathèque
URL:https://www.ville-ruellesurtouvre.fr/evenement/exposition-les-pupilles-gustatives-de-limage-a-lassiette/
LOCATION:Médiathèque La Médiaporte
CATEGORIES:Agenda culturel
END:VEVENT
BEGIN:VEVENT
DTSTART;TZID=Europe/Paris:20240611T160000
DTEND;TZID=Europe/Paris:20240611T173000
DTSTAMP:20260422T075146
CREATED:20240305T102530Z
LAST-MODIFIED:20240305T102530Z
UID:11826-1718121600-1718127000@www.ville-ruellesurtouvre.fr
SUMMARY:Café Lecture
DESCRIPTION:Rencontres et discussions\, amateurs de romans\, de polars\, de BD et autres histoires\, soyez les bienvenus !  \nTout public – gratuit
URL:https://www.ville-ruellesurtouvre.fr/evenement/cafe-lecture-10/
LOCATION:Médiathèque La Médiaporte
CATEGORIES:Agenda culturel
ATTACH;FMTTYPE=image/jpeg:https://www.ville-ruellesurtouvre.fr/wp-content/uploads/2024/03/IMG_0623-scaled.jpg
END:VEVENT
BEGIN:VEVENT
DTSTART;TZID=Europe/Paris:20240608T143000
DTEND;TZID=Europe/Paris:20240608T163000
DTSTAMP:20260422T075146
CREATED:20240304T125109Z
LAST-MODIFIED:20240304T125134Z
UID:11772-1717857000-1717864200@www.ville-ruellesurtouvre.fr
SUMMARY:Les Z'arteliers - Toutenbrik
DESCRIPTION:Atelier « Toutenbrik » Viens rêver ton architecture idéale ! En compagnie de Nathanaëlle Gervais\, médiatrice au Pays d’Art et d’Histoire de GrandAngoulême\, voyage en Grèce antique pour découvrir Athènes\, son Acropole et ses secrets d’architecture qui ont inspiré certains bâtiments d’Angoulême. \nLance-toi ensuite dans la construction de monuments à l’aide des célèbres briques LEGO®. \nGRATUIT – A partir de 5 ans sur inscription 05 45 65 34 89
URL:https://www.ville-ruellesurtouvre.fr/evenement/les-zarteliers-toutenbrik-2/
LOCATION:Médiathèque La Médiaporte
CATEGORIES:Agenda culturel,Agenda jeunesse
END:VEVENT
BEGIN:VEVENT
DTSTART;TZID=Europe/Paris:20240608T103000
DTEND;TZID=Europe/Paris:20240608T113000
DTSTAMP:20260422T075146
CREATED:20240304T155357Z
LAST-MODIFIED:20240304T155357Z
UID:11819-1717842600-1717846200@www.ville-ruellesurtouvre.fr
SUMMARY:Les Z'écoutilles
DESCRIPTION:Padoudim\, padoudam…\nEmbarquez vos p’tites z’oreilles et vos p’tits z’yeux pour 30 minutes de comptines et d’histoires.\n1\, 2\, 3 c’est le départ ! \nPour les 0-5 ans et leurs parents – gratuit
URL:https://www.ville-ruellesurtouvre.fr/evenement/les-zecoutilles-14/
LOCATION:Médiathèque La Médiaporte
CATEGORIES:Agenda culturel,Agenda jeunesse
ATTACH;FMTTYPE=image/jpeg:https://www.ville-ruellesurtouvre.fr/wp-content/uploads/2024/03/IMG_0623-scaled.jpg
END:VEVENT
BEGIN:VEVENT
DTSTART;TZID=Europe/Paris:20240607T180000
DTEND;TZID=Europe/Paris:20240607T200000
DTSTAMP:20260422T075146
CREATED:20240304T130022Z
LAST-MODIFIED:20240304T130022Z
UID:11783-1717783200-1717790400@www.ville-ruellesurtouvre.fr
SUMMARY:Apéro du monde : voyage en Asie
DESCRIPTION:Atelier pour fabriquer des makis\, ce délice japonais. Vous pourrez ensuite déguster tout en écoutant des contes du pays du soleil levant. \nGRATUIT – Tout public sur inscription 05 45 65 34 89
URL:https://www.ville-ruellesurtouvre.fr/evenement/apero-du-monde-voyage-en-asie/
LOCATION:Médiathèque La Médiaporte
CATEGORIES:Agenda culturel,Agenda festif
END:VEVENT
BEGIN:VEVENT
DTSTART;TZID=Europe/Paris:20240605T143000
DTEND;TZID=Europe/Paris:20240605T163000
DTSTAMP:20260422T075146
CREATED:20240304T125016Z
LAST-MODIFIED:20240304T125206Z
UID:11770-1717597800-1717605000@www.ville-ruellesurtouvre.fr
SUMMARY:Les Z'arteliers - Toutenbrik
DESCRIPTION:Atelier « Toutenbrik » Viens rêver ton architecture idéale ! En compagnie de Nathanaëlle Gervais\, médiatrice au Pays d’Art et d’Histoire de GrandAngoulême\, voyage en Grèce antique pour découvrir Athènes\, son Acropole et ses secrets d’architecture qui ont inspiré certains bâtiments d’Angoulême. \nLance-toi ensuite dans la construction de monuments à l’aide des célèbres briques LEGO®. \nGRATUIT – A partir de 5 ans sur inscription 05 45 65 34 89
URL:https://www.ville-ruellesurtouvre.fr/evenement/les-zarteliers-toutenbrik/
LOCATION:Médiathèque La Médiaporte
CATEGORIES:Agenda culturel,Agenda jeunesse
END:VEVENT
BEGIN:VEVENT
DTSTART;TZID=Europe/Paris:20240601T200000
DTEND;TZID=Europe/Paris:20240601T220000
DTSTAMP:20260422T075146
CREATED:20240304T110423Z
LAST-MODIFIED:20240304T110423Z
UID:11763-1717272000-1717279200@www.ville-ruellesurtouvre.fr
SUMMARY:Concert Animé
DESCRIPTION:Inspiré de l’essai Coca Life Martin 33cl de Gwendoline Soublin. Proposé par les élèves du Conservatoire et l’Ecole d’Art de Grand Angoulême  \nRésumé du livre : Depuis sa naissance dans une usine du Nord de la France à Bierne jusqu’à ses déboires au métro Châtelet-Les Halles\, c’est l’histoire d’une odyssée pacifique qui se raconte là.\nOu comment le long périple existentiel d’une canette en plein océan la mène à se familiariser avec force rebuts\, hommes et baleines\, au rythme d’une chanson de Sia. \nLes élèves évoqueront le thème du voyage à travers la danse\, le cinéma d’animation\, la musique\, l’électroacoustique\, et le théâtre. \nGRATUIT – A partir de 6 ans
URL:https://www.ville-ruellesurtouvre.fr/evenement/concert-anime/
LOCATION:Théâtre Jean Ferrat
CATEGORIES:Agenda culturel,Agenda jeunesse
END:VEVENT
BEGIN:VEVENT
DTSTART;VALUE=DATE:20240531
DTEND;VALUE=DATE:20240603
DTSTAMP:20260422T075146
CREATED:20240304T105927Z
LAST-MODIFIED:20240516T134015Z
UID:11756-1717113600-1717372799@www.ville-ruellesurtouvre.fr
SUMMARY:La Touvre en Fête
DESCRIPTION:LA TOUVRE EN FÊTE À RUELLE : \nDimanche 2 juin – A partir de 14h30\nPlace et Parc Montalembert\n\nPADDLE GÉANT : Challenge et baptême sur la Touvre (prévoir de quoi aller dans l’eau maillot\, tee shirt…)\nLES VÉLOS RIGOLOS : Animation insolite avec des vélos uniques en France conçus et fabriqués par Yoyo le Clown. Découvrez le vélo «chewing gum»\, le «shadock»\, le «harley davidson» et bien d’autres encore !\nMARCHÉ ARTISANAL dans le parc Montalembert\nEXPO + ANIMATIONS autour de l’environnement de la Touvre\nPERFORMANCE ARTISTIQUE par des artistes qui peindront la Touvre en direct\nATELIERS pour les enfants : maquillage et création de badges\nMUSIQUE avec l’association Sang Mêlé : percussions et danse africaine\nBUVETTE et FOOD TRUCK tout l’après-midi\n\nPROGRAMME COMPLET :
URL:https://www.ville-ruellesurtouvre.fr/evenement/la-touvre-en-fete-2/
CATEGORIES:Agenda culturel,Agenda festif
ATTACH;FMTTYPE=image/jpeg:https://www.ville-ruellesurtouvre.fr/wp-content/uploads/2024/05/affiche-A3_compressed-1_page-0001.jpg
END:VEVENT
BEGIN:VEVENT
DTSTART;TZID=Europe/Paris:20240522T143000
DTEND;TZID=Europe/Paris:20240522T163000
DTSTAMP:20260422T075146
CREATED:20240304T100845Z
LAST-MODIFIED:20240304T100845Z
UID:11737-1716388200-1716395400@www.ville-ruellesurtouvre.fr
SUMMARY:Les Z'arteliers - Portrait Pop
DESCRIPTION:Voyage au pays des couleurs flashy à la rencontre d’Andy Warhol roi du Pop Art.\nInitie-toi ensuite\, de manière facile et ludique\, à la reproduction en série de photos\, comme le faisait le maître de la Factory. \nGRATUIT – A partir de 5 ans sur inscription : 05 45 65 34 89
URL:https://www.ville-ruellesurtouvre.fr/evenement/les-zarteliers-portrait-pop-2/
LOCATION:Médiathèque La Médiaporte
CATEGORIES:Agenda culturel,Agenda jeunesse
ATTACH;FMTTYPE=image/jpeg:https://www.ville-ruellesurtouvre.fr/wp-content/uploads/2024/02/logo_LaVillette_Culture_Ruelle_sur_Touvre2-300x300-1.jpg
END:VEVENT
BEGIN:VEVENT
DTSTART;VALUE=DATE:20240521
DTEND;VALUE=DATE:20240703
DTSTAMP:20260422T075146
CREATED:20240304T101314Z
LAST-MODIFIED:20240304T101314Z
UID:11741-1716249600-1719964799@www.ville-ruellesurtouvre.fr
SUMMARY:Ateliers numériques
DESCRIPTION:Du 21 mai au 02 juillet – Tous les mardis de 14h à 15h30 \nCycles de 7 séances niveau débutant  \nUn atelier pour découvrir les bases de l’informatique. Venez vous initier à la prise en main d’un ordinateur. \nEn partenariat avec la Médiathèque Départementale de la Charente. \nGRATUIT – Sur inscription 05 45 65 34 89
URL:https://www.ville-ruellesurtouvre.fr/evenement/ateliers-numeriques/
LOCATION:Médiathèque La Médiaporte
CATEGORIES:Agenda culturel
END:VEVENT
BEGIN:VEVENT
DTSTART;TZID=Europe/Paris:20240518T143000
DTEND;TZID=Europe/Paris:20240518T163000
DTSTAMP:20260422T075146
CREATED:20240304T100710Z
LAST-MODIFIED:20240304T100710Z
UID:11735-1716042600-1716049800@www.ville-ruellesurtouvre.fr
SUMMARY:Les Z'arteliers - Portrait pop
DESCRIPTION:Voyage au pays des couleurs flashy à la rencontre d’Andy Warhol roi du Pop Art.\nInitie-toi ensuite\, de manière facile et ludique\, à la reproduction en série de photos\, comme le faisait le maître de la Factory. \nGRATUIT – A partir de 5 ans sur inscription : 05 45 65 34 89
URL:https://www.ville-ruellesurtouvre.fr/evenement/les-zarteliers-portrait-pop/
LOCATION:Médiathèque La Médiaporte
CATEGORIES:Agenda culturel
ATTACH;FMTTYPE=image/jpeg:https://www.ville-ruellesurtouvre.fr/wp-content/uploads/2024/02/logo_LaVillette_Culture_Ruelle_sur_Touvre2-300x300-1.jpg
END:VEVENT
BEGIN:VEVENT
DTSTART;TZID=Europe/Paris:20240517T203000
DTEND;TZID=Europe/Paris:20240517T233000
DTSTAMP:20260422T075146
CREATED:20240304T103653Z
LAST-MODIFIED:20240412T135921Z
UID:11744-1715977800-1715988600@www.ville-ruellesurtouvre.fr
SUMMARY:SOIRÉ CINÉ - GREASE
DESCRIPTION:« YOU’RE THE ONE THAT I WANT ! » \nAvis aux fans de John Travolta et Olivia Newton-John la plus Rock’n’Roll des comédies musicales débarque à Ruelle !\nLaissez-vous griser par l’univers de Grease et les amours de Dany et Sandy. Plongez dans la peau de vos personnages préférés le temps d’une folle soirée au théâtre.\nOn rembobine les scènes mythiques\, sortez vos perfectos et enfilez votre plus belle tenue 50’s pour rejoindre la bande des T-Birds.\nDès 20h30\, les lumières du cinéma se tamisent et font place au film. \nA la fin de la projection dans une ambiance électrique restez avec nous pour un cours d’initiation au rock par Salina Barreaux – Professeur de danse de l’école 16 Danse. \nSoirée gratuite\, cours sur inscription : 05 45 65 89 37 \n \n 
URL:https://www.ville-ruellesurtouvre.fr/evenement/soire-cine-grease/
LOCATION:Théâtre Jean Ferrat
CATEGORIES:Agenda culturel
ATTACH;FMTTYPE=image/png:https://www.ville-ruellesurtouvre.fr/wp-content/uploads/2024/04/Affiche-Grease.png
END:VEVENT
BEGIN:VEVENT
DTSTART;TZID=Europe/Paris:20240515T143000
DTEND;TZID=Europe/Paris:20240515T163000
DTSTAMP:20260422T075146
CREATED:20240304T101017Z
LAST-MODIFIED:20240304T101017Z
UID:11739-1715783400-1715790600@www.ville-ruellesurtouvre.fr
SUMMARY:A tatons...
DESCRIPTION:Une immersion au cœur de l’exposition Petit musée blanc. Tous tes sens sont en éveil pour une plongée dans l’univers de l’autrice Pénélope. Visite\, écoute et crée ! \nGRATUIT – A partir de 5 ans sur inscription : 05 45 65 34 89
URL:https://www.ville-ruellesurtouvre.fr/evenement/a-tatons/
LOCATION:Médiathèque La Médiaporte
CATEGORIES:Agenda culturel,Agenda jeunesse
END:VEVENT
BEGIN:VEVENT
DTSTART;TZID=Europe/Paris:20240514T160000
DTEND;TZID=Europe/Paris:20240514T173000
DTSTAMP:20260422T075146
CREATED:20240304T155610Z
LAST-MODIFIED:20240304T155610Z
UID:11823-1715702400-1715707800@www.ville-ruellesurtouvre.fr
SUMMARY:Café lecture
DESCRIPTION:Rencontres et discussions\, amateurs de romans\, de polars\, de BD et autres histoires\, soyez les bienvenus ! \nTout public – gratuit
URL:https://www.ville-ruellesurtouvre.fr/evenement/cafe-lecture-9/
LOCATION:Médiathèque La Médiaporte
CATEGORIES:Agenda culturel
ATTACH;FMTTYPE=image/jpeg:https://www.ville-ruellesurtouvre.fr/wp-content/uploads/2024/03/IMG_0623-scaled.jpg
END:VEVENT
BEGIN:VEVENT
DTSTART;TZID=Europe/Paris:20240504T203000
DTEND;TZID=Europe/Paris:20240504T220000
DTSTAMP:20260422T075146
CREATED:20240301T151908Z
LAST-MODIFIED:20240412T135325Z
UID:11728-1714854600-1714860000@www.ville-ruellesurtouvre.fr
SUMMARY:Soirée théâtre "Associations de malfaiteurs" par le FJEP
DESCRIPTION:La troupe de théâtre « La pièce montée des Riffauds » du Foyer des Jeunes et de l’Éducation Populaire revient avec « Associations de malfaiteurs » d’après la comédie de Jérôme LECHAIR. \nUn duo en prise de grosses difficultés financières décide de braquer une banque et fait une incursion dans la banque Eden. Désirant à tout prix se faire remettre la caisse.\nMalencontreusement pour elles\, elles vont se heurter à des arrivistes (une politicienne ambitieuse et une journaliste revancharde) qui vont essayer à tout prix de profiter de la situation. \nGRATUIT – Tout public \n 
URL:https://www.ville-ruellesurtouvre.fr/evenement/soiree-theatre-associations-de-malfaiteurs-par-le-fjep/
LOCATION:Théâtre Jean Ferrat
CATEGORIES:Agenda associatif,Agenda culturel
ATTACH;FMTTYPE=image/jpeg:https://www.ville-ruellesurtouvre.fr/wp-content/uploads/2024/04/Affiche_association-de-malfaiteurs_page-0001-scaled.jpg
END:VEVENT
BEGIN:VEVENT
DTSTART;TZID=Europe/Paris:20240504T143000
DTEND;TZID=Europe/Paris:20240504T163000
DTSTAMP:20260422T075146
CREATED:20240304T091015Z
LAST-MODIFIED:20240304T091015Z
UID:11732-1714833000-1714840200@www.ville-ruellesurtouvre.fr
SUMMARY:Rencontre avec l'association Valentin Haüy
DESCRIPTION:Acteur historique de l’aide aux personnes déficientes visuelles\, l’association Valentin Haüy vient vous faire découvrir le braille et vous propose une initiation à la lecture adaptée. \nGRATUIT – A partir de 7 ans sur inscription : 05 45 65 34 89
URL:https://www.ville-ruellesurtouvre.fr/evenement/rencontre-avec-lassociation-valentin-hauy/
LOCATION:Médiathèque La Médiaporte
CATEGORIES:Agenda associatif,Agenda culturel
END:VEVENT
BEGIN:VEVENT
DTSTART;TZID=Europe/Paris:20240504T103000
DTEND;TZID=Europe/Paris:20240504T113000
DTSTAMP:20260422T075146
CREATED:20240304T155255Z
LAST-MODIFIED:20240304T155255Z
UID:11817-1714818600-1714822200@www.ville-ruellesurtouvre.fr
SUMMARY:Les Z'écoutilles
DESCRIPTION:Padoudim\, padoudam…\nEmbarquez vos p’tites z’oreilles et vos p’tits z’yeux pour 30 minutes de comptines et d’histoires.\n1\, 2\, 3 c’est le départ ! \nPour les 0-5 ans et leurs parents – gratuit
URL:https://www.ville-ruellesurtouvre.fr/evenement/les-zecoutilles-13/
LOCATION:Médiathèque La Médiaporte
CATEGORIES:Agenda culturel,Agenda jeunesse
ATTACH;FMTTYPE=image/jpeg:https://www.ville-ruellesurtouvre.fr/wp-content/uploads/2024/03/IMG_0623-scaled.jpg
END:VEVENT
BEGIN:VEVENT
DTSTART;TZID=Europe/Paris:20240430T180000
DTEND;TZID=Europe/Paris:20240430T200000
DTSTAMP:20260422T075146
CREATED:20240301T142722Z
LAST-MODIFIED:20240301T142722Z
UID:11700-1714500000-1714507200@www.ville-ruellesurtouvre.fr
SUMMARY:La bibliothèque se raconte !
DESCRIPTION:Venez découvrir\, autour d’un apéro\, le podcast réalisé à l’occasion des 120 ans de la bibliothèque à Ruelle. \nL’occasion d’échanger avec ceux qui nous ont raconté cette belle aventure. \nGRATUIT – TOUT PUBLIC
URL:https://www.ville-ruellesurtouvre.fr/evenement/la-bibliotheque-se-raconte/
LOCATION:Médiathèque La Médiaporte
CATEGORIES:Agenda culturel
ATTACH;FMTTYPE=image/jpeg:https://www.ville-ruellesurtouvre.fr/wp-content/uploads/2024/03/IMG_0623-scaled.jpg
END:VEVENT
BEGIN:VEVENT
DTSTART;VALUE=DATE:20240430
DTEND;VALUE=DATE:20240519
DTSTAMP:20260422T075146
CREATED:20240301T151252Z
LAST-MODIFIED:20240301T151252Z
UID:11725-1714435200-1716076799@www.ville-ruellesurtouvre.fr
SUMMARY:Exposition "Petit musée Blanc de Pénélope"
DESCRIPTION:Dans le cadre du festival Petites Oreilles en Goguette. \nLes éditions des Grandes Personnes ont collaboré avec l’illustratrice Pénélope et l’Institut national des jeunes aveugles : de leur association découle le livre La nature au bout des doigts. \nIl s’agit là d’une promenade tactile\, un chemin poétique exacerbé par le blanc\, un voyage avec les doigts dans la nature ponctué par les différentes saisons. \nSpécifiquement fabriqué comme « un pont entre les aveugles et les voyants »\, nous explique l’illustratrice. \nGRATUIT – Aux heures d’ouverture de la médiathèque \n 
URL:https://www.ville-ruellesurtouvre.fr/evenement/exposition-petit-musee-blanc-de-penelope/
LOCATION:Médiathèque La Médiaporte
CATEGORIES:Agenda culturel,Agenda jeunesse
ATTACH;FMTTYPE=image/png:https://www.ville-ruellesurtouvre.fr/wp-content/uploads/2024/03/21403133-diaporama.png
END:VEVENT
BEGIN:VEVENT
DTSTART;TZID=Europe/Paris:20240424T143000
DTEND;TZID=Europe/Paris:20240424T163000
DTSTAMP:20260422T075146
CREATED:20240301T150642Z
LAST-MODIFIED:20240301T150642Z
UID:11721-1713969000-1713976200@www.ville-ruellesurtouvre.fr
SUMMARY:Mon P'tit ciné
DESCRIPTION:Petit moment cinéma suivi d’un atelier. C’est l’occasion pour les enfants d’emmener leurs parents au cinéma !\nEn partenariat avec la bibliothèque numérique de Charente\, Sésame. \nGRATUIT – A partir de 5 ans sur inscription : 05.45.65.34.89
URL:https://www.ville-ruellesurtouvre.fr/evenement/mon-ptit-cine-2/
LOCATION:Médiathèque La Médiaporte
CATEGORIES:Agenda culturel,Agenda jeunesse
END:VEVENT
BEGIN:VEVENT
DTSTART;TZID=Europe/Paris:20240423T143000
DTEND;TZID=Europe/Paris:20240423T163000
DTSTAMP:20260422T075146
CREATED:20240301T150459Z
LAST-MODIFIED:20240301T150711Z
UID:11719-1713882600-1713889800@www.ville-ruellesurtouvre.fr
SUMMARY:Culture Games
DESCRIPTION:Retour vers le passé avec une sélection rétro\, de jeux de sociétés et de jeux vidéo\, pour découvrir à quoi jouaient tes parents quand ils avaient ton âge. \nGRATUIT – A partir de 10 ans sur inscription : 05.45.65.34.89
URL:https://www.ville-ruellesurtouvre.fr/evenement/culture-games-4/
LOCATION:Médiathèque La Médiaporte
CATEGORIES:Agenda culturel,Agenda jeunesse
ATTACH;FMTTYPE=image/jpeg:https://www.ville-ruellesurtouvre.fr/wp-content/uploads/2024/03/IMG_0623-scaled.jpg
END:VEVENT
BEGIN:VEVENT
DTSTART;TZID=Europe/Paris:20240419T100000
DTEND;TZID=Europe/Paris:20240419T180000
DTSTAMP:20260422T075146
CREATED:20240301T150200Z
LAST-MODIFIED:20240301T150200Z
UID:11717-1713520800-1713549600@www.ville-ruellesurtouvre.fr
SUMMARY:Jeu m'amuse !
DESCRIPTION:Jeux de société et jeux vidéo\, pour s’amuser et se défier. Venez jouer tout au long de la journée.\nEn partenariat avec le Dé Calé. \nGRATUIT – A partir de 5 ans 
URL:https://www.ville-ruellesurtouvre.fr/evenement/jeu-mamuse-4/
LOCATION:Médiathèque La Médiaporte
CATEGORIES:Agenda culturel,Agenda jeunesse
ATTACH;FMTTYPE=image/jpeg:https://www.ville-ruellesurtouvre.fr/wp-content/uploads/2024/03/IMG_0623-scaled.jpg
END:VEVENT
BEGIN:VEVENT
DTSTART;TZID=Europe/Paris:20240413T140000
DTEND;TZID=Europe/Paris:20240413T160000
DTSTAMP:20260422T075146
CREATED:20240301T143527Z
LAST-MODIFIED:20240301T143527Z
UID:11708-1713016800-1713024000@www.ville-ruellesurtouvre.fr
SUMMARY:Micro pour tous - Croquez Ruelle !
DESCRIPTION:Découvrez le plaisir de croquer le monde autour de soi en se baladant à Ruelle.\nBalade en compagnie de la carnettiste Véronique Starnawski qui vous initiera à l’art du carnet de voyage. \nEn partenariat avec l’association AHVEC. \nGRATUIT – A partir de 12 ans sur inscription : 05.45.65.34.89
URL:https://www.ville-ruellesurtouvre.fr/evenement/micro-pour-tous-croquez-ruelle/
LOCATION:Médiathèque La Médiaporte
CATEGORIES:Agenda associatif,Agenda culturel
ATTACH;FMTTYPE=image/jpeg:https://www.ville-ruellesurtouvre.fr/wp-content/uploads/2024/02/logo_LaVillette_Culture_Ruelle_sur_Touvre2-300x300-1.jpg
END:VEVENT
BEGIN:VEVENT
DTSTART;TZID=Europe/Paris:20240412T203000
DTEND;TZID=Europe/Paris:20240412T223000
DTSTAMP:20260422T075146
CREATED:20240301T145424Z
LAST-MODIFIED:20240301T145617Z
UID:11710-1712953800-1712961000@www.ville-ruellesurtouvre.fr
SUMMARY:Spectacle comédie « Je vis avec Freddie Mercury »
DESCRIPTION:Cet OVNI musical est un spectacle comme vous n’en avez jamais vu. Un véritable théâtro-concert\, d’un style inclassable\, telle la musique de Queen.\nBANDE ANNONCE ICI !\n\nPour revivre Wembley dans la tête de Jean-François\, Jean-François a un don : il est le sosie de Freddie Mercury… En tout cas\, c’est ce qu’il pense !\nDe son enfance difficile à sa vie d’adulte compliquée\, Jean-François ne nous cache rien…\nDrôle\, souvent musical et parfois émouvant\, ce personnage simple va nous balader dans les recoins de son imagination transformant le moindre souvenir en chanson de Queen.\nChaque année est un album\, chaque mois une chanson\, chaque semaine un refrain\, chaque jour : un don de Queen !\nSi Dieu sauve la reine\, Queen sauve Jean-François !\nDe l’humour\, de l’émotion\, du chant\, du piano\, des lumières exceptionnelles\, une écriture juste et touchante\, un jeu de comédien au sommet de son art\, tout est présent dans ce spectacle pour vivre un moment inoubliable.\nUn véritable succès où le public\, conquis\, se lève chaque soir.\n \nSpectacle de et avec Thierry MARGOT auteur de plus de 20 spectacles dont « l’Attachiante »\, « Mariage à vendre »\, comédien dans une 100aine de pièces « le Dîner de cons »\, « Dix petits nègres » « Douze hommes en colère ».\n \nAchat ticket en ligne : billetreduc.com/\nEspace billetterie spectacle Carrefour et Leclerc\nAdulte : 18\,50€ \n-10 ans : GRATUIT
URL:https://www.ville-ruellesurtouvre.fr/evenement/spectacle-comedie-je-vis-avec-freddie-mercury/
LOCATION:Théâtre Jean Ferrat
CATEGORIES:Agenda culturel
ATTACH;FMTTYPE=image/jpeg:https://www.ville-ruellesurtouvre.fr/wp-content/uploads/2024/03/Affiche-Freddie-avec-bandeau-vierge-profil-couleur-CMJN-scaled-e1709635671877.jpg
END:VEVENT
BEGIN:VEVENT
DTSTART;TZID=Europe/Paris:20240410T143000
DTEND;TZID=Europe/Paris:20240410T163000
DTSTAMP:20260422T075146
CREATED:20240301T143222Z
LAST-MODIFIED:20240301T143222Z
UID:11706-1712759400-1712766600@www.ville-ruellesurtouvre.fr
SUMMARY:Les Z'arteliers - Carnets de voyage
DESCRIPTION:Fabrique ton propre carnet de voyage entre rêves et souvenirs\, rencontres et partage.\nDécouvre ensuite quelques techniques qui te permettront de croquer tes plus belles aventures de vacances. En partenariat avec l’association AHVEC. \nGRATUIT – A partir de 5 ans sur inscription : 05.45.65.34.89
URL:https://www.ville-ruellesurtouvre.fr/evenement/les-zarteliers-carnets-de-voyage-2/
LOCATION:Médiathèque La Médiaporte
CATEGORIES:Agenda associatif,Agenda culturel,Agenda jeunesse
ATTACH;FMTTYPE=image/jpeg:https://www.ville-ruellesurtouvre.fr/wp-content/uploads/2024/02/logo_LaVillette_Culture_Ruelle_sur_Touvre2-300x300-1.jpg
END:VEVENT
BEGIN:VEVENT
DTSTART;TZID=Europe/Paris:20240409T160000
DTEND;TZID=Europe/Paris:20240409T173000
DTSTAMP:20260422T075146
CREATED:20240304T155509Z
LAST-MODIFIED:20240304T155509Z
UID:11821-1712678400-1712683800@www.ville-ruellesurtouvre.fr
SUMMARY:Café lecture
DESCRIPTION:Rencontres et discussions\, amateurs de romans\, de polars\, de BD et autres histoires\, soyez les bienvenus ! \n\nTout public – gratuit
URL:https://www.ville-ruellesurtouvre.fr/evenement/cafe-lecture-3/
LOCATION:Médiathèque La Médiaporte
CATEGORIES:Agenda culturel
ATTACH;FMTTYPE=image/jpeg:https://www.ville-ruellesurtouvre.fr/wp-content/uploads/2024/03/IMG_0623-scaled.jpg
END:VEVENT
END:VCALENDAR