BEGIN:VCALENDAR
VERSION:2.0
PRODID:-//Ruelle sur Touvre - ECPv6.15.17//NONSGML v1.0//EN
CALSCALE:GREGORIAN
METHOD:PUBLISH
X-WR-CALNAME:Ruelle sur Touvre
X-ORIGINAL-URL:https://www.ville-ruellesurtouvre.fr
X-WR-CALDESC:Évènements pour Ruelle sur Touvre
REFRESH-INTERVAL;VALUE=DURATION:PT1H
X-Robots-Tag:noindex
X-PUBLISHED-TTL:PT1H
BEGIN:VTIMEZONE
TZID:Europe/Paris
BEGIN:DAYLIGHT
TZOFFSETFROM:+0100
TZOFFSETTO:+0200
TZNAME:CEST
DTSTART:20210328T010000
END:DAYLIGHT
BEGIN:STANDARD
TZOFFSETFROM:+0200
TZOFFSETTO:+0100
TZNAME:CET
DTSTART:20211031T010000
END:STANDARD
BEGIN:DAYLIGHT
TZOFFSETFROM:+0100
TZOFFSETTO:+0200
TZNAME:CEST
DTSTART:20220327T010000
END:DAYLIGHT
BEGIN:STANDARD
TZOFFSETFROM:+0200
TZOFFSETTO:+0100
TZNAME:CET
DTSTART:20221030T010000
END:STANDARD
BEGIN:DAYLIGHT
TZOFFSETFROM:+0100
TZOFFSETTO:+0200
TZNAME:CEST
DTSTART:20230326T010000
END:DAYLIGHT
BEGIN:STANDARD
TZOFFSETFROM:+0200
TZOFFSETTO:+0100
TZNAME:CET
DTSTART:20231029T010000
END:STANDARD
END:VTIMEZONE
BEGIN:VEVENT
DTSTART;TZID=Europe/Paris:20220604T103000
DTEND;TZID=Europe/Paris:20220604T103000
DTSTAMP:20260422T233339
CREATED:20220125T100951Z
LAST-MODIFIED:20220125T111642Z
UID:8923-1654338600-1654338600@www.ville-ruellesurtouvre.fr
SUMMARY:LES Z'ÉCOUTILLES
DESCRIPTION:Venez donc z’écouter les z’histoires et les chansons pour vos petites z’oreilles… Allez Zou ! \nPour les 0-5 ans et leurs parents – gratuit
URL:https://www.ville-ruellesurtouvre.fr/evenement/les-zecoutilles-7/
LOCATION:Médiathèque La Médiaporte
CATEGORIES:Agenda culturel
ATTACH;FMTTYPE=image/jpeg:https://www.ville-ruellesurtouvre.fr/wp-content/uploads/2022/01/IMG_0603-scaled-e1642695456129.jpg
END:VEVENT
BEGIN:VEVENT
DTSTART;TZID=Europe/Paris:20220601T200000
DTEND;TZID=Europe/Paris:20220601T203000
DTSTAMP:20260422T233339
CREATED:20220520T125158Z
LAST-MODIFIED:20220520T125158Z
UID:9626-1654113600-1654115400@www.ville-ruellesurtouvre.fr
SUMMARY:les histoires du soir guérissent
DESCRIPTION:Conte musical dessiné proposé dans le cadre du 14e festival de musique de chambre Commixtus.
URL:https://www.ville-ruellesurtouvre.fr/evenement/les-histoires-du-soir-guerissent/
LOCATION:Théâtre Jean Ferrat
CATEGORIES:Agenda culturel
ATTACH;FMTTYPE=image/jpeg:https://www.ville-ruellesurtouvre.fr/wp-content/uploads/2022/05/image0000021.jpg
END:VEVENT
BEGIN:VEVENT
DTSTART;TZID=Europe/Paris:20220601T150000
DTEND;TZID=Europe/Paris:20220601T170000
DTSTAMP:20260422T233339
CREATED:20220125T091451Z
LAST-MODIFIED:20220908T093820Z
UID:8900-1654095600-1654102800@www.ville-ruellesurtouvre.fr
SUMMARY:TRICOT COT'
DESCRIPTION:Envie de tricoter ? De papoter ? De tisser ? Les mordus de la pelote se retrouvent à la médiathèque. Si vous souhaitez apprendre\, c’est le lieu idéal. Patience et gentillesse sont au rendez-vous. \nTout public – gratuit
URL:https://www.ville-ruellesurtouvre.fr/evenement/tricot-cot-9/
LOCATION:Médiathèque La Médiaporte
CATEGORIES:Agenda culturel
ATTACH;FMTTYPE=image/jpeg:https://www.ville-ruellesurtouvre.fr/wp-content/uploads/2022/01/tricot-cot-1-e1642695542388.jpg
END:VEVENT
BEGIN:VEVENT
DTSTART;VALUE=DATE:20220530
DTEND;VALUE=DATE:20220612
DTSTAMP:20260422T233339
CREATED:20220224T161555Z
LAST-MODIFIED:20220224T161555Z
UID:9240-1653868800-1654991999@www.ville-ruellesurtouvre.fr
SUMMARY:EXPOSITION "LES PETITES PERSONNES" CHRISTIAN VOLTZ
DESCRIPTION:“Les petites personnes” de l’Imagier Vagabond\, Agence Rhône Alpes pour la promotion de l’illustration:  \nUne exposition toute nouvelle\, pour entrer concrètement dans l’atelier et la création de Christian Voltz. Une belle invitation faite par l’artiste aux enfants à faire comme lui et à découvrir les ressorts\, ficelles et autres détournements d’objets\, propre à son univers de poète glaneur et récupérateur de vieilles bricoles. \n© Christian Voltz
URL:https://www.ville-ruellesurtouvre.fr/evenement/exposition-les-petites-personnes-christian-voltz/
LOCATION:Médiathèque La Médiaporte
CATEGORIES:Agenda culturel
ATTACH;FMTTYPE=image/jpeg:https://www.ville-ruellesurtouvre.fr/wp-content/uploads/2022/02/Expo-juin.jpg
END:VEVENT
BEGIN:VEVENT
DTSTART;TZID=Europe/Paris:20220521T143000
DTEND;TZID=Europe/Paris:20220521T163000
DTSTAMP:20260422T233339
CREATED:20220224T160501Z
LAST-MODIFIED:20220224T160501Z
UID:9229-1653143400-1653150600@www.ville-ruellesurtouvre.fr
SUMMARY:MICRO POUR TOUS
DESCRIPTION:Quoi de mieux\, pour découvrir un pays et sa culture\, qu’un récit de voyage par ceux qui y sont allés ? L’association AHVEC a rapporté du village de Baleveng au Cameroun leur savoir-faire artisanal de création de motifs traditionnels sur tissus. A votre tour ! Initiez-vous à la teinture sur tissu et réalisez un motif à la manière camerounaise. \nTout public – sur inscription \n  \n  \n©Association AHVEC
URL:https://www.ville-ruellesurtouvre.fr/evenement/micro-pour-tous-5/
LOCATION:Médiathèque La Médiaporte
CATEGORIES:Agenda culturel
ATTACH;FMTTYPE=image/jpeg:https://www.ville-ruellesurtouvre.fr/wp-content/uploads/2022/02/5-MICRO-POUR-TOUS-mai.jpg
END:VEVENT
BEGIN:VEVENT
DTSTART;TZID=Europe/Paris:20220520T130000
DTEND;TZID=Europe/Paris:20220520T133000
DTSTAMP:20260422T233339
CREATED:20220224T160232Z
LAST-MODIFIED:20220224T160232Z
UID:9226-1653051600-1653053400@www.ville-ruellesurtouvre.fr
SUMMARY:LES MIDIS EN FOLIE !
DESCRIPTION:Profitez de votre pause déjeuner pour prendre le premier vol à destination du Cameroun ! Nous vous proposons un panorama de l’art africain dans les musées de France. \nEntrée libre – Possibilité de consommer son sandwich sur place. \n  \n  \n©Musée du Quai Branly – Jacques Chirac\, photo Patrick Gries\, Bruno Descoings
URL:https://www.ville-ruellesurtouvre.fr/evenement/les-midis-en-folie-6/
LOCATION:Médiathèque La Médiaporte
CATEGORIES:Agenda culturel
ATTACH;FMTTYPE=image/png:https://www.ville-ruellesurtouvre.fr/wp-content/uploads/2022/02/5-Midis-en-folie-mai.png
END:VEVENT
BEGIN:VEVENT
DTSTART;TZID=Europe/Paris:20220518T150000
DTEND;TZID=Europe/Paris:20220518T170000
DTSTAMP:20260422T233339
CREATED:20220125T091342Z
LAST-MODIFIED:20220908T093828Z
UID:8898-1652886000-1652893200@www.ville-ruellesurtouvre.fr
SUMMARY:TRICOT COT'
DESCRIPTION:Envie de tricoter ? De papoter ? De tisser ? Les mordus de la pelote se retrouvent à la médiathèque. Si vous souhaitez apprendre\, c’est le lieu idéal. Patience et gentillesse sont au rendez-vous. \nTout public – gratuit
URL:https://www.ville-ruellesurtouvre.fr/evenement/tricot-cot-8/
LOCATION:Médiathèque La Médiaporte
CATEGORIES:Agenda culturel
ATTACH;FMTTYPE=image/jpeg:https://www.ville-ruellesurtouvre.fr/wp-content/uploads/2022/01/tricot-cot-1-e1642695542388.jpg
END:VEVENT
BEGIN:VEVENT
DTSTART;TZID=Europe/Paris:20220513T203000
DTEND;TZID=Europe/Paris:20220513T223000
DTSTAMP:20260422T233339
CREATED:20220224T140020Z
LAST-MODIFIED:20220407T130153Z
UID:9186-1652473800-1652481000@www.ville-ruellesurtouvre.fr
SUMMARY:400ème anniversaire de la naissance de Molière
DESCRIPTION:QUOI DE NEUF ? MOLIÈRE ! \nCharivari\, Durand & Cathy Lamy \nLes trois comédiens revisitent les scènes les plus drôles de l’auteur\, révélant ses thèmes de prédilection à l’aune de notre actualité. Le trio se joue du dramaturge par un assemblage de textes percutants. Pour mieux le raccrocher à notre époque\, ils s’amusent à parodier ou à imaginer une autre suite à ses personnages. La mise en scène\, efficace et jubilatoire\, est agrémentée de nombreux détails\, anecdotes et autres drôleries. \nDe « L’École des femmes » au « Malade imaginaire » et « Les Fourberies de Scapin »\, en passant par ses 3 œuvres essentielles\, « Tartuffe »\, « Dom Juan » et « Le Misanthrope »\, un ensemble de textes qui permettront aux novices et aux initiés de se rejoindre dans un même éclat de rire ! \n  \n 
URL:https://www.ville-ruellesurtouvre.fr/evenement/400eme-anniversaire-de-la-naissance-de-moliere/
LOCATION:Théâtre Jean Ferrat
CATEGORIES:Agenda culturel
END:VEVENT
BEGIN:VEVENT
DTSTART;TZID=Europe/Paris:20220511T143000
DTEND;TZID=Europe/Paris:20220511T163000
DTSTAMP:20260422T233339
CREATED:20220224T154820Z
LAST-MODIFIED:20220224T160554Z
UID:9217-1652279400-1652286600@www.ville-ruellesurtouvre.fr
SUMMARY:LES Z'ARTELIERS
DESCRIPTION:C’est un pays d’Afrique que tu ne connais certainement pas\, et qui va te surprendre… Pars à la découverte du Cameroun ! Il t’étonnera avec ses contes\, ses chansons\, et tu réaliseras une création colorée sur tissu à la manière des artisans camerounais. Comme un vrai souvenir de voyage à rapporter à la maison ! \nGoûter offert à l’issue de l’animation. \nA partir de 5 ans – sur inscription \n  \n  \n© Association AHVEC
URL:https://www.ville-ruellesurtouvre.fr/evenement/les-zarteliers-4/
LOCATION:Médiathèque La Médiaporte
CATEGORIES:Agenda culturel
ATTACH;FMTTYPE=image/jpeg:https://www.ville-ruellesurtouvre.fr/wp-content/uploads/2022/02/5-ZARTELIERS-mai.jpg
END:VEVENT
BEGIN:VEVENT
DTSTART;TZID=Europe/Paris:20220510T160000
DTEND;TZID=Europe/Paris:20220510T173000
DTSTAMP:20260422T233339
CREATED:20220125T082720Z
LAST-MODIFIED:20220125T082720Z
UID:8882-1652198400-1652203800@www.ville-ruellesurtouvre.fr
SUMMARY:CAFÉ LECTURE
DESCRIPTION:Prenez une pincée de lecture\, ajoutez beaucoup d’échanges\, saupoudrez d’un zeste de bonne humeur et mélangez le tout\, c’est prêt !! À renouveler absolument tous les mois !! \nTout public – gratuit
URL:https://www.ville-ruellesurtouvre.fr/evenement/cafe-lecture-7/
LOCATION:Médiathèque La Médiaporte
CATEGORIES:Agenda culturel
ATTACH;FMTTYPE=image/jpeg:https://www.ville-ruellesurtouvre.fr/wp-content/uploads/2022/01/IMG_3255-scaled-e1642695852797.jpg
END:VEVENT
BEGIN:VEVENT
DTSTART;TZID=Europe/Paris:20220507T183000
DTEND;TZID=Europe/Paris:20220507T210000
DTSTAMP:20260422T233339
CREATED:20220222T162549Z
LAST-MODIFIED:20220222T162549Z
UID:9175-1651948200-1651957200@www.ville-ruellesurtouvre.fr
SUMMARY:CONCERT ÉCOLE DÉPARTEMENTALE DE MUSIQUE
DESCRIPTION:ARCO’&’ CO JOUE HISAISHI \nQuelle expérience fascinante ! Les jeunes musiciens cordistes vous proposent un petit détour par le Japon\, à la découverte de quelques chefs-d’œuvre musicaux. \nLe film d’animation japonais\, formidablement représenté par Hayao Miyazaki\, a essentiellement bénéficié du savoir faire exceptionnel du compositeur Joe Hisaishi. \nUn musique poétique qui dépeint des paysages et atmosphères aux multiples facettes. Mais ce n’est pas tout\, les musiciens auront bien d’autres surprises à vous jouer. \n  \nAvec les élèves de l’orchestre à cordes Arco’&’Co de l’EDM et les élèves à cordes du Conservatoire de Grand Cognac encadrés par Raphaël ALBERGHI\, Anne LEDROIT\, Benjamin Marionneau et Eve MORENO. Direction d’ensemble\, Martin QUESSON.
URL:https://www.ville-ruellesurtouvre.fr/evenement/concert-ecole-departementale-de-musique/
LOCATION:Théâtre Jean Ferrat
CATEGORIES:Agenda culturel
ATTACH;FMTTYPE=image/jpeg:https://www.ville-ruellesurtouvre.fr/wp-content/uploads/2022/02/Ecole-dep-de-Mus-scaled.jpg
END:VEVENT
BEGIN:VEVENT
DTSTART;TZID=Europe/Paris:20220507T103000
DTEND;TZID=Europe/Paris:20220507T103000
DTSTAMP:20260422T233339
CREATED:20220125T100857Z
LAST-MODIFIED:20220125T111718Z
UID:8921-1651919400-1651919400@www.ville-ruellesurtouvre.fr
SUMMARY:LES Z'ÉCOUTILLES
DESCRIPTION:Venez donc z’écouter les z’histoires et les chansons pour vos petites z’oreilles… Allez Zou ! \nPour les 0-5 ans et leurs parents – gratuit
URL:https://www.ville-ruellesurtouvre.fr/evenement/les-zecoutilles-6/
LOCATION:Médiathèque La Médiaporte
CATEGORIES:Agenda culturel
ATTACH;FMTTYPE=image/jpeg:https://www.ville-ruellesurtouvre.fr/wp-content/uploads/2022/01/IMG_0603-scaled-e1642695456129.jpg
END:VEVENT
BEGIN:VEVENT
DTSTART;TZID=Europe/Paris:20220505T183000
DTEND;TZID=Europe/Paris:20220505T200000
DTSTAMP:20260422T233339
CREATED:20220407T124242Z
LAST-MODIFIED:20220407T124315Z
UID:9439-1651775400-1651780800@www.ville-ruellesurtouvre.fr
SUMMARY:Conférence-débat - Les impacts humains du changement climatique
DESCRIPTION:Conférence-débat avec l’intervention de François Gemenne\, chercheur en Sciences politiques (Université de Liège/Sciences Po)\, auteur principal pour le GIEC. Proposée par la Maif en partenariat avec la ville \nLongtemps\, le changement climatique a été considéré comme un problème strictement environnemental qui affecterait les écosystèmes. Les impacts humains sont pourtant considérables\, même s’ils restent parfois mal connus. On se rend compte\, désormais\, que les grands enjeux du XXIe siècle\, qu’il s’agisse de sécurité\, de migrations\, de développement\, de santé publique ou d’agriculture\, seront profondément traversés par la question climatique. Cette conférence sera l’occasion de faire le point sur les principaux impacts humains du changement climatique\, en montrant combien\nl’enjeu fondamental de la lutte contre le changement climatique n’est pas tant de changer le climat que de garder la Terre habitable pour tous. \n 
URL:https://www.ville-ruellesurtouvre.fr/evenement/conference-debat-les-impacts-humains-du-changement-climatique/
LOCATION:Théâtre Jean Ferrat
CATEGORIES:Agenda citoyen,Agenda culturel
ATTACH;FMTTYPE=image/jpeg:https://www.ville-ruellesurtouvre.fr/wp-content/uploads/2022/04/AFF_A3_RUELLE_CLIMAT_internet-scaled-e1649335255765.jpg
END:VEVENT
BEGIN:VEVENT
DTSTART;TZID=Europe/Paris:20220504T150000
DTEND;TZID=Europe/Paris:20220504T150000
DTSTAMP:20260422T233339
CREATED:20220125T084536Z
LAST-MODIFIED:20220125T084536Z
UID:8895-1651676400-1651676400@www.ville-ruellesurtouvre.fr
SUMMARY:TRICOT COT'
DESCRIPTION:Envie de tricoter ? De papoter ? De tisser ? Les mordus de la pelote se retrouvent à la médiathèque. Si vous souhaitez apprendre\, c’est le lieu idéal. Patience et gentillesse sont au rendez-vous. \nTout public – gratuit
URL:https://www.ville-ruellesurtouvre.fr/evenement/tricot-cot-7/
LOCATION:Médiathèque La Médiaporte
CATEGORIES:Agenda culturel
ATTACH;FMTTYPE=image/jpeg:https://www.ville-ruellesurtouvre.fr/wp-content/uploads/2022/01/tricot-cot-1-e1642695542388.jpg
END:VEVENT
BEGIN:VEVENT
DTSTART;VALUE=DATE:20220502
DTEND;VALUE=DATE:20220529
DTSTAMP:20260422T233339
CREATED:20220224T154305Z
LAST-MODIFIED:20220224T155517Z
UID:9213-1651449600-1653782399@www.ville-ruellesurtouvre.fr
SUMMARY:EXPOSITION ASSOCIATION "AHVEC\, JAMAIS SANS VOUS"
DESCRIPTION:En ce joli mois de mai\, l’association AHVEC (Axe Humanitaire des Volontés Européennes et Camerounaises) est mise à l’honneur au sein de votre Micro-Folie. \nCréée en 1993\, cette association (loi 1901 reconnue d’intérêt général) d’aide humanitaire soutient l’orphelinat professionnel “La Source” situé dans le village de Baleveng à l’ouest du Cameroun. Les actions de l’association favorisent l’éducation\, la santé et la formation des enfants qui lui sont confiés et apporte aussi une réponse sociale à la population voisine.
URL:https://www.ville-ruellesurtouvre.fr/evenement/exposition-association-ahvec-jamais-sans-vous/
LOCATION:Médiathèque La Médiaporte
CATEGORIES:Agenda culturel
ATTACH;FMTTYPE=image/jpeg:https://www.ville-ruellesurtouvre.fr/wp-content/uploads/2022/02/Expo-mai.jpg
END:VEVENT
BEGIN:VEVENT
DTSTART;TZID=Europe/Paris:20220427T140000
DTEND;TZID=Europe/Paris:20220427T160000
DTSTAMP:20260422T233339
CREATED:20220125T100342Z
LAST-MODIFIED:20220908T093850Z
UID:8913-1651068000-1651075200@www.ville-ruellesurtouvre.fr
SUMMARY:MON PETIT CINÉ
DESCRIPTION:Un moment ciné pour les enfants\, suivi d’un atelier. \nCette projection est en partenariat avec la bibliothèque numérique de Charente : Sésame. \nTout-public à partir de 6 ans – gratuit – sur inscription
URL:https://www.ville-ruellesurtouvre.fr/evenement/mon-petit-cine-2/
LOCATION:Médiathèque La Médiaporte
CATEGORIES:Agenda culturel
END:VEVENT
BEGIN:VEVENT
DTSTART;TZID=Europe/Paris:20220426T103000
DTEND;TZID=Europe/Paris:20220426T120000
DTSTAMP:20260422T233339
CREATED:20220125T105212Z
LAST-MODIFIED:20220908T093918Z
UID:8927-1650969000-1650974400@www.ville-ruellesurtouvre.fr
SUMMARY:TAPIS RACONTE-HISTOIRE
DESCRIPTION:La LPO (Ligue Protectrice des Oiseaux) propose un atelier à destination des tout petits pour les sensibiliser à la préservation des oiseaux. Le tapis à histoire\, pédagogique et coloré\, permet de raconter la nature et la biodiversité avec des histoires illustrées. \nÀ partir de 3 ans – gratuit – sur inscription
URL:https://www.ville-ruellesurtouvre.fr/evenement/tapis-raconte-histoire/
LOCATION:Médiathèque La Médiaporte
CATEGORIES:Agenda culturel
END:VEVENT
BEGIN:VEVENT
DTSTART;TZID=Europe/Paris:20220422T100000
DTEND;TZID=Europe/Paris:20220422T190000
DTSTAMP:20260422T233339
CREATED:20220125T095802Z
LAST-MODIFIED:20220908T094009Z
UID:8909-1650621600-1650654000@www.ville-ruellesurtouvre.fr
SUMMARY:JEU M'AMUSE!
DESCRIPTION:Des jeux de société pour toute la famille\, des jeux vidéo tout nouveau\, un tournoi pour se défier… Pendant les vacances\, la médiathèque sort le grand jeu ! \nVenez jouer tout au long de la journée. \nTout public dès 5 ans – Gratuit
URL:https://www.ville-ruellesurtouvre.fr/evenement/jeu-mamuse-2/
LOCATION:Médiathèque La Médiaporte
CATEGORIES:Agenda culturel
END:VEVENT
BEGIN:VEVENT
DTSTART;TZID=Europe/Paris:20220420T103000
DTEND;TZID=Europe/Paris:20220420T123000
DTSTAMP:20260422T233339
CREATED:20220125T140727Z
LAST-MODIFIED:20220125T140727Z
UID:8976-1650450600-1650457800@www.ville-ruellesurtouvre.fr
SUMMARY:LES Z'ARTELIERS
DESCRIPTION:Atelier Chimie des couleurs : cet atelier aborde la chimie de manière ludique. Les participants manipulent des produits colorants naturels comme du chou rouge\, du savon\, des épices. En fonction du pH\, les couleurs changent\, ça mousse et c’est beau ! Chaque enfant fait son mélange et obtient des résultats étonnants ! \nGoûter offert à l’issue de l’animation. \nDe 5 à 7 ans – sur inscription \n© Espace Mendès France
URL:https://www.ville-ruellesurtouvre.fr/evenement/les-zarteliers-3/
LOCATION:Médiathèque La Médiaporte
CATEGORIES:Agenda culturel
ATTACH;FMTTYPE=image/jpeg:https://www.ville-ruellesurtouvre.fr/wp-content/uploads/2022/01/4-ZARTELIERS-avril.jpg
END:VEVENT
BEGIN:VEVENT
DTSTART;TZID=Europe/Paris:20220416T150000
DTEND;TZID=Europe/Paris:20220416T170000
DTSTAMP:20260422T233339
CREATED:20220221T162341Z
LAST-MODIFIED:20220221T162341Z
UID:9156-1650121200-1650128400@www.ville-ruellesurtouvre.fr
SUMMARY:LA REINE DES GLACES
DESCRIPTION:COMÉDIE MUSICALE \nSix artistes interpréteront vos chansons préférées de « La reine des Neiges ». Enfants et parents seront émerveillés par la troupe « La Reine des glaces »\, Cosplay & Rosplay du célèbre dessin animé. \nEffets spéciaux\, mascotte du rêne avec la charrette\, décoration hivernale\, participations des enfants\, tout est réuni pour un moment féérique. \nTout public – Tarif : à partir de 22\,70€  \nBilletterie : CLIQUEZ ICI \n© Proxima La Reine des Glaces Cosplay
URL:https://www.ville-ruellesurtouvre.fr/evenement/la-reine-des-glaces/
LOCATION:Théâtre Jean Ferrat
CATEGORIES:Agenda culturel
ATTACH;FMTTYPE=image/jpeg:https://www.ville-ruellesurtouvre.fr/wp-content/uploads/2022/02/©Proxima-La-Reine-des-Glaces-Cosplay-scaled.jpg
END:VEVENT
BEGIN:VEVENT
DTSTART;TZID=Europe/Paris:20220416T103000
DTEND;TZID=Europe/Paris:20220416T113000
DTSTAMP:20260422T233339
CREATED:20220125T082601Z
LAST-MODIFIED:20220125T084037Z
UID:8880-1650105000-1650108600@www.ville-ruellesurtouvre.fr
SUMMARY:CAFÉ LECTURE
DESCRIPTION:Prenez une pincée de lecture\, ajoutez beaucoup d’échanges\, saupoudrez d’un zeste de bonne humeur et mélangez le tout\, c’est prêt !! À renouveler absolument tous les mois !! \nTout public – gratuit
URL:https://www.ville-ruellesurtouvre.fr/evenement/cafe-lecture-6/
LOCATION:Médiathèque La Médiaporte
CATEGORIES:Agenda culturel
ATTACH;FMTTYPE=image/jpeg:https://www.ville-ruellesurtouvre.fr/wp-content/uploads/2022/01/IMG_3255-scaled-e1642695852797.jpg
END:VEVENT
BEGIN:VEVENT
DTSTART;TZID=Europe/Paris:20220413T150000
DTEND;TZID=Europe/Paris:20220413T150000
DTSTAMP:20260422T233339
CREATED:20220125T084437Z
LAST-MODIFIED:20220125T091220Z
UID:8893-1649862000-1649862000@www.ville-ruellesurtouvre.fr
SUMMARY:TRICOT COT'
DESCRIPTION:Envie de tricoter ? De papoter ? De tisser ? Les mordus de la pelote se retrouvent à la médiathèque. Si vous souhaitez apprendre\, c’est le lieu idéal. Patience et gentillesse sont au rendez-vous. \nTout public – gratuit
URL:https://www.ville-ruellesurtouvre.fr/evenement/tricot-cot-6/
LOCATION:Médiathèque La Médiaporte
CATEGORIES:Agenda culturel
ATTACH;FMTTYPE=image/jpeg:https://www.ville-ruellesurtouvre.fr/wp-content/uploads/2022/01/tricot-cot-1-e1642695542388.jpg
END:VEVENT
BEGIN:VEVENT
DTSTART;TZID=Europe/Paris:20220409T143000
DTEND;TZID=Europe/Paris:20220409T163000
DTSTAMP:20260422T233339
CREATED:20220125T141305Z
LAST-MODIFIED:20220125T142259Z
UID:8983-1649514600-1649521800@www.ville-ruellesurtouvre.fr
SUMMARY:MICRO POUR TOUS
DESCRIPTION:La perspective forcée\, tout le monde connaît ! Les touristes qui soutiennent la tour de Pise\, par exemple… Venez-vous essayer à la prise de vue ! Attention\, pour que l’illusion fonctionne\, la précision est de mise. \nTout public – sur inscription \n©Médiathèque de Ruelle sur Touvre
URL:https://www.ville-ruellesurtouvre.fr/evenement/micro-pour-tous-4/
LOCATION:Médiathèque La Médiaporte
CATEGORIES:Agenda culturel
ATTACH;FMTTYPE=image/jpeg:https://www.ville-ruellesurtouvre.fr/wp-content/uploads/2022/01/4-MICRO-POUR-TOUS-avril.jpg
END:VEVENT
BEGIN:VEVENT
DTSTART;TZID=Europe/Paris:20220409T103000
DTEND;TZID=Europe/Paris:20220409T103000
DTSTAMP:20260422T233339
CREATED:20220125T100747Z
LAST-MODIFIED:20220125T111743Z
UID:8919-1649500200-1649500200@www.ville-ruellesurtouvre.fr
SUMMARY:LES Z'ÉCOUTILLES
DESCRIPTION:Venez donc z’écouter les z’histoires et les chansons pour vos petites z’oreilles… Allez Zou ! \nPour les 0-5 ans et leurs parents – gratuit
URL:https://www.ville-ruellesurtouvre.fr/evenement/les-zecoutilles-5/
LOCATION:Médiathèque La Médiaporte
CATEGORIES:Agenda culturel
ATTACH;FMTTYPE=image/jpeg:https://www.ville-ruellesurtouvre.fr/wp-content/uploads/2022/01/IMG_0603-scaled-e1642695456129.jpg
END:VEVENT
BEGIN:VEVENT
DTSTART;TZID=Europe/Paris:20220408T130000
DTEND;TZID=Europe/Paris:20220408T133000
DTSTAMP:20260422T233339
CREATED:20220125T141043Z
LAST-MODIFIED:20220125T141043Z
UID:8980-1649422800-1649424600@www.ville-ruellesurtouvre.fr
SUMMARY:LES MIDIS EN FOLIE
DESCRIPTION:Le temps de votre pause déjeuner\, vous prendrez des airs de docteur légiste. Enfilez votre blouse car nous allons faire l’autopsie d’une œuvre d’art : construction\, proportions\, symétrie et réflexions autour des problématiques de restauration n’auront plus de mystère pour vous. \nEntrée libre – possibilité de consommer son sandwich sur place \n©Musée du Louvre
URL:https://www.ville-ruellesurtouvre.fr/evenement/les-midis-en-folie-5/
LOCATION:Médiathèque La Médiaporte
CATEGORIES:Agenda culturel
ATTACH;FMTTYPE=image/jpeg:https://www.ville-ruellesurtouvre.fr/wp-content/uploads/2022/01/4-Midis-en-folie-avril.jpg
END:VEVENT
BEGIN:VEVENT
DTSTART;TZID=Europe/Paris:20220405T100000
DTEND;TZID=Europe/Paris:20220427T180000
DTSTAMP:20260422T233339
CREATED:20220125T132954Z
LAST-MODIFIED:20220224T160755Z
UID:8971-1649152800-1651082400@www.ville-ruellesurtouvre.fr
SUMMARY:Exposition « Physique et couleurs »
DESCRIPTION:Dans le cadre de « La science se livre 2022 » par l’Espace Pierre Mendès France sur la thématique « Arts & Sciences »\, la Micro-Folie de Ruelle sur Touvre accueille l’exposition « Physique et couleurs ». \nLes phénomènes physiques qui nous permettent de voir en couleur. Saviez-vous que la Terre est le seul endroit où on peut voir du vert ? Et si le bleu du ciel n’était qu’illusion ? Et pourquoi la nuit est-elle noire ? Quelle est la différence entre fluorescence et phosphorescence ? La couleur est affaire de lumière qui est affaire de physique. Cette exposition en présentera et en expliquera les grands mystères. Les grands principes physiques de la couleur sont mis en scène : sans lumière\, pas de couleurs\, pas de couleurs sans matière et recours nécessaire à une machine extraordinaire : l’œil. \nHoraires d’ouverture de la médiathèque \n© Espace Mendès France
URL:https://www.ville-ruellesurtouvre.fr/evenement/exposition-physique-et-couleurs/
LOCATION:Médiathèque La Médiaporte
CATEGORIES:Agenda culturel
ATTACH;FMTTYPE=image/jpeg:https://www.ville-ruellesurtouvre.fr/wp-content/uploads/2022/01/arts-et-science.jpg
END:VEVENT
BEGIN:VEVENT
DTSTART;TZID=Europe/Paris:20220331T080000
DTEND;TZID=Europe/Paris:20220402T220000
DTSTAMP:20260422T233339
CREATED:20220221T161543Z
LAST-MODIFIED:20220221T161543Z
UID:9152-1648713600-1648936800@www.ville-ruellesurtouvre.fr
SUMMARY:FESTIVAL DU LIVRE JEUNESSE
DESCRIPTION:Du 31 mars au 02 avril \nPiloté par la FCOL (Fédération Charentaise des Œuvres Laïques)\, le festival accueillera une quinzaine d’auteurs qui rencontreront des classes de tout le département.  \nAu programme\, ateliers\, conférences\, spectacles et expositions ! \nMédiathèque et Espace culturel Jean Ferrat \n© Alan Mets
URL:https://www.ville-ruellesurtouvre.fr/evenement/festival-du-livre-jeunesse-3/
LOCATION:Centre culturel -Ruelle-sur-Touvre\, Place Auguste Rouyer
CATEGORIES:Agenda culturel
ATTACH;FMTTYPE=image/jpeg:https://www.ville-ruellesurtouvre.fr/wp-content/uploads/2022/02/Affiche-festival-du-livre-jeunesse©Alan-Mets.jpg
END:VEVENT
BEGIN:VEVENT
DTSTART;TZID=Europe/Paris:20220330T150000
DTEND;TZID=Europe/Paris:20220330T170000
DTSTAMP:20260422T233339
CREATED:20220125T084340Z
LAST-MODIFIED:20220908T094020Z
UID:8891-1648652400-1648659600@www.ville-ruellesurtouvre.fr
SUMMARY:TRICOT COT'
DESCRIPTION:Envie de tricoter ? De papoter ? De tisser ? Les mordus de la pelote se retrouvent à la médiathèque. Si vous souhaitez apprendre\, c’est le lieu idéal. Patience et gentillesse sont au rendez-vous. \nTout public – gratuit
URL:https://www.ville-ruellesurtouvre.fr/evenement/tricot-cot-5/
LOCATION:Médiathèque La Médiaporte
CATEGORIES:Agenda culturel
ATTACH;FMTTYPE=image/jpeg:https://www.ville-ruellesurtouvre.fr/wp-content/uploads/2022/01/tricot-cot-1-e1642695542388.jpg
END:VEVENT
BEGIN:VEVENT
DTSTART;TZID=Europe/Paris:20220326T203000
DTEND;TZID=Europe/Paris:20220326T220000
DTSTAMP:20260422T233339
CREATED:20220124T162710Z
LAST-MODIFIED:20220125T084024Z
UID:8871-1648326600-1648332000@www.ville-ruellesurtouvre.fr
SUMMARY:CONCERT ANNUEL DE L’AMR
DESCRIPTION:CONCERT ANNUEL DE L’AMR  \n Cette année\, l’Association Musicale de Ruelle vous propose un concert laissant libre cours à la musique dans sa diversité et son éclectisme. Ce concert sera joué par les élèves de l’association qui composent les groupes\, mêlant tous les âges et tous les instruments pour votre plus grand plaisir. \nVenez nombreux ! \nThéâtre Jean Ferrat \nTout public – Tarif : 5 €  \nBilletterie gérée par l’AMR \nRenseignements au 09 51 98 88 01
URL:https://www.ville-ruellesurtouvre.fr/evenement/8871/
LOCATION:Théâtre Jean Ferrat
CATEGORIES:Agenda culturel
ATTACH;FMTTYPE=image/jpeg:https://www.ville-ruellesurtouvre.fr/wp-content/uploads/2022/01/AMR-©Club-Photo-de-Ruelle.jpg
END:VEVENT
BEGIN:VEVENT
DTSTART;TZID=Europe/Paris:20220325T130000
DTEND;TZID=Europe/Paris:20220325T133000
DTSTAMP:20260422T233339
CREATED:20220125T130749Z
LAST-MODIFIED:20220125T131040Z
UID:8965-1648213200-1648215000@www.ville-ruellesurtouvre.fr
SUMMARY:LES MIDIS EN FOLIE !
DESCRIPTION:Embellissez votre pause déjeuner en vous connectant à votre imaginaire\, et à celui de tous les artistes qui ont inventé des créatures fabuleuses. Les animaux du bestiaire vous font voyager dans le temps à travers l’histoire de l’art. Découvrez un règne animal merveilleux. \nEntrée libre – Possibilité de consommer son sandwich sur place \n©Musée du Louvre\, AO 19857
URL:https://www.ville-ruellesurtouvre.fr/evenement/les-midis-en-folie-4/
LOCATION:Médiathèque La Médiaporte
CATEGORIES:Agenda culturel
ATTACH;FMTTYPE=image/jpeg:https://www.ville-ruellesurtouvre.fr/wp-content/uploads/2022/01/3-Midis-en-folie-mars.jpg
END:VEVENT
END:VCALENDAR