BEGIN:VCALENDAR
VERSION:2.0
PRODID:-//Ruelle sur Touvre - ECPv6.15.17//NONSGML v1.0//EN
CALSCALE:GREGORIAN
METHOD:PUBLISH
X-ORIGINAL-URL:https://www.ville-ruellesurtouvre.fr
X-WR-CALDESC:Évènements pour Ruelle sur Touvre
REFRESH-INTERVAL;VALUE=DURATION:PT1H
X-Robots-Tag:noindex
X-PUBLISHED-TTL:PT1H
BEGIN:VTIMEZONE
TZID:Europe/Paris
BEGIN:DAYLIGHT
TZOFFSETFROM:+0100
TZOFFSETTO:+0200
TZNAME:CEST
DTSTART:20190331T010000
END:DAYLIGHT
BEGIN:STANDARD
TZOFFSETFROM:+0200
TZOFFSETTO:+0100
TZNAME:CET
DTSTART:20191027T010000
END:STANDARD
BEGIN:DAYLIGHT
TZOFFSETFROM:+0100
TZOFFSETTO:+0200
TZNAME:CEST
DTSTART:20200329T010000
END:DAYLIGHT
BEGIN:STANDARD
TZOFFSETFROM:+0200
TZOFFSETTO:+0100
TZNAME:CET
DTSTART:20201025T010000
END:STANDARD
BEGIN:DAYLIGHT
TZOFFSETFROM:+0100
TZOFFSETTO:+0200
TZNAME:CEST
DTSTART:20210328T010000
END:DAYLIGHT
BEGIN:STANDARD
TZOFFSETFROM:+0200
TZOFFSETTO:+0100
TZNAME:CET
DTSTART:20211031T010000
END:STANDARD
END:VTIMEZONE
BEGIN:VEVENT
DTSTART;TZID=Europe/Paris:20201107T103000
DTEND;TZID=Europe/Paris:20201107T110000
DTSTAMP:20260425T231817
CREATED:20201008T072332Z
LAST-MODIFIED:20201102T104412Z
UID:6979-1604745000-1604746800@www.ville-ruellesurtouvre.fr
SUMMARY:ÉVÈNEMENT ANNULÉ : Les Z'écoutilles à la médiathèque
DESCRIPTION:Samedi 7 novembre\, 10h30\, Médiathèque\,  « Les Z’écoutilles »\, chansons et comptines\, gratuit\, ( 05 45 65 34 89 )
URL:https://www.ville-ruellesurtouvre.fr/evenement/les-zecoutilles-a-la-mediatheque-2/
LOCATION:Médiathèque La Médiaporte
CATEGORIES:Agenda jeunesse
ATTACH;FMTTYPE=image/png:https://www.ville-ruellesurtouvre.fr/wp-content/uploads/2020/10/zécoutilles.png
END:VEVENT
END:VCALENDAR