BEGIN:VCALENDAR
VERSION:2.0
PRODID:-//Ruelle sur Touvre - ECPv6.15.17//NONSGML v1.0//EN
CALSCALE:GREGORIAN
METHOD:PUBLISH
X-ORIGINAL-URL:https://www.ville-ruellesurtouvre.fr
X-WR-CALDESC:Évènements pour Ruelle sur Touvre
REFRESH-INTERVAL;VALUE=DURATION:PT1H
X-Robots-Tag:noindex
X-PUBLISHED-TTL:PT1H
BEGIN:VTIMEZONE
TZID:Europe/Paris
BEGIN:DAYLIGHT
TZOFFSETFROM:+0100
TZOFFSETTO:+0200
TZNAME:CEST
DTSTART:20200329T010000
END:DAYLIGHT
BEGIN:STANDARD
TZOFFSETFROM:+0200
TZOFFSETTO:+0100
TZNAME:CET
DTSTART:20201025T010000
END:STANDARD
BEGIN:DAYLIGHT
TZOFFSETFROM:+0100
TZOFFSETTO:+0200
TZNAME:CEST
DTSTART:20210328T010000
END:DAYLIGHT
BEGIN:STANDARD
TZOFFSETFROM:+0200
TZOFFSETTO:+0100
TZNAME:CET
DTSTART:20211031T010000
END:STANDARD
BEGIN:DAYLIGHT
TZOFFSETFROM:+0100
TZOFFSETTO:+0200
TZNAME:CEST
DTSTART:20220327T010000
END:DAYLIGHT
BEGIN:STANDARD
TZOFFSETFROM:+0200
TZOFFSETTO:+0100
TZNAME:CET
DTSTART:20221030T010000
END:STANDARD
END:VTIMEZONE
BEGIN:VEVENT
DTSTART;VALUE=DATE:20210923
DTEND;VALUE=DATE:20210926
DTSTAMP:20260423T083545
CREATED:20210616T153807Z
LAST-MODIFIED:20210617T071711Z
UID:8020-1632355200-1632614399@www.ville-ruellesurtouvre.fr
SUMMARY:Festival du livre jeunesse
DESCRIPTION:Piloté par la FCOL (site internet)\, le festival accueillera une quinzaine d’auteurs qui rencontreront des classes de tout le département. Un salon se tiendra au centre culturel de Ruelle où une dizaine de libraires exposeront et vendront des albums et livres jeunesse. Seront également au programme des ateliers\, des conférences\, des spectacles… Public jeunesse – Gratuit
URL:https://www.ville-ruellesurtouvre.fr/evenement/festival-du-livre-jeunesse-2/
LOCATION:Centre culturel
CATEGORIES:Agenda culturel,Agenda jeunesse
ATTACH;FMTTYPE=image/jpeg:https://www.ville-ruellesurtouvre.fr/wp-content/uploads/2021/06/festival-du-livre-jeunesse.jpg
END:VEVENT
END:VCALENDAR