BEGIN:VCALENDAR
VERSION:2.0
PRODID:-//Ruelle sur Touvre - ECPv6.15.17//NONSGML v1.0//EN
CALSCALE:GREGORIAN
METHOD:PUBLISH
X-WR-CALNAME:Ruelle sur Touvre
X-ORIGINAL-URL:https://www.ville-ruellesurtouvre.fr
X-WR-CALDESC:Évènements pour Ruelle sur Touvre
REFRESH-INTERVAL;VALUE=DURATION:PT1H
X-Robots-Tag:noindex
X-PUBLISHED-TTL:PT1H
BEGIN:VTIMEZONE
TZID:Europe/Paris
BEGIN:DAYLIGHT
TZOFFSETFROM:+0100
TZOFFSETTO:+0200
TZNAME:CEST
DTSTART:20220327T010000
END:DAYLIGHT
BEGIN:STANDARD
TZOFFSETFROM:+0200
TZOFFSETTO:+0100
TZNAME:CET
DTSTART:20221030T010000
END:STANDARD
BEGIN:DAYLIGHT
TZOFFSETFROM:+0100
TZOFFSETTO:+0200
TZNAME:CEST
DTSTART:20230326T010000
END:DAYLIGHT
BEGIN:STANDARD
TZOFFSETFROM:+0200
TZOFFSETTO:+0100
TZNAME:CET
DTSTART:20231029T010000
END:STANDARD
BEGIN:DAYLIGHT
TZOFFSETFROM:+0100
TZOFFSETTO:+0200
TZNAME:CEST
DTSTART:20240331T010000
END:DAYLIGHT
BEGIN:STANDARD
TZOFFSETFROM:+0200
TZOFFSETTO:+0100
TZNAME:CET
DTSTART:20241027T010000
END:STANDARD
END:VTIMEZONE
BEGIN:VEVENT
DTSTART;TZID=Europe/Paris:20230408T103000
DTEND;TZID=Europe/Paris:20230408T110000
DTSTAMP:20260422T040338
CREATED:20230123T132726Z
LAST-MODIFIED:20230123T132726Z
UID:10109-1680949800-1680951600@www.ville-ruellesurtouvre.fr
SUMMARY:Les Z'écoutilles
DESCRIPTION:Le rendez-vous incontournable des petits et des grands aussi\, \n\navec des histoires et des chansons qui vous enchanteront.\n\nGratuit\, renseignements au 05 45 65 34 89\n\nÀ vos agendas :\n\nSamedi 08 avril – 10h30  \nSamedi 06 mai – 10h30  \nSamedi 03 juin – 10h30
URL:https://www.ville-ruellesurtouvre.fr/evenement/les-zecoutilles-9/
LOCATION:Médiathèque La Médiaporte
CATEGORIES:Agenda culturel,Agenda jeunesse
ATTACH;FMTTYPE=image/jpeg:https://www.ville-ruellesurtouvre.fr/wp-content/uploads/2023/01/20210904_104748-scaled.jpg
END:VEVENT
END:VCALENDAR