BEGIN:VCALENDAR
VERSION:2.0
PRODID:-//Ruelle sur Touvre - ECPv6.15.17//NONSGML v1.0//EN
CALSCALE:GREGORIAN
METHOD:PUBLISH
X-ORIGINAL-URL:https://www.ville-ruellesurtouvre.fr
X-WR-CALDESC:Évènements pour Ruelle sur Touvre
REFRESH-INTERVAL;VALUE=DURATION:PT1H
X-Robots-Tag:noindex
X-PUBLISHED-TTL:PT1H
BEGIN:VTIMEZONE
TZID:Europe/Paris
BEGIN:DAYLIGHT
TZOFFSETFROM:+0100
TZOFFSETTO:+0200
TZNAME:CEST
DTSTART:20220327T010000
END:DAYLIGHT
BEGIN:STANDARD
TZOFFSETFROM:+0200
TZOFFSETTO:+0100
TZNAME:CET
DTSTART:20221030T010000
END:STANDARD
BEGIN:DAYLIGHT
TZOFFSETFROM:+0100
TZOFFSETTO:+0200
TZNAME:CEST
DTSTART:20230326T010000
END:DAYLIGHT
BEGIN:STANDARD
TZOFFSETFROM:+0200
TZOFFSETTO:+0100
TZNAME:CET
DTSTART:20231029T010000
END:STANDARD
BEGIN:DAYLIGHT
TZOFFSETFROM:+0100
TZOFFSETTO:+0200
TZNAME:CEST
DTSTART:20240331T010000
END:DAYLIGHT
BEGIN:STANDARD
TZOFFSETFROM:+0200
TZOFFSETTO:+0100
TZNAME:CET
DTSTART:20241027T010000
END:STANDARD
END:VTIMEZONE
BEGIN:VEVENT
DTSTART;TZID=Europe/Paris:20230701T080000
DTEND;TZID=Europe/Paris:20230701T170000
DTSTAMP:20260421T230333
CREATED:20230511T143739Z
LAST-MODIFIED:20230511T143739Z
UID:10468-1688198400-1688230800@www.ville-ruellesurtouvre.fr
SUMMARY:Fête de la ville : La Ruelle joue
DESCRIPTION:Pour finaliser et valoriser le projet « Partager ma ville au naturel » une journée festive est organisée samedi 1er juillet autour des jeux insolites. \nElle mettra en lumière les différentes créations et ateliers qui auront eu lieu tout au long de l’année\, ainsi que les associations et partenaires locaux du territoire. \nVenez nombreux pour jouer à la fête de la ville et pour assister au spectacle de l’Agence Turlututu ! \nProgrammation : \n14H-18h : Escape Game\, départs des équipes toutes les 15 minutes | Inscription au 06 14 49 42 80. \n15H-18H : Ouverture des ateliers et de la buvette : Bataille de Sumo Géant\, 25 grands jeux en bois\, scrabble géant\, babyfoot Géant\, concours régional de Lancer de Charentaises\, jeux de plateaux insolites\, expo photo jeux des tout petits (crèche)\, jeu hippoglouton Géant\, stand Tricocot et lecture. \n18H-19H30 : Spectacle Agence Turlututu
URL:https://www.ville-ruellesurtouvre.fr/evenement/fete-de-la-ville-la-ruelle-joue/
LOCATION:Square de la Mairie
CATEGORIES:Agenda culturel,Agenda festif,Agenda jeunesse
ATTACH;FMTTYPE=image/jpeg:https://www.ville-ruellesurtouvre.fr/wp-content/uploads/2023/05/Fete-de-la-ville-2023_COM_WEB2-scaled.jpg
END:VEVENT
BEGIN:VEVENT
DTSTART;VALUE=DATE:20230704
DTEND;VALUE=DATE:20230721
DTSTAMP:20260421T230333
CREATED:20230622T135414Z
LAST-MODIFIED:20230622T135717Z
UID:10618-1688428800-1689897599@www.ville-ruellesurtouvre.fr
SUMMARY:Lectures sur l'herbe
DESCRIPTION:En juillet\, la médiathèque se met au vert ! \nUn rendez-vous gratuit pour les tout-petits avec leurs parents et/ou leurs assistant.e.s maternel.les\, les doigts de pieds en éventail pour écouter et lire des histoires. \n\nMardi 04\, 11\, 18 juillet à 10h30 : City stade du site de la Porte\nJeudi 06\, 13\, 20 juillet à 10h30 : parc Montalembert\n\nGRATUIT
URL:https://www.ville-ruellesurtouvre.fr/evenement/lectures-sur-lherbe-7/
CATEGORIES:Agenda culturel,Agenda jeunesse
ATTACH;FMTTYPE=image/jpeg:https://www.ville-ruellesurtouvre.fr/wp-content/uploads/2023/06/Mon-ete-a-Ruelle-20236-e1687441876759.jpg
END:VEVENT
END:VCALENDAR