BEGIN:VCALENDAR
VERSION:2.0
PRODID:-//Ruelle sur Touvre - ECPv6.15.17//NONSGML v1.0//EN
CALSCALE:GREGORIAN
METHOD:PUBLISH
X-WR-CALNAME:Ruelle sur Touvre
X-ORIGINAL-URL:https://www.ville-ruellesurtouvre.fr
X-WR-CALDESC:Évènements pour Ruelle sur Touvre
REFRESH-INTERVAL;VALUE=DURATION:PT1H
X-Robots-Tag:noindex
X-PUBLISHED-TTL:PT1H
BEGIN:VTIMEZONE
TZID:Europe/Paris
BEGIN:DAYLIGHT
TZOFFSETFROM:+0100
TZOFFSETTO:+0200
TZNAME:CEST
DTSTART:20230326T010000
END:DAYLIGHT
BEGIN:STANDARD
TZOFFSETFROM:+0200
TZOFFSETTO:+0100
TZNAME:CET
DTSTART:20231029T010000
END:STANDARD
BEGIN:DAYLIGHT
TZOFFSETFROM:+0100
TZOFFSETTO:+0200
TZNAME:CEST
DTSTART:20240331T010000
END:DAYLIGHT
BEGIN:STANDARD
TZOFFSETFROM:+0200
TZOFFSETTO:+0100
TZNAME:CET
DTSTART:20241027T010000
END:STANDARD
BEGIN:DAYLIGHT
TZOFFSETFROM:+0100
TZOFFSETTO:+0200
TZNAME:CEST
DTSTART:20250330T010000
END:DAYLIGHT
BEGIN:STANDARD
TZOFFSETFROM:+0200
TZOFFSETTO:+0100
TZNAME:CET
DTSTART:20251026T010000
END:STANDARD
END:VTIMEZONE
BEGIN:VEVENT
DTSTART;VALUE=DATE:20240312
DTEND;VALUE=DATE:20240324
DTSTAMP:20260421T110031
CREATED:20240206T110352Z
LAST-MODIFIED:20240206T110352Z
UID:11543-1710201600-1711238399@www.ville-ruellesurtouvre.fr
SUMMARY:Exposition et atelier autour de l'auteure Maria Jalibert
DESCRIPTION:Dans le cadre du Festival du livre jeunesse de Ruelle sur Touvre\, venez découvrir l’exposition de l’auteure Maria Jalibert “Cache – Cache Carotte”. Une exposition entièrement réalisée avec des jouets où vous pourrez observer\, chercher\, trouver\, construire\, inventer… bref\, jouer !
URL:https://www.ville-ruellesurtouvre.fr/evenement/exposition-et-atelier-autour-de-lauteure-maria-jalibert/
LOCATION:Médiathèque La Médiaporte
CATEGORIES:Agenda culturel,Agenda jeunesse
ATTACH;FMTTYPE=image/jpeg:https://www.ville-ruellesurtouvre.fr/wp-content/uploads/2024/02/CacheCacheCarotte-Extrait1-scaled.jpg
END:VEVENT
BEGIN:VEVENT
DTSTART;VALUE=DATE:20240316
DTEND;VALUE=DATE:20240317
DTSTAMP:20260421T110031
CREATED:20240219T081952Z
LAST-MODIFIED:20240219T082050Z
UID:11600-1710547200-1710633599@www.ville-ruellesurtouvre.fr
SUMMARY:Lycée Jean Caillaud | Portes ouvertes
DESCRIPTION:
URL:https://www.ville-ruellesurtouvre.fr/evenement/lycee-jean-caillaud-portes-ouvertes/
LOCATION:Lycée des métiers Jean Caillaud
CATEGORIES:Agenda citoyen,Agenda jeunesse
ATTACH;FMTTYPE=image/png:https://www.ville-ruellesurtouvre.fr/wp-content/uploads/2024/02/Flyer-JPO-Samedi-16-Mars-Jean-Caillaud-1.png
END:VEVENT
BEGIN:VEVENT
DTSTART;TZID=Europe/Paris:20240320T143000
DTEND;TZID=Europe/Paris:20240320T163000
DTSTAMP:20260421T110031
CREATED:20240206T122822Z
LAST-MODIFIED:20240206T123902Z
UID:11546-1710945000-1710952200@www.ville-ruellesurtouvre.fr
SUMMARY:Les Z'arteliers avec Maria Jalibert
DESCRIPTION:Pour créer ses albums jeunesse\, l’artiste collectionne et chine les petits objets en plastique. Ses illustrations sont des photographies mettant en scène des collections de petits jouets assemblés de façon hétéroclite par thème et par couleur. \nViens découvrir l’univers de Maria Jalibert et crée tes propres mises en scène. \nGratuit – A partir de 5 ans – Sur inscription 05 45 65 34 89
URL:https://www.ville-ruellesurtouvre.fr/evenement/les-zarteliers-avec-maria-jalibert/
LOCATION:Médiathèque La Médiaporte
CATEGORIES:Agenda culturel,Agenda jeunesse
ATTACH;FMTTYPE=image/jpeg:https://www.ville-ruellesurtouvre.fr/wp-content/uploads/2024/02/CacheCacheCarotte-Extrait3-scaled.jpg
END:VEVENT
BEGIN:VEVENT
DTSTART;VALUE=DATE:20240321
DTEND;VALUE=DATE:20240324
DTSTAMP:20260421T110031
CREATED:20240205T161107Z
LAST-MODIFIED:20240205T161107Z
UID:11538-1710979200-1711238399@www.ville-ruellesurtouvre.fr
SUMMARY:FESTIVAL DU LIVRE JEUNESSE
DESCRIPTION:Organisé par la FCOL (Fédération Charentaise des Oeuvres Laïques)\, le Festival du Livre Jeunesse revient cette année du 21 au 23 mars au centre culturel Jean Ferrat. \nRencontres d’auteurs\, dédicaces\, ateliers\, vente de livres\, expositions\, conférences\, spectacles\, cette nouvelle édition s’aura séduire petits et grands !  \n 
URL:https://www.ville-ruellesurtouvre.fr/evenement/festival-du-livre-jeunesse-4/
LOCATION:Centre culturel Jean Ferrat\, Place du champ de Mars\, Ruelle Sur Touvre\, 16600\, France
CATEGORIES:Agenda culturel,Agenda jeunesse
ATTACH;FMTTYPE=image/jpeg:https://www.ville-ruellesurtouvre.fr/wp-content/uploads/2024/02/Affiche-reseaux.jpg
END:VEVENT
BEGIN:VEVENT
DTSTART;TZID=Europe/Paris:20240323T143000
DTEND;TZID=Europe/Paris:20240323T163000
DTSTAMP:20260421T110031
CREATED:20240205T133022Z
LAST-MODIFIED:20240205T133022Z
UID:11524-1711204200-1711211400@www.ville-ruellesurtouvre.fr
SUMMARY:LES Z'ARTELIERS - DÉTOURNEMENT DE TABLEAUX
DESCRIPTION:ATELIERS MICRO-FOLIE  \nAu secours !! Des jouets ont attaqué les plus grandes œuvres du musée numérique. Nous avons besoin de toi pour remettre de l’ordre dans tout ça et reproduire avec eux les tableaux touchés. Non mais… Ce n’est quand même pas des p’tits bouts de plastique qui vont faire la loi !! \nA partir de 5 ans – Sur inscription 05 45 65 34 89
URL:https://www.ville-ruellesurtouvre.fr/evenement/les-zarteliers-detournement-de-tableaux/
LOCATION:Médiathèque La Médiaporte
CATEGORIES:Agenda culturel,Agenda jeunesse
ATTACH;FMTTYPE=image/jpeg:https://www.ville-ruellesurtouvre.fr/wp-content/uploads/2024/02/logo_LaVillette_Culture_Ruelle_sur_Touvre2-300x300-1.jpg
END:VEVENT
END:VCALENDAR