BEGIN:VCALENDAR
VERSION:2.0
PRODID:-//Ruelle sur Touvre - ECPv6.15.17//NONSGML v1.0//EN
CALSCALE:GREGORIAN
METHOD:PUBLISH
X-WR-CALNAME:Ruelle sur Touvre
X-ORIGINAL-URL:https://www.ville-ruellesurtouvre.fr
X-WR-CALDESC:Évènements pour Ruelle sur Touvre
REFRESH-INTERVAL;VALUE=DURATION:PT1H
X-Robots-Tag:noindex
X-PUBLISHED-TTL:PT1H
BEGIN:VTIMEZONE
TZID:Europe/Paris
BEGIN:DAYLIGHT
TZOFFSETFROM:+0100
TZOFFSETTO:+0200
TZNAME:CEST
DTSTART:20230326T010000
END:DAYLIGHT
BEGIN:STANDARD
TZOFFSETFROM:+0200
TZOFFSETTO:+0100
TZNAME:CET
DTSTART:20231029T010000
END:STANDARD
BEGIN:DAYLIGHT
TZOFFSETFROM:+0100
TZOFFSETTO:+0200
TZNAME:CEST
DTSTART:20240331T010000
END:DAYLIGHT
BEGIN:STANDARD
TZOFFSETFROM:+0200
TZOFFSETTO:+0100
TZNAME:CET
DTSTART:20241027T010000
END:STANDARD
BEGIN:DAYLIGHT
TZOFFSETFROM:+0100
TZOFFSETTO:+0200
TZNAME:CEST
DTSTART:20250330T010000
END:DAYLIGHT
BEGIN:STANDARD
TZOFFSETFROM:+0200
TZOFFSETTO:+0100
TZNAME:CET
DTSTART:20251026T010000
END:STANDARD
END:VTIMEZONE
BEGIN:VEVENT
DTSTART;TZID=Europe/Paris:20240406T103000
DTEND;TZID=Europe/Paris:20240406T113000
DTSTAMP:20260421T094442
CREATED:20240304T155151Z
LAST-MODIFIED:20240304T155151Z
UID:11815-1712399400-1712403000@www.ville-ruellesurtouvre.fr
SUMMARY:Les Z'écoutilles
DESCRIPTION:Padoudim\, padoudam…\nEmbarquez vos p’tites z’oreilles et vos p’tits z’yeux pour 30 minutes de comptines et d’histoires.\n1\, 2\, 3 c’est le départ ! \nPour les 0-5 ans et leurs parents – gratuit
URL:https://www.ville-ruellesurtouvre.fr/evenement/les-zecoutilles-12/
LOCATION:Médiathèque La Médiaporte
CATEGORIES:Agenda culturel,Agenda jeunesse
ATTACH;FMTTYPE=image/jpeg:https://www.ville-ruellesurtouvre.fr/wp-content/uploads/2024/03/IMG_0623-scaled.jpg
END:VEVENT
BEGIN:VEVENT
DTSTART;TZID=Europe/Paris:20240406T143000
DTEND;TZID=Europe/Paris:20240406T163000
DTSTAMP:20260421T094442
CREATED:20240301T143000Z
LAST-MODIFIED:20240301T143243Z
UID:11703-1712413800-1712421000@www.ville-ruellesurtouvre.fr
SUMMARY:Les Z'arteliers - Carnets de voyage
DESCRIPTION:Fabrique ton propre carnet de voyage entre rêves et souvenirs\, rencontres et partage.\nDécouvre ensuite quelques techniques qui te permettront de croquer tes plus belles aventures de vacances. En partenariat avec l’association AHVEC. \nGRATUIT – A partir de 5 ans sur inscription : 05.45.65.34.89
URL:https://www.ville-ruellesurtouvre.fr/evenement/les-zarteliers-carnets-de-voyage/
LOCATION:Médiathèque La Médiaporte
CATEGORIES:Agenda associatif,Agenda culturel,Agenda jeunesse
ATTACH;FMTTYPE=image/jpeg:https://www.ville-ruellesurtouvre.fr/wp-content/uploads/2024/02/logo_LaVillette_Culture_Ruelle_sur_Touvre2-300x300-1.jpg
END:VEVENT
BEGIN:VEVENT
DTSTART;TZID=Europe/Paris:20240410T143000
DTEND;TZID=Europe/Paris:20240410T163000
DTSTAMP:20260421T094442
CREATED:20240301T143222Z
LAST-MODIFIED:20240301T143222Z
UID:11706-1712759400-1712766600@www.ville-ruellesurtouvre.fr
SUMMARY:Les Z'arteliers - Carnets de voyage
DESCRIPTION:Fabrique ton propre carnet de voyage entre rêves et souvenirs\, rencontres et partage.\nDécouvre ensuite quelques techniques qui te permettront de croquer tes plus belles aventures de vacances. En partenariat avec l’association AHVEC. \nGRATUIT – A partir de 5 ans sur inscription : 05.45.65.34.89
URL:https://www.ville-ruellesurtouvre.fr/evenement/les-zarteliers-carnets-de-voyage-2/
LOCATION:Médiathèque La Médiaporte
CATEGORIES:Agenda associatif,Agenda culturel,Agenda jeunesse
ATTACH;FMTTYPE=image/jpeg:https://www.ville-ruellesurtouvre.fr/wp-content/uploads/2024/02/logo_LaVillette_Culture_Ruelle_sur_Touvre2-300x300-1.jpg
END:VEVENT
BEGIN:VEVENT
DTSTART;TZID=Europe/Paris:20240419T100000
DTEND;TZID=Europe/Paris:20240419T180000
DTSTAMP:20260421T094442
CREATED:20240301T150200Z
LAST-MODIFIED:20240301T150200Z
UID:11717-1713520800-1713549600@www.ville-ruellesurtouvre.fr
SUMMARY:Jeu m'amuse !
DESCRIPTION:Jeux de société et jeux vidéo\, pour s’amuser et se défier. Venez jouer tout au long de la journée.\nEn partenariat avec le Dé Calé. \nGRATUIT – A partir de 5 ans 
URL:https://www.ville-ruellesurtouvre.fr/evenement/jeu-mamuse-4/
LOCATION:Médiathèque La Médiaporte
CATEGORIES:Agenda culturel,Agenda jeunesse
ATTACH;FMTTYPE=image/jpeg:https://www.ville-ruellesurtouvre.fr/wp-content/uploads/2024/03/IMG_0623-scaled.jpg
END:VEVENT
BEGIN:VEVENT
DTSTART;TZID=Europe/Paris:20240423T143000
DTEND;TZID=Europe/Paris:20240423T163000
DTSTAMP:20260421T094442
CREATED:20240301T150459Z
LAST-MODIFIED:20240301T150711Z
UID:11719-1713882600-1713889800@www.ville-ruellesurtouvre.fr
SUMMARY:Culture Games
DESCRIPTION:Retour vers le passé avec une sélection rétro\, de jeux de sociétés et de jeux vidéo\, pour découvrir à quoi jouaient tes parents quand ils avaient ton âge. \nGRATUIT – A partir de 10 ans sur inscription : 05.45.65.34.89
URL:https://www.ville-ruellesurtouvre.fr/evenement/culture-games-4/
LOCATION:Médiathèque La Médiaporte
CATEGORIES:Agenda culturel,Agenda jeunesse
ATTACH;FMTTYPE=image/jpeg:https://www.ville-ruellesurtouvre.fr/wp-content/uploads/2024/03/IMG_0623-scaled.jpg
END:VEVENT
BEGIN:VEVENT
DTSTART;TZID=Europe/Paris:20240424T143000
DTEND;TZID=Europe/Paris:20240424T163000
DTSTAMP:20260421T094442
CREATED:20240301T150642Z
LAST-MODIFIED:20240301T150642Z
UID:11721-1713969000-1713976200@www.ville-ruellesurtouvre.fr
SUMMARY:Mon P'tit ciné
DESCRIPTION:Petit moment cinéma suivi d’un atelier. C’est l’occasion pour les enfants d’emmener leurs parents au cinéma !\nEn partenariat avec la bibliothèque numérique de Charente\, Sésame. \nGRATUIT – A partir de 5 ans sur inscription : 05.45.65.34.89
URL:https://www.ville-ruellesurtouvre.fr/evenement/mon-ptit-cine-2/
LOCATION:Médiathèque La Médiaporte
CATEGORIES:Agenda culturel,Agenda jeunesse
END:VEVENT
BEGIN:VEVENT
DTSTART;VALUE=DATE:20240430
DTEND;VALUE=DATE:20240519
DTSTAMP:20260421T094442
CREATED:20240301T151252Z
LAST-MODIFIED:20240301T151252Z
UID:11725-1714435200-1716076799@www.ville-ruellesurtouvre.fr
SUMMARY:Exposition "Petit musée Blanc de Pénélope"
DESCRIPTION:Dans le cadre du festival Petites Oreilles en Goguette. \nLes éditions des Grandes Personnes ont collaboré avec l’illustratrice Pénélope et l’Institut national des jeunes aveugles : de leur association découle le livre La nature au bout des doigts. \nIl s’agit là d’une promenade tactile\, un chemin poétique exacerbé par le blanc\, un voyage avec les doigts dans la nature ponctué par les différentes saisons. \nSpécifiquement fabriqué comme « un pont entre les aveugles et les voyants »\, nous explique l’illustratrice. \nGRATUIT – Aux heures d’ouverture de la médiathèque \n 
URL:https://www.ville-ruellesurtouvre.fr/evenement/exposition-petit-musee-blanc-de-penelope/
LOCATION:Médiathèque La Médiaporte
CATEGORIES:Agenda culturel,Agenda jeunesse
ATTACH;FMTTYPE=image/png:https://www.ville-ruellesurtouvre.fr/wp-content/uploads/2024/03/21403133-diaporama.png
END:VEVENT
END:VCALENDAR