BEGIN:VCALENDAR
VERSION:2.0
PRODID:-//Ruelle sur Touvre - ECPv6.15.17//NONSGML v1.0//EN
CALSCALE:GREGORIAN
METHOD:PUBLISH
X-ORIGINAL-URL:https://www.ville-ruellesurtouvre.fr
X-WR-CALDESC:Évènements pour Ruelle sur Touvre
REFRESH-INTERVAL;VALUE=DURATION:PT1H
X-Robots-Tag:noindex
X-PUBLISHED-TTL:PT1H
BEGIN:VTIMEZONE
TZID:Europe/Paris
BEGIN:DAYLIGHT
TZOFFSETFROM:+0100
TZOFFSETTO:+0200
TZNAME:CEST
DTSTART:20230326T010000
END:DAYLIGHT
BEGIN:STANDARD
TZOFFSETFROM:+0200
TZOFFSETTO:+0100
TZNAME:CET
DTSTART:20231029T010000
END:STANDARD
BEGIN:DAYLIGHT
TZOFFSETFROM:+0100
TZOFFSETTO:+0200
TZNAME:CEST
DTSTART:20240331T010000
END:DAYLIGHT
BEGIN:STANDARD
TZOFFSETFROM:+0200
TZOFFSETTO:+0100
TZNAME:CET
DTSTART:20241027T010000
END:STANDARD
BEGIN:DAYLIGHT
TZOFFSETFROM:+0100
TZOFFSETTO:+0200
TZNAME:CEST
DTSTART:20250330T010000
END:DAYLIGHT
BEGIN:STANDARD
TZOFFSETFROM:+0200
TZOFFSETTO:+0100
TZNAME:CET
DTSTART:20251026T010000
END:STANDARD
END:VTIMEZONE
BEGIN:VEVENT
DTSTART;VALUE=DATE:20240430
DTEND;VALUE=DATE:20240519
DTSTAMP:20260421T083210
CREATED:20240301T151252Z
LAST-MODIFIED:20240301T151252Z
UID:11725-1714435200-1716076799@www.ville-ruellesurtouvre.fr
SUMMARY:Exposition "Petit musée Blanc de Pénélope"
DESCRIPTION:Dans le cadre du festival Petites Oreilles en Goguette. \nLes éditions des Grandes Personnes ont collaboré avec l’illustratrice Pénélope et l’Institut national des jeunes aveugles : de leur association découle le livre La nature au bout des doigts. \nIl s’agit là d’une promenade tactile\, un chemin poétique exacerbé par le blanc\, un voyage avec les doigts dans la nature ponctué par les différentes saisons. \nSpécifiquement fabriqué comme « un pont entre les aveugles et les voyants »\, nous explique l’illustratrice. \nGRATUIT – Aux heures d’ouverture de la médiathèque \n 
URL:https://www.ville-ruellesurtouvre.fr/evenement/exposition-petit-musee-blanc-de-penelope/
LOCATION:Médiathèque La Médiaporte
CATEGORIES:Agenda culturel,Agenda jeunesse
ATTACH;FMTTYPE=image/png:https://www.ville-ruellesurtouvre.fr/wp-content/uploads/2024/03/21403133-diaporama.png
END:VEVENT
BEGIN:VEVENT
DTSTART;TZID=Europe/Paris:20240504T103000
DTEND;TZID=Europe/Paris:20240504T113000
DTSTAMP:20260421T083210
CREATED:20240304T155255Z
LAST-MODIFIED:20240304T155255Z
UID:11817-1714818600-1714822200@www.ville-ruellesurtouvre.fr
SUMMARY:Les Z'écoutilles
DESCRIPTION:Padoudim\, padoudam…\nEmbarquez vos p’tites z’oreilles et vos p’tits z’yeux pour 30 minutes de comptines et d’histoires.\n1\, 2\, 3 c’est le départ ! \nPour les 0-5 ans et leurs parents – gratuit
URL:https://www.ville-ruellesurtouvre.fr/evenement/les-zecoutilles-13/
LOCATION:Médiathèque La Médiaporte
CATEGORIES:Agenda culturel,Agenda jeunesse
ATTACH;FMTTYPE=image/jpeg:https://www.ville-ruellesurtouvre.fr/wp-content/uploads/2024/03/IMG_0623-scaled.jpg
END:VEVENT
BEGIN:VEVENT
DTSTART;TZID=Europe/Paris:20240515T143000
DTEND;TZID=Europe/Paris:20240515T163000
DTSTAMP:20260421T083210
CREATED:20240304T101017Z
LAST-MODIFIED:20240304T101017Z
UID:11739-1715783400-1715790600@www.ville-ruellesurtouvre.fr
SUMMARY:A tatons...
DESCRIPTION:Une immersion au cœur de l’exposition Petit musée blanc. Tous tes sens sont en éveil pour une plongée dans l’univers de l’autrice Pénélope. Visite\, écoute et crée ! \nGRATUIT – A partir de 5 ans sur inscription : 05 45 65 34 89
URL:https://www.ville-ruellesurtouvre.fr/evenement/a-tatons/
LOCATION:Médiathèque La Médiaporte
CATEGORIES:Agenda culturel,Agenda jeunesse
END:VEVENT
BEGIN:VEVENT
DTSTART;TZID=Europe/Paris:20240522T143000
DTEND;TZID=Europe/Paris:20240522T163000
DTSTAMP:20260421T083210
CREATED:20240304T100845Z
LAST-MODIFIED:20240304T100845Z
UID:11737-1716388200-1716395400@www.ville-ruellesurtouvre.fr
SUMMARY:Les Z'arteliers - Portrait Pop
DESCRIPTION:Voyage au pays des couleurs flashy à la rencontre d’Andy Warhol roi du Pop Art.\nInitie-toi ensuite\, de manière facile et ludique\, à la reproduction en série de photos\, comme le faisait le maître de la Factory. \nGRATUIT – A partir de 5 ans sur inscription : 05 45 65 34 89
URL:https://www.ville-ruellesurtouvre.fr/evenement/les-zarteliers-portrait-pop-2/
LOCATION:Médiathèque La Médiaporte
CATEGORIES:Agenda culturel,Agenda jeunesse
ATTACH;FMTTYPE=image/jpeg:https://www.ville-ruellesurtouvre.fr/wp-content/uploads/2024/02/logo_LaVillette_Culture_Ruelle_sur_Touvre2-300x300-1.jpg
END:VEVENT
END:VCALENDAR