BEGIN:VCALENDAR
VERSION:2.0
PRODID:-//Ruelle sur Touvre - ECPv6.15.17//NONSGML v1.0//EN
CALSCALE:GREGORIAN
METHOD:PUBLISH
X-WR-CALNAME:Ruelle sur Touvre
X-ORIGINAL-URL:https://www.ville-ruellesurtouvre.fr
X-WR-CALDESC:Évènements pour Ruelle sur Touvre
REFRESH-INTERVAL;VALUE=DURATION:PT1H
X-Robots-Tag:noindex
X-PUBLISHED-TTL:PT1H
BEGIN:VTIMEZONE
TZID:Europe/Paris
BEGIN:DAYLIGHT
TZOFFSETFROM:+0100
TZOFFSETTO:+0200
TZNAME:CEST
DTSTART:20230326T010000
END:DAYLIGHT
BEGIN:STANDARD
TZOFFSETFROM:+0200
TZOFFSETTO:+0100
TZNAME:CET
DTSTART:20231029T010000
END:STANDARD
BEGIN:DAYLIGHT
TZOFFSETFROM:+0100
TZOFFSETTO:+0200
TZNAME:CEST
DTSTART:20240331T010000
END:DAYLIGHT
BEGIN:STANDARD
TZOFFSETFROM:+0200
TZOFFSETTO:+0100
TZNAME:CET
DTSTART:20241027T010000
END:STANDARD
BEGIN:DAYLIGHT
TZOFFSETFROM:+0100
TZOFFSETTO:+0200
TZNAME:CEST
DTSTART:20250330T010000
END:DAYLIGHT
BEGIN:STANDARD
TZOFFSETFROM:+0200
TZOFFSETTO:+0100
TZNAME:CET
DTSTART:20251026T010000
END:STANDARD
END:VTIMEZONE
BEGIN:VEVENT
DTSTART;TZID=Europe/Paris:20240702T103000
DTEND;TZID=Europe/Paris:20240718T103000
DTSTAMP:20260421T053908
CREATED:20220125T110606Z
LAST-MODIFIED:20240627T125244Z
UID:8939-1719916200-1721298600@www.ville-ruellesurtouvre.fr
SUMMARY:LES LECTURES SUR L'HERBE
DESCRIPTION:Les 3 premières semaines de juillet – 10h30 \nDeux points de rendez-vous pour nos lectures : \n\nles mardis au City Stade du site de la Porte\nles jeudis au parc Montalembert\n\nTout-petits avec leurs parents et/ou leurs assistant.e.s maternelles – gratuit \n \n 
URL:https://www.ville-ruellesurtouvre.fr/evenement/les-lectures-sur-lherbe-6/
CATEGORIES:Agenda culturel,Agenda jeunesse
ATTACH;FMTTYPE=image/jpeg:https://www.ville-ruellesurtouvre.fr/wp-content/uploads/2022/01/IMG_0093-scaled.jpg
END:VEVENT
BEGIN:VEVENT
DTSTART;VALUE=DATE:20240716
DTEND;VALUE=DATE:20240719
DTSTAMP:20260421T053908
CREATED:20230622T134418Z
LAST-MODIFIED:20240627T125826Z
UID:10608-1721088000-1721347199@www.ville-ruellesurtouvre.fr
SUMMARY:LA SEMAINE DES Z'ARTELIERS
DESCRIPTION:Pour tous les ateliers : 14h30\, à partir de 5 ans – Gratuit sur inscription au 05 45 65 34 89 \n\nMardi 16 juillet – L’intelligence artificielle : Découvre le monde merveilleux de l’intelligence artificielle à travers des jeux et des quiz afin d’être plus fort que ChatGPT !\n\n\nMercredi 17 juillet – Atelier la Belle équipe – spécial jeux olympiques : Retrouve-nous pour jouer à une aventure olympique. A travers la représentation du sport dans l’art\, chaque participant intègre une équipe. Et c’est parti\, des premiers pas dans une discipline jusqu’à la qualification aux Jeux Olympiques !\n\n\nJeudi 18 juillet – Atelier cirque : Entre boule d’équilibre\, jonglerie et porté acrobatique\, on te laisse choisir ton agrès préféré pour te familiariser avec l’art du cirque. Avec l’association Planche de cirque\n\n 
URL:https://www.ville-ruellesurtouvre.fr/evenement/la-semaine-des-zarteliers/
LOCATION:Médiathèque La Médiaporte
CATEGORIES:Agenda culturel,Agenda festif,Agenda jeunesse,Agenda sportif
ATTACH;FMTTYPE=image/png:https://www.ville-ruellesurtouvre.fr/wp-content/uploads/2022/01/PROG-ETE-2024_Plan-de-travail-1-03.png
END:VEVENT
BEGIN:VEVENT
DTSTART;TZID=Europe/Paris:20240719T153000
DTEND;TZID=Europe/Paris:20240719T190000
DTSTAMP:20260421T053908
CREATED:20240627T130706Z
LAST-MODIFIED:20240627T130706Z
UID:12268-1721403000-1721415600@www.ville-ruellesurtouvre.fr
SUMMARY:BOOM de la médiathèque
DESCRIPTION:
URL:https://www.ville-ruellesurtouvre.fr/evenement/boom-de-la-mediatheque/
LOCATION:Médiathèque La Médiaporte
CATEGORIES:Agenda culturel,Agenda festif,Agenda jeunesse
ATTACH;FMTTYPE=image/png:https://www.ville-ruellesurtouvre.fr/wp-content/uploads/2022/01/PROG-ETE-2024_Plan-de-travail-1-05.png
END:VEVENT
BEGIN:VEVENT
DTSTART;TZID=Europe/Paris:20240722T190000
DTEND;TZID=Europe/Paris:20240722T223000
DTSTAMP:20260421T053908
CREATED:20240627T130124Z
LAST-MODIFIED:20240627T130344Z
UID:12264-1721674800-1721687400@www.ville-ruellesurtouvre.fr
SUMMARY:LES SOIRS BLEUS 22 JUILLET 2024
DESCRIPTION:Ateliers cirque avec Planche de cirque\nLectures sur l’herbe avec la médiathèque\nSpectacle « Clan Cabane » par la compagnie La Contre bande.\nInitiation au « Shim Sham » danse en ligne jazz roots par 16 danse\n\nGRATUIT – BUVETTE – FOOD TRUCKS
URL:https://www.ville-ruellesurtouvre.fr/evenement/les-soirs-bleus-22-juillet-2024/
LOCATION:Esplanade Chantefleurs – Villement\, rue de chantefleurs\, Ruelle sur Touvre\, 16600
CATEGORIES:Agenda culturel,Agenda festif,Agenda jeunesse
ATTACH;FMTTYPE=image/png:https://www.ville-ruellesurtouvre.fr/wp-content/uploads/2022/01/PROG-ETE-2024_Plan-de-travail-1-04.png
END:VEVENT
END:VCALENDAR