BEGIN:VCALENDAR
VERSION:2.0
PRODID:-//Ruelle sur Touvre - ECPv6.15.17//NONSGML v1.0//EN
CALSCALE:GREGORIAN
METHOD:PUBLISH
X-ORIGINAL-URL:https://www.ville-ruellesurtouvre.fr
X-WR-CALDESC:Évènements pour Ruelle sur Touvre
REFRESH-INTERVAL;VALUE=DURATION:PT1H
X-Robots-Tag:noindex
X-PUBLISHED-TTL:PT1H
BEGIN:VTIMEZONE
TZID:Europe/Paris
BEGIN:DAYLIGHT
TZOFFSETFROM:+0100
TZOFFSETTO:+0200
TZNAME:CEST
DTSTART:20230326T010000
END:DAYLIGHT
BEGIN:STANDARD
TZOFFSETFROM:+0200
TZOFFSETTO:+0100
TZNAME:CET
DTSTART:20231029T010000
END:STANDARD
BEGIN:DAYLIGHT
TZOFFSETFROM:+0100
TZOFFSETTO:+0200
TZNAME:CEST
DTSTART:20240331T010000
END:DAYLIGHT
BEGIN:STANDARD
TZOFFSETFROM:+0200
TZOFFSETTO:+0100
TZNAME:CET
DTSTART:20241027T010000
END:STANDARD
BEGIN:DAYLIGHT
TZOFFSETFROM:+0100
TZOFFSETTO:+0200
TZNAME:CEST
DTSTART:20250330T010000
END:DAYLIGHT
BEGIN:STANDARD
TZOFFSETFROM:+0200
TZOFFSETTO:+0100
TZNAME:CET
DTSTART:20251026T010000
END:STANDARD
END:VTIMEZONE
BEGIN:VEVENT
DTSTART;TZID=Europe/Paris:20240903T080000
DTEND;TZID=Europe/Paris:20240903T170000
DTSTAMP:20260421T024454
CREATED:20240903T135517Z
LAST-MODIFIED:20240903T135517Z
UID:12518-1725350400-1725382800@www.ville-ruellesurtouvre.fr
SUMMARY:MON NOËL A RUELLE
DESCRIPTION:Plongez dans la magie des fêtes avec « Mon Noël à Ruelle »\, un événement festif qui illuminera votre week-end ! La commune se transformera en un véritable village de Noël\, offrant une expérience enchantée pour petits et grands. Vous pourrez flâner dans le marché de Noël chaleureux\, où artisans et commerçants locaux proposeront leurs créations et spécialités. \nTout au long du week-end\, une multitude d’animations viendront égayer votre visite :\n– Une projection cinéma pour se plonger dans l’ambiance féérique de Noël ;\n– Un spectaculaire feu d’artifice qui illuminera le ciel nocturne ;\n– La présence du Père Noël\, prêt à accueillir les souhaits des enfants ;\n– Un manège enchanteur pour le plaisir des plus jeunes ;\n– Des stands de restauration et une buvette pour savourer de délicieuses gourmandises hivernales. \n« Mon Noël à Ruelle » promet d’être un moment magique à partager en famille ou entre amis\, alliant tradition\, divertissement et convivialité. Ne manquez pas cette occasion de célébrer l’esprit de Noël dans une ambiance festive et chaleureuse au cœur de votre ville.  \n 
URL:https://www.ville-ruellesurtouvre.fr/evenement/mon-noel-a-ruelle-3/
CATEGORIES:Agenda festif,Agenda jeunesse
ATTACH;FMTTYPE=image/jpeg:https://www.ville-ruellesurtouvre.fr/wp-content/uploads/2022/12/snowman-ga53533096_1920.jpg
END:VEVENT
BEGIN:VEVENT
DTSTART;TZID=Europe/Paris:20240918T143000
DTEND;TZID=Europe/Paris:20240918T160000
DTSTAMP:20260421T024454
CREATED:20240830T080548Z
LAST-MODIFIED:20240830T080800Z
UID:12395-1726669800-1726675200@www.ville-ruellesurtouvre.fr
SUMMARY:LES Z'ARTELIERS - Calendrier perpétuel
DESCRIPTION:Pour cette rentrée\, deviens le maître du temps avec la création d’un calendrier perpétuel façon aztèque. Il t’accompagnera et te sera toujours utile après plusieurs années. Une belle manière de voir le temps qui passe … sans le perdre. \nGratuit sur inscription 05.45.65.34.89 – A partir de 5 ans.
URL:https://www.ville-ruellesurtouvre.fr/evenement/les-zarteliers-6/
LOCATION:Médiathèque La Médiaporte
CATEGORIES:Agenda culturel,Agenda jeunesse
ATTACH;FMTTYPE=image/jpeg:https://www.ville-ruellesurtouvre.fr/wp-content/uploads/2024/02/logo_LaVillette_Culture_Ruelle_sur_Touvre2-300x300-1.jpg
END:VEVENT
BEGIN:VEVENT
DTSTART;TZID=Europe/Paris:20240921T143000
DTEND;TZID=Europe/Paris:20240921T160000
DTSTAMP:20260421T024454
CREATED:20240830T080659Z
LAST-MODIFIED:20240830T080728Z
UID:12397-1726929000-1726934400@www.ville-ruellesurtouvre.fr
SUMMARY:LES Z'ARTELIERS - Calendrier perpétuel
DESCRIPTION:Pour cette rentrée\, deviens le maître du temps avec la création d’un calendrier perpétuel façon aztèque. Il t’accompagnera et te sera toujours utile après plusieurs années. Une belle manière de voir le temps qui passe … sans le perdre. \nGratuit sur inscription 05.45.65.34.89 – A partir de 5 ans.
URL:https://www.ville-ruellesurtouvre.fr/evenement/les-zarteliers-7/
LOCATION:Médiathèque La Médiaporte
CATEGORIES:Agenda culturel,Agenda jeunesse
ATTACH;FMTTYPE=image/jpeg:https://www.ville-ruellesurtouvre.fr/wp-content/uploads/2024/02/logo_LaVillette_Culture_Ruelle_sur_Touvre2-300x300-1.jpg
END:VEVENT
BEGIN:VEVENT
DTSTART;TZID=Europe/Paris:20240929T110000
DTEND;TZID=Europe/Paris:20240929T120000
DTSTAMP:20260421T024454
CREATED:20240830T082419Z
LAST-MODIFIED:20240830T085322Z
UID:12410-1727607600-1727611200@www.ville-ruellesurtouvre.fr
SUMMARY:SPECTACLE AU FIL DU CONTE - "Fiasco pour les canailles" de Hélène Palardy
DESCRIPTION:Chez les méchants\, les temps sont durs. On a détroussé l’araignée\, le loup a les crocs et un fantôme a le blues. Ils ont fait appel à une conteuse pour les sortir de leur pétrin. Résultat : un vrai fiasco ! Tous en prennent pour leur grade. Accompagnée de sa guitare\, Hélène raconte les déboires de ces méchants qui tremblent sur des airs rock\, reggae et flamenco. Des histoires chahutées avec l’énergie d’un concert et la complicité du public. Dans cet univers où rôde l’humour\, on frissonne… de plaisir !  \nA partir de 5 ans – Gratuit sur inscription au 05.45.65.34.89
URL:https://www.ville-ruellesurtouvre.fr/evenement/spectacle-au-fil-du-conte-fiasco-pour-les-canailles-de-helene-palardy/
LOCATION:Médiathèque La Médiaporte
CATEGORIES:Agenda culturel,Agenda jeunesse
ATTACH;FMTTYPE=image/jpeg:https://www.ville-ruellesurtouvre.fr/wp-content/uploads/2024/08/FiascoCanaillesPalardy.jpg
END:VEVENT
END:VCALENDAR