BEGIN:VCALENDAR
VERSION:2.0
PRODID:-//Ruelle sur Touvre - ECPv6.15.17//NONSGML v1.0//EN
CALSCALE:GREGORIAN
METHOD:PUBLISH
X-WR-CALNAME:Ruelle sur Touvre
X-ORIGINAL-URL:https://www.ville-ruellesurtouvre.fr
X-WR-CALDESC:Évènements pour Ruelle sur Touvre
REFRESH-INTERVAL;VALUE=DURATION:PT1H
X-Robots-Tag:noindex
X-PUBLISHED-TTL:PT1H
BEGIN:VTIMEZONE
TZID:Europe/Paris
BEGIN:DAYLIGHT
TZOFFSETFROM:+0100
TZOFFSETTO:+0200
TZNAME:CEST
DTSTART:20230326T010000
END:DAYLIGHT
BEGIN:STANDARD
TZOFFSETFROM:+0200
TZOFFSETTO:+0100
TZNAME:CET
DTSTART:20231029T010000
END:STANDARD
BEGIN:DAYLIGHT
TZOFFSETFROM:+0100
TZOFFSETTO:+0200
TZNAME:CEST
DTSTART:20240331T010000
END:DAYLIGHT
BEGIN:STANDARD
TZOFFSETFROM:+0200
TZOFFSETTO:+0100
TZNAME:CET
DTSTART:20241027T010000
END:STANDARD
BEGIN:DAYLIGHT
TZOFFSETFROM:+0100
TZOFFSETTO:+0200
TZNAME:CEST
DTSTART:20250330T010000
END:DAYLIGHT
BEGIN:STANDARD
TZOFFSETFROM:+0200
TZOFFSETTO:+0100
TZNAME:CET
DTSTART:20251026T010000
END:STANDARD
END:VTIMEZONE
BEGIN:VEVENT
DTSTART;TZID=Europe/Paris:20241001T203000
DTEND;TZID=Europe/Paris:20241001T220000
DTSTAMP:20260421T013256
CREATED:20240830T093558Z
LAST-MODIFIED:20240923T151505Z
UID:12413-1727814600-1727820000@www.ville-ruellesurtouvre.fr
SUMMARY:SPECTACLE AU FIL DU CONTE - "La larme du dragon" de Christel Delpeyroux
DESCRIPTION:« Affrontements magiques\, métamorphoses\, émotion et rebondissements dramatiques\, nous embarquent dans un récit haletant raconté avec intensité et poésie. » \nCe soir-là\, tout est paisible dans les maisons-arbres éclairées par les deux lunes rouges\, quand Sagor déchaîne sa puissance sur la Grande Forêt. Mais aux confins de la Forêt\, Ardana veille. Jusqu’où devra-t-elle aller pour vaincre son ancien mentor devenu fou de pouvoir et pour protéger sa famille ? Et que sont donc ces cristaux que ses enfants ramènent de leur expédition secrète et qui semblent tout droit sortis d’une légende ? \nSur inscription au 05.45.65.34.89 – A partir de 12 ans \n 
URL:https://www.ville-ruellesurtouvre.fr/evenement/spectacle-au-fil-du-conte-la-larme-du-dragon-de-christel-delpeyroux/
LOCATION:Théâtre Jean Ferrat
CATEGORIES:Agenda culturel,Agenda jeunesse
ATTACH;FMTTYPE=image/jpeg:https://www.ville-ruellesurtouvre.fr/wp-content/uploads/2024/08/Christel-Attention-Danger-c-C.-Colin.jpg
END:VEVENT
BEGIN:VEVENT
DTSTART;TZID=Europe/Paris:20241009T143000
DTEND;TZID=Europe/Paris:20241009T160000
DTSTAMP:20260421T013256
CREATED:20240830T094746Z
LAST-MODIFIED:20240830T094746Z
UID:12419-1728484200-1728489600@www.ville-ruellesurtouvre.fr
SUMMARY:MON P'TIT CINÉ
DESCRIPTION:Petit moment cinéma suivi d’un atelier. C’est l’occasion pour les enfants d’emmener leurs parents au cinéma ! \nA partir de 5 ans. En partenariat avec la bibliothèque numérique de Charente\, Sésame.
URL:https://www.ville-ruellesurtouvre.fr/evenement/mon-ptit-cine-3/
LOCATION:Médiathèque La Médiaporte
CATEGORIES:Agenda culturel,Agenda jeunesse
ATTACH;FMTTYPE=image/jpeg:https://www.ville-ruellesurtouvre.fr/wp-content/uploads/2024/08/vista-de-3d-xicara-de-pipoca-com-assento-de-cinema_23-2150866179.jpg
END:VEVENT
BEGIN:VEVENT
DTSTART;TZID=Europe/Paris:20241015T183000
DTEND;TZID=Europe/Paris:20241015T200000
DTSTAMP:20260421T013256
CREATED:20240830T121201Z
LAST-MODIFIED:20240830T121631Z
UID:12439-1729017000-1729022400@www.ville-ruellesurtouvre.fr
SUMMARY:LA RENTRÉE LITTÉRAIRE AVEC LILOSIMAGES
DESCRIPTION:Venez découvrir les coups de cœur de nos libraires : des voix contemporaines\, de littérature francophone et étrangère\, des récits intimes\, politiques\, d’aventure\, d’imaginaire… on vous garantit émerveillement\, effroi\, poésie\, indignation\, douceur et coups de poings littéraires ! \nVente de livres sur place.
URL:https://www.ville-ruellesurtouvre.fr/evenement/la-rentree-litteraire-avec-lilosimages/
LOCATION:Médiathèque La Médiaporte
CATEGORIES:Agenda culturel,Agenda jeunesse
ATTACH;FMTTYPE=image/png:https://www.ville-ruellesurtouvre.fr/wp-content/uploads/2024/08/Rentree-litteraire.png
END:VEVENT
BEGIN:VEVENT
DTSTART;TZID=Europe/Paris:20241016T143000
DTEND;TZID=Europe/Paris:20241016T160000
DTSTAMP:20260421T013256
CREATED:20240830T100455Z
LAST-MODIFIED:20240830T100509Z
UID:12425-1729089000-1729094400@www.ville-ruellesurtouvre.fr
SUMMARY:LES Z'ARTELIERS - L'art abstrait
DESCRIPTION:Explosion de couleurs garantie !!! Réalise une œuvre abstraite grâce à la technique du pouring (création de coulées de peinture de façon aléatoire). Il n’a jamais été aussi simple de faire de magnifiques tableaux.  Aucun pinceau ne sera autorisé pour cet atelier. \nA partir du 5 ans – Sur inscription au 05.45.65.34.89
URL:https://www.ville-ruellesurtouvre.fr/evenement/les-zarteliers-lart-abstrait/
CATEGORIES:Agenda culturel,Agenda jeunesse
ATTACH;FMTTYPE=image/jpeg:https://www.ville-ruellesurtouvre.fr/wp-content/uploads/2024/08/Zarteliers-pouring-3-scaled.jpg
END:VEVENT
BEGIN:VEVENT
DTSTART;VALUE=DATE:20241019
DTEND;VALUE=DATE:20241020
DTSTAMP:20260421T013256
CREATED:20241014T070353Z
LAST-MODIFIED:20241014T070353Z
UID:12628-1729296000-1729382399@www.ville-ruellesurtouvre.fr
SUMMARY:Boum d'Halloween
DESCRIPTION:Organisé par l’APE de l’école Robert Doisneau
URL:https://www.ville-ruellesurtouvre.fr/evenement/boum-dhalloween/
LOCATION:Centre culturel
CATEGORIES:Agenda associatif,Agenda jeunesse
ATTACH;FMTTYPE=image/png:https://www.ville-ruellesurtouvre.fr/wp-content/uploads/2024/10/Invitation-Boum-Halloween-2024.png
END:VEVENT
BEGIN:VEVENT
DTSTART;VALUE=DATE:20241022
DTEND;VALUE=DATE:20241026
DTSTAMP:20260421T013256
CREATED:20240830T122342Z
LAST-MODIFIED:20241017T140011Z
UID:12445-1729555200-1729900799@www.ville-ruellesurtouvre.fr
SUMMARY:RAMALABIBIDIBABIDIBOU
DESCRIPTION:Une neuvième édition qui s’annonce magique… Abracadabra\, avec ce spectacle\, petites oreilles tu enchanteras !! \nMardi 22 octobre à 10h\nMercredi 23 octobre à 10h\nJeudi 24 octobre à 10h et à 15h30\nVendredi 25 octobre à 10h \nSur inscription au 05 45 65 34 89 – Dès la naissance jusqu’à beaucoup plus grand !!
URL:https://www.ville-ruellesurtouvre.fr/evenement/ramalabibidibabidibou/
LOCATION:Médiathèque La Médiaporte
CATEGORIES:Agenda culturel,Agenda jeunesse
ATTACH;FMTTYPE=image/jpeg:https://www.ville-ruellesurtouvre.fr/wp-content/uploads/2024/08/IMG_1463.jpg
END:VEVENT
BEGIN:VEVENT
DTSTART;TZID=Europe/Paris:20241029T100000
DTEND;TZID=Europe/Paris:20241029T180000
DTSTAMP:20260421T013256
CREATED:20240830T122112Z
LAST-MODIFIED:20240830T122112Z
UID:12442-1730196000-1730224800@www.ville-ruellesurtouvre.fr
SUMMARY:JEU M'AMUSE !
DESCRIPTION:Jeux de société et jeux vidéo\, pour s’amuser et se défier. Venez jouer tout au long de la journée. \nEn partenariat avec le Dé Calé. A partir de 5 ans.
URL:https://www.ville-ruellesurtouvre.fr/evenement/jeu-mamuse-5/
LOCATION:Médiathèque La Médiaporte
CATEGORIES:Agenda culturel,Agenda jeunesse
ATTACH;FMTTYPE=image/jpeg:https://www.ville-ruellesurtouvre.fr/wp-content/uploads/2024/08/logo-De-cale.jpg
END:VEVENT
BEGIN:VEVENT
DTSTART;TZID=Europe/Paris:20241030T143000
DTEND;TZID=Europe/Paris:20241030T160000
DTSTAMP:20260421T013256
CREATED:20240830T100611Z
LAST-MODIFIED:20240830T100611Z
UID:12428-1730298600-1730304000@www.ville-ruellesurtouvre.fr
SUMMARY:LES Z'ARTELIERS - L'art abstrait
DESCRIPTION:Explosion de couleurs garantie !!! Réalise une œuvre abstraite grâce à la technique du pouring (création de coulées de peinture de façon aléatoire). Il n’a jamais été aussi simple de faire de magnifiques tableaux.  Aucun pinceau ne sera autorisé pour cet atelier. \nA partir du 5 ans – Sur inscription au 05.45.65.34.89
URL:https://www.ville-ruellesurtouvre.fr/evenement/les-zarteliers-lart-abstrait-2/
LOCATION:Médiathèque La Médiaporte
CATEGORIES:Agenda culturel,Agenda jeunesse
ATTACH;FMTTYPE=image/jpeg:https://www.ville-ruellesurtouvre.fr/wp-content/uploads/2024/08/Zarteliers-pouring-3-scaled.jpg
END:VEVENT
BEGIN:VEVENT
DTSTART;TZID=Europe/Paris:20241031T143000
DTEND;TZID=Europe/Paris:20241031T163000
DTSTAMP:20260421T013256
CREATED:20240830T122757Z
LAST-MODIFIED:20240830T122757Z
UID:12448-1730385000-1730392200@www.ville-ruellesurtouvre.fr
SUMMARY:CULTURE GAMES
DESCRIPTION:Viens trembler devant une sélection rétro gaming de jeux d’horreur. De Castlevania à Super Ghost n Goblin en passant par Golden axe II\, qu’est-ce qui te fera le plus peur ? Les gros pixels ou le gameplay exigeant des années 90 ? \nA partir de 10 ans – Sur inscription au 05.45.65.34.89
URL:https://www.ville-ruellesurtouvre.fr/evenement/culture-games-5/
LOCATION:Médiathèque La Médiaporte
CATEGORIES:Agenda culturel,Agenda jeunesse
ATTACH;FMTTYPE=image/jpeg:https://www.ville-ruellesurtouvre.fr/wp-content/uploads/2024/08/Retro-gaming.jpg
END:VEVENT
END:VCALENDAR