BEGIN:VCALENDAR
VERSION:2.0
PRODID:-//Ruelle sur Touvre - ECPv6.15.17//NONSGML v1.0//EN
CALSCALE:GREGORIAN
METHOD:PUBLISH
X-ORIGINAL-URL:https://www.ville-ruellesurtouvre.fr
X-WR-CALDESC:Évènements pour Ruelle sur Touvre
REFRESH-INTERVAL;VALUE=DURATION:PT1H
X-Robots-Tag:noindex
X-PUBLISHED-TTL:PT1H
BEGIN:VTIMEZONE
TZID:Europe/Paris
BEGIN:DAYLIGHT
TZOFFSETFROM:+0100
TZOFFSETTO:+0200
TZNAME:CEST
DTSTART:20240331T010000
END:DAYLIGHT
BEGIN:STANDARD
TZOFFSETFROM:+0200
TZOFFSETTO:+0100
TZNAME:CET
DTSTART:20241027T010000
END:STANDARD
BEGIN:DAYLIGHT
TZOFFSETFROM:+0100
TZOFFSETTO:+0200
TZNAME:CEST
DTSTART:20250330T010000
END:DAYLIGHT
BEGIN:STANDARD
TZOFFSETFROM:+0200
TZOFFSETTO:+0100
TZNAME:CET
DTSTART:20251026T010000
END:STANDARD
BEGIN:DAYLIGHT
TZOFFSETFROM:+0100
TZOFFSETTO:+0200
TZNAME:CEST
DTSTART:20260329T010000
END:DAYLIGHT
BEGIN:STANDARD
TZOFFSETFROM:+0200
TZOFFSETTO:+0100
TZNAME:CET
DTSTART:20261025T010000
END:STANDARD
END:VTIMEZONE
BEGIN:VEVENT
DTSTART;VALUE=DATE:20250204
DTEND;VALUE=DATE:20250301
DTSTAMP:20260420T203036
CREATED:20241231T142303Z
LAST-MODIFIED:20241231T142303Z
UID:12902-1738627200-1740787199@www.ville-ruellesurtouvre.fr
SUMMARY:EXPOSITION : "Poussière\, la toute\, toute petite sorcière"
DESCRIPTION:L’album de Julie Gore devient une exposition ! \nEn co-création avec la Médiathèque départementale de Charente\, plongez dans l’univers de Poussière. \nLaissez-vous emporter dans un monde à hauteur d’enfants\, composé de tables de jeux\, d’éléments de décors et de pleins d’autres surprises. \nGratuit – Aux heures d’ouverture de la médiathèque – A partir de 5 ans.
URL:https://www.ville-ruellesurtouvre.fr/evenement/exposition-poussiere-la-toute-toute-petite-sorciere/
LOCATION:Médiathèque La Médiaporte
CATEGORIES:Agenda culturel,Agenda jeunesse
ATTACH;FMTTYPE=image/png:https://www.ville-ruellesurtouvre.fr/wp-content/uploads/2024/12/graine-de-momes.png
END:VEVENT
BEGIN:VEVENT
DTSTART;TZID=Europe/Paris:20250208T103000
DTEND;TZID=Europe/Paris:20250208T113000
DTSTAMP:20260420T203036
CREATED:20250102T134811Z
LAST-MODIFIED:20250102T134811Z
UID:12974-1739010600-1739014200@www.ville-ruellesurtouvre.fr
SUMMARY:LES Z'ÉCOUTILLES
DESCRIPTION:Padoudim\, padoudam…\nEmbarquez vos p’tites z’oreilles et vos p’tits z’yeux pour 30 minutes de comptines et d’histoires\,\n1\, 2\, 3 c’est le départ ! \nPour les 0-5 ans et leurs parents – gratuit
URL:https://www.ville-ruellesurtouvre.fr/evenement/les-zecoutilles-16/
LOCATION:Médiathèque La Médiaporte
CATEGORIES:Agenda culturel,Agenda jeunesse
END:VEVENT
BEGIN:VEVENT
DTSTART;TZID=Europe/Paris:20250208T143000
DTEND;TZID=Europe/Paris:20250208T163000
DTSTAMP:20260420T203036
CREATED:20241231T142615Z
LAST-MODIFIED:20241231T142615Z
UID:12905-1739025000-1739032200@www.ville-ruellesurtouvre.fr
SUMMARY:Atelier l'aquarelle avec Julie Gore
DESCRIPTION:Dans le cadre de l’exposition Poussière la toute\, toute petite sorcière\, venez-vous initier à l’aquarelle avec Julie Gore.  \nElle vous montrera ses originaux et vous expliquera la technique et le matériel utilisé. Vous réaliserez une illustration en niveau de gris à l’aide de la technique du lavis.  \nA partir de 8 ans – Gratuit sur inscription
URL:https://www.ville-ruellesurtouvre.fr/evenement/atelier-laquarelle-avec-julie-gore/
LOCATION:Médiathèque La Médiaporte
CATEGORIES:Agenda culturel,Agenda jeunesse
ATTACH;FMTTYPE=image/jpeg:https://www.ville-ruellesurtouvre.fr/wp-content/uploads/2024/12/Julie-GORE.jpg
END:VEVENT
BEGIN:VEVENT
DTSTART;TZID=Europe/Paris:20250215T100000
DTEND;TZID=Europe/Paris:20250215T220000
DTSTAMP:20260420T203036
CREATED:20241231T143502Z
LAST-MODIFIED:20241231T143502Z
UID:12909-1739613600-1739656800@www.ville-ruellesurtouvre.fr
SUMMARY:FESTIVAL DU JEU "JOUONS !" 2e édition
DESCRIPTION:Espace culturel Jean Ferrat – Gratuit- tout public \nUne journée pour s’amuser\, rencontrer\, essayer de nouveaux jeux (jeux de société\, plateau\, cartes\, d’ambiance…) : espace jeux libres à jouer. \n\n2 tournois de jeu vidéo sur écran géant dans le théâtre : 14h00\, tournoi de Worms / 20h00 tournoi de Street fighter (sur inscription auprès de la médiathèque 05.45.65.34.89) lots à gagner\n1 tournoi de jeu de plateau : Dodo Riding Dino (sur inscription auprès de la médiathèque 05.45.65.34.89) lots à gagner\nJeux de motricité et jeux de société pour les plus petits …\nEscape Game (sur inscription auprès de la médiathèque 05.45.65.34.89)\nAtelier Toupie : démonstration et création (bouchons de liège)\nProtozone : espace où les auteurs et autrices de jeux de société vont présenter et faire jouer leur prototype de jeu au public\nRestauration et buvette sur place\n\nEn partenariat avec le Dé Calé et le Lycée Jean Caillaud. \n  \n 
URL:https://www.ville-ruellesurtouvre.fr/evenement/festival-du-jeu-jouons-2e-edition/
LOCATION:Centre culturel Jean Ferrat\, Place du champ de Mars\, Ruelle Sur Touvre\, 16600\, France
CATEGORIES:Agenda culturel,Agenda festif,Agenda jeunesse
ATTACH;FMTTYPE=image/jpeg:https://www.ville-ruellesurtouvre.fr/wp-content/uploads/2024/12/20240210_152804-scaled.jpg
END:VEVENT
BEGIN:VEVENT
DTSTART;TZID=Europe/Paris:20250219T143000
DTEND;TZID=Europe/Paris:20250219T163000
DTSTAMP:20260420T203036
CREATED:20241231T143953Z
LAST-MODIFIED:20241231T143953Z
UID:12914-1739975400-1739982600@www.ville-ruellesurtouvre.fr
SUMMARY:Ateliers Mashup
DESCRIPTION:Transforme-toi en Spielberg junior avec la table Mashup et crée ton propre film animé en mixant des extraits vidéos\, de la musique\, et des bruitages. Il n’a jamais été aussi facile d’être réalisateur. Attention Hollywood\, nous voilà ! \nEn partenariat avec la Médiathèque départementale de Charente. Gratuit sur inscription – A partir de 5 ans.
URL:https://www.ville-ruellesurtouvre.fr/evenement/ateliers-mashup/
LOCATION:Médiathèque La Médiaporte
CATEGORIES:Agenda culturel,Agenda jeunesse
ATTACH;FMTTYPE=image/jpeg:https://www.ville-ruellesurtouvre.fr/wp-content/uploads/2024/12/table_mashup.jpg
END:VEVENT
BEGIN:VEVENT
DTSTART;TZID=Europe/Paris:20250222T163000
DTEND;TZID=Europe/Paris:20250222T171500
DTSTAMP:20260420T203036
CREATED:20241231T145841Z
LAST-MODIFIED:20250213T130408Z
UID:12921-1740241800-1740244500@www.ville-ruellesurtouvre.fr
SUMMARY:SPECTACLE "L'arbre féérique" par la cnie Les contes de Griotte
DESCRIPTION:La Compagnie les Contes de Griotte\, qui a effectué une résidence au Théâtre Jean Ferrat il y a un an\, présente son spectacle enchanteur « L’arbre féérique ». \nCe conte poétique et immersif invite les jeunes spectateurs à plonger dans un univers magique. \nL’histoire suit Apolline\, dont la mère décide de couper un sapin pour les fêtes de Noël. A leur grande surprise\, elles découvrent que cet arbre est la demeure de fées. Apolline se retrouve alors embarquée dans une aventure fascinante\, où elle doit aider ces petites créatures à trouver un nouveau foyer. \nDans une atmosphère immersive et captivante\, avec le thème écologique au cœur de l’histoire\, cette performance promet d’émerveiller et d’inspirer les jeunes spectateurs tout en les sensibilisant à la protection de la nature. \nGratuit – Tout public à partir de 3 ans – Durée 45 minutes \n \n 
URL:https://www.ville-ruellesurtouvre.fr/evenement/spectacle-larbre-feerique-par-la-cnie-les-contes-de-griotte/
LOCATION:Théâtre Jean Ferrat
CATEGORIES:Agenda culturel,Agenda jeunesse
ATTACH;FMTTYPE=image/png:https://www.ville-ruellesurtouvre.fr/wp-content/uploads/2025/02/Publi-larbre-feerique.png
END:VEVENT
BEGIN:VEVENT
DTSTART;TZID=Europe/Paris:20250226T143000
DTEND;TZID=Europe/Paris:20250226T163000
DTSTAMP:20260420T203036
CREATED:20241231T150127Z
LAST-MODIFIED:20241231T150127Z
UID:12924-1740580200-1740587400@www.ville-ruellesurtouvre.fr
SUMMARY:Mon p'tit ciné
DESCRIPTION:Petit moment cinéma suivi d’un atelier. C’est l’occasion pour les enfants d’emmener leurs parents au cinéma ! \nEn partenariat avec la bibliothèque numérique de Charente\, Sésame. Gratuit sur inscription – à partir de 5 ans.
URL:https://www.ville-ruellesurtouvre.fr/evenement/mon-ptit-cine-4/
LOCATION:Médiathèque La Médiaporte
CATEGORIES:Agenda culturel,Agenda jeunesse
ATTACH;FMTTYPE=image/jpeg:https://www.ville-ruellesurtouvre.fr/wp-content/uploads/2024/12/sticker-clap-de-cinema-3-ambiance-sticker-SI_0401.jpg
END:VEVENT
BEGIN:VEVENT
DTSTART;TZID=Europe/Paris:20250227T143000
DTEND;TZID=Europe/Paris:20250227T163000
DTSTAMP:20260420T203036
CREATED:20241231T144050Z
LAST-MODIFIED:20241231T144050Z
UID:12917-1740666600-1740673800@www.ville-ruellesurtouvre.fr
SUMMARY:Atelier Mashup
DESCRIPTION:Transforme-toi en Spielberg junior avec la table Mashup et crée ton propre film animé en mixant des extraits vidéos\, de la musique\, et des bruitages. Il n’a jamais été aussi facile d’être réalisateur. Attention Hollywood\, nous voilà ! \nEn partenariat avec la Médiathèque départementale de Charente. Gratuit sur inscription – A partir de 5 ans.
URL:https://www.ville-ruellesurtouvre.fr/evenement/atelier-mashup/
LOCATION:Médiathèque La Médiaporte
CATEGORIES:Agenda culturel,Agenda jeunesse
ATTACH;FMTTYPE=image/jpeg:https://www.ville-ruellesurtouvre.fr/wp-content/uploads/2024/12/table_mashup.jpg
END:VEVENT
END:VCALENDAR