BEGIN:VCALENDAR
VERSION:2.0
PRODID:-//Ruelle sur Touvre - ECPv6.15.17//NONSGML v1.0//EN
CALSCALE:GREGORIAN
METHOD:PUBLISH
X-ORIGINAL-URL:https://www.ville-ruellesurtouvre.fr
X-WR-CALDESC:Évènements pour Ruelle sur Touvre
REFRESH-INTERVAL;VALUE=DURATION:PT1H
X-Robots-Tag:noindex
X-PUBLISHED-TTL:PT1H
BEGIN:VTIMEZONE
TZID:Europe/Paris
BEGIN:DAYLIGHT
TZOFFSETFROM:+0100
TZOFFSETTO:+0200
TZNAME:CEST
DTSTART:20240331T010000
END:DAYLIGHT
BEGIN:STANDARD
TZOFFSETFROM:+0200
TZOFFSETTO:+0100
TZNAME:CET
DTSTART:20241027T010000
END:STANDARD
BEGIN:DAYLIGHT
TZOFFSETFROM:+0100
TZOFFSETTO:+0200
TZNAME:CEST
DTSTART:20250330T010000
END:DAYLIGHT
BEGIN:STANDARD
TZOFFSETFROM:+0200
TZOFFSETTO:+0100
TZNAME:CET
DTSTART:20251026T010000
END:STANDARD
BEGIN:DAYLIGHT
TZOFFSETFROM:+0100
TZOFFSETTO:+0200
TZNAME:CEST
DTSTART:20260329T010000
END:DAYLIGHT
BEGIN:STANDARD
TZOFFSETFROM:+0200
TZOFFSETTO:+0100
TZNAME:CET
DTSTART:20261025T010000
END:STANDARD
END:VTIMEZONE
BEGIN:VEVENT
DTSTART;TZID=Europe/Paris:20250305T110000
DTEND;TZID=Europe/Paris:20250305T170000
DTSTAMP:20260420T191525
CREATED:20241231T150841Z
LAST-MODIFIED:20241231T150841Z
UID:12929-1741172400-1741194000@www.ville-ruellesurtouvre.fr
SUMMARY:Lectures en musique avec les Poux symphoniques
DESCRIPTION:Les Poux Symphoniques vous proposent des lectures en musique \nA partir d’une sélection de livres illustrés\, les Poux symphoniques créent une ambiance sonore et des musiques originales inspirées par l’univers littéraire et graphique de chaque ouvrage.  \nL’Eveil : Mercredi 05 mars\, 11h – Gratuit sur inscription – pour les 6 mois / 4ans \nCaptivés par l’attrait des images\, portés par la relation de la voix qui révèle les histoires\, et enveloppés par les sons et les mélodies\, les enfants éveillent leur sensibilité avec le livre comme allié. \nLa musique des livres : Mercredi 05 mars\, 14h30 – Gratuit sur inscription – à partir de 5 ans \nJouée en direct avec multiples instruments\, la musique se fait complice de la voix. L’une et l’autre s’entremêlent pour favoriser l’imaginaire.
URL:https://www.ville-ruellesurtouvre.fr/evenement/lectures-en-musique-avec-les-poux-symphoniques/
LOCATION:Médiathèque La Médiaporte
CATEGORIES:Agenda culturel,Agenda jeunesse
ATTACH;FMTTYPE=image/jpeg:https://www.ville-ruellesurtouvre.fr/wp-content/uploads/2024/12/les-poux-symphoniques.jpg
END:VEVENT
BEGIN:VEVENT
DTSTART;TZID=Europe/Paris:20250307T100000
DTEND;TZID=Europe/Paris:20250307T180000
DTSTAMP:20260420T191525
CREATED:20241231T150427Z
LAST-MODIFIED:20241231T150449Z
UID:12926-1741341600-1741370400@www.ville-ruellesurtouvre.fr
SUMMARY:Jeu m'amuse !
DESCRIPTION:Jeux de société et jeux vidéo\, pour s’amuser et se défier. Venez jouer tout au long de la journée. \nEn partenariat avec le Dé Calé. Gratuit sur inscription – A partir de 5 ans.
URL:https://www.ville-ruellesurtouvre.fr/evenement/jeu-mamuse-6/
LOCATION:Médiathèque La Médiaporte
CATEGORIES:Agenda culturel,Agenda jeunesse
ATTACH;FMTTYPE=image/jpeg:https://www.ville-ruellesurtouvre.fr/wp-content/uploads/2024/08/logo-De-cale.jpg
END:VEVENT
BEGIN:VEVENT
DTSTART;TZID=Europe/Paris:20250312T143000
DTEND;TZID=Europe/Paris:20250312T163000
DTSTAMP:20260420T191525
CREATED:20250102T132509Z
LAST-MODIFIED:20250102T132509Z
UID:12957-1741789800-1741797000@www.ville-ruellesurtouvre.fr
SUMMARY:LES Z'ARTELIERS : Système solaire
DESCRIPTION:Le 29 mars\, une éclipse solaire partielle est prévue. A cette occasion\, on t’emmène dans notre système solaire pour découvrir tous ses secrets. \nAvis à tous ceux qui ont la tête dans les nuages et des étoiles plein les yeux. \nGratuit sur inscription – A partir de 5 ans.
URL:https://www.ville-ruellesurtouvre.fr/evenement/les-zarteliers-systeme-solaire/
LOCATION:Médiathèque La Médiaporte
CATEGORIES:Agenda culturel,Agenda jeunesse
ATTACH;FMTTYPE=image/jpeg:https://www.ville-ruellesurtouvre.fr/wp-content/uploads/2025/01/ciel-3.jpg
END:VEVENT
BEGIN:VEVENT
DTSTART;TZID=Europe/Paris:20250315T103000
DTEND;TZID=Europe/Paris:20250315T113000
DTSTAMP:20260420T191525
CREATED:20250102T134908Z
LAST-MODIFIED:20250102T134908Z
UID:12976-1742034600-1742038200@www.ville-ruellesurtouvre.fr
SUMMARY:LES Z'ÉCOUTILLES
DESCRIPTION:Padoudim\, padoudam…\nEmbarquez vos p’tites z’oreilles et vos p’tits z’yeux pour 30 minutes de comptines et d’histoires\,\n1\, 2\, 3 c’est le départ ! \nPour les 0-5 ans et leurs parents – gratuit
URL:https://www.ville-ruellesurtouvre.fr/evenement/les-zecoutilles-17/
LOCATION:Médiathèque La Médiaporte
CATEGORIES:Agenda culturel,Agenda jeunesse
END:VEVENT
BEGIN:VEVENT
DTSTART;TZID=Europe/Paris:20250315T143000
DTEND;TZID=Europe/Paris:20250315T163000
DTSTAMP:20260420T191525
CREATED:20250102T132634Z
LAST-MODIFIED:20250102T133651Z
UID:12962-1742049000-1742056200@www.ville-ruellesurtouvre.fr
SUMMARY:LES Z'ARTELIERS : Le système solaire
DESCRIPTION:Le 29 mars\, une éclipse solaire partielle est prévue. A cette occasion\, on t’emmène dans notre système solaire pour découvrir tous ses secrets. \nAvis à tous ceux qui ont la tête dans les nuages et des étoiles plein les yeux. \nGratuit sur inscription – A partir de 5 ans.
URL:https://www.ville-ruellesurtouvre.fr/evenement/les-zarteliers-le-systeme-solaire/
LOCATION:Médiathèque La Médiaporte
CATEGORIES:Agenda culturel,Agenda jeunesse
ATTACH;FMTTYPE=image/png:https://www.ville-ruellesurtouvre.fr/wp-content/uploads/2024/12/MF_RUELLE-3.png
END:VEVENT
BEGIN:VEVENT
DTSTART;TZID=Europe/Paris:20250324T143000
DTEND;TZID=Europe/Paris:20250324T163000
DTSTAMP:20260420T191525
CREATED:20250314T123930Z
LAST-MODIFIED:20250314T124030Z
UID:13337-1742826600-1742833800@www.ville-ruellesurtouvre.fr
SUMMARY:Les Z’arteliers – Perles
DESCRIPTION:Passe l’après-midi à enfiler des perles… Oui mais pas n’importe quelles perles ! Des perles à la manière des Camerounais\, qui depuis des siècles sont passés experts dans l’art de créer des parures.  L’association AHVEC (Axe Humanitaire des Volontés Européennes et Camerounaises) te fait découvrir les secrets de fabrication des perles du Cameroun. A toi de créer ton bracelet ! \n 
URL:https://www.ville-ruellesurtouvre.fr/evenement/les-zarteliers-perles-2/
LOCATION:Médiathèque La Médiaporte
CATEGORIES:Agenda jeunesse
ATTACH;FMTTYPE=image/jpeg:https://www.ville-ruellesurtouvre.fr/wp-content/uploads/2025/03/Bracelets-1.jpg
END:VEVENT
BEGIN:VEVENT
DTSTART;VALUE=DATE:20250327
DTEND;VALUE=DATE:20250330
DTSTAMP:20260420T191525
CREATED:20250102T135620Z
LAST-MODIFIED:20250325T122604Z
UID:12985-1743033600-1743292799@www.ville-ruellesurtouvre.fr
SUMMARY:FESTIVAL DU LIVRE JEUNESSE
DESCRIPTION:FESTIVAL DU LIVRE JEUNESSE \nOrganisé par la FCOL (Fédération Charentaise des Oeuvres Laïques) : rencontres d’auteurs\, présence de librairies et spectacles ! \nDepuis 1999\, la ville de Ruelle et la FCOL (Fédération Charentaise des Œuvres Laïques) s’associent pour l’organisation du Festival du Livre Jeunesse Ruelle Sur Touvre.\nEntièrement GRATUIT et ouvert à tous\, le festival propose de nombreuses actions : la 𝗷𝗼𝘂𝗿𝗻é𝗲 𝘁𝗵é𝗺𝗮𝘁𝗶𝗾𝘂𝗲\, 𝘀𝗽𝗲𝗰𝘁𝗮𝗰𝗹𝗲\, des 𝗿𝗲𝗻𝗰𝗼𝗻𝘁𝗿𝗲𝘀 𝗱’𝗮𝘂𝘁𝗲𝘂𝗿𝘀 𝗲𝘁 𝗱’𝗶𝗹𝗹𝘂𝘀𝘁𝗿𝗮𝘁𝗲𝘂𝗿𝘀\, des 𝗲𝘅𝗽𝗼𝘀𝗶𝘁𝗶𝗼𝗻𝘀\, des 𝗱é𝗱𝗶𝗰𝗮𝗰𝗲𝘀\, la 𝘃𝗲𝗻𝘁𝗲 𝗱𝗲 𝗹𝗶𝘃𝗿𝗲𝘀 ou même le 𝗽𝗿𝗶𝘅 𝗹𝗶𝘁𝘁é𝗿𝗮𝗶𝗿𝗲 𝗱𝗲𝘀 𝗰𝗼𝗹𝗹è𝗴𝗲𝘀 𝗲𝘁 𝗹𝘆𝗰é𝗲𝘀.\nPour connaitre en détails l’actualité de l’édition 2025\, rendez vous sur le site de la FCOL : https://www.fcol16.org/festival-du-livre-jeunesse/\nN’hésitez pas à suivre la page Facebook du Festival du Livre Jeunesse Ruellehttps://www.facebook.com/profile.php?id=100079162809709\nRenseignements au 05 45 95 17 89
URL:https://www.ville-ruellesurtouvre.fr/evenement/festival-du-livre-jeunesse-5/
LOCATION:Centre culturel Jean Ferrat\, Place du champ de Mars\, Ruelle Sur Touvre\, 16600\, France
CATEGORIES:Agenda culturel,Agenda festif,Agenda jeunesse
ATTACH;FMTTYPE=image/jpeg:https://www.ville-ruellesurtouvre.fr/wp-content/uploads/2025/03/Affiche-FLJ-25.jpg
END:VEVENT
END:VCALENDAR