BEGIN:VCALENDAR
VERSION:2.0
PRODID:-//Ruelle sur Touvre - ECPv6.15.17//NONSGML v1.0//EN
CALSCALE:GREGORIAN
METHOD:PUBLISH
X-WR-CALNAME:Ruelle sur Touvre
X-ORIGINAL-URL:https://www.ville-ruellesurtouvre.fr
X-WR-CALDESC:Évènements pour Ruelle sur Touvre
REFRESH-INTERVAL;VALUE=DURATION:PT1H
X-Robots-Tag:noindex
X-PUBLISHED-TTL:PT1H
BEGIN:VTIMEZONE
TZID:Europe/Paris
BEGIN:DAYLIGHT
TZOFFSETFROM:+0100
TZOFFSETTO:+0200
TZNAME:CEST
DTSTART:20240331T010000
END:DAYLIGHT
BEGIN:STANDARD
TZOFFSETFROM:+0200
TZOFFSETTO:+0100
TZNAME:CET
DTSTART:20241027T010000
END:STANDARD
BEGIN:DAYLIGHT
TZOFFSETFROM:+0100
TZOFFSETTO:+0200
TZNAME:CEST
DTSTART:20250330T010000
END:DAYLIGHT
BEGIN:STANDARD
TZOFFSETFROM:+0200
TZOFFSETTO:+0100
TZNAME:CET
DTSTART:20251026T010000
END:STANDARD
BEGIN:DAYLIGHT
TZOFFSETFROM:+0100
TZOFFSETTO:+0200
TZNAME:CEST
DTSTART:20260329T010000
END:DAYLIGHT
BEGIN:STANDARD
TZOFFSETFROM:+0200
TZOFFSETTO:+0100
TZNAME:CET
DTSTART:20261025T010000
END:STANDARD
END:VTIMEZONE
BEGIN:VEVENT
DTSTART;TZID=Europe/Paris:20250405T103000
DTEND;TZID=Europe/Paris:20250405T113000
DTSTAMP:20260420T175009
CREATED:20250314T133833Z
LAST-MODIFIED:20250314T134300Z
UID:13375-1743849000-1743852600@www.ville-ruellesurtouvre.fr
SUMMARY:Les Z'écoutilles
DESCRIPTION:Padoudim\, padoudam… \nEmbarquez vos p’tites z’oreilles et vos p’tits z’yeux pour 30 minutes de comptines et d’histoires\, \n1\, 2\, 3 c’est le départ ! \nPour les 0-5 ans et leurs parents – gratuit
URL:https://www.ville-ruellesurtouvre.fr/evenement/les-zecoutilles-19/
LOCATION:Médiathèque La Médiaporte
CATEGORIES:Agenda culturel,Agenda jeunesse
END:VEVENT
BEGIN:VEVENT
DTSTART;TZID=Europe/Paris:20250409T143000
DTEND;TZID=Europe/Paris:20250409T163000
DTSTAMP:20260420T175009
CREATED:20250314T091053Z
LAST-MODIFIED:20250314T091053Z
UID:13280-1744209000-1744216200@www.ville-ruellesurtouvre.fr
SUMMARY:Les Z’arteliers – Fleur de papier
DESCRIPTION:Prépare-toi à un marathon pour transformer des pages de livres en dahlias. Un\, deux\, trois\, échauffe bien tes phalanges pour relever le défi. En individuel ou en équipe\, l’effort est facile mais demande une endurance à toute épreuve ! Le secret des champions : entraide et bonne humeur. Et si tu as des courbatures\, souffle un peu et peins tes pétales… Allez\, on garde le rythme ! \nGratuit sur inscription : 05 45 65 34 89 – à partir de 5 ans.
URL:https://www.ville-ruellesurtouvre.fr/evenement/les-zarteliers-fleur-de-papier/
LOCATION:Médiathèque La Médiaporte
CATEGORIES:Agenda culturel,Agenda jeunesse
ATTACH;FMTTYPE=image/jpeg:https://www.ville-ruellesurtouvre.fr/wp-content/uploads/2025/03/Dahlia-de-papier.jpg
END:VEVENT
BEGIN:VEVENT
DTSTART;TZID=Europe/Paris:20250412T103000
DTEND;TZID=Europe/Paris:20250412T113000
DTSTAMP:20260420T175009
CREATED:20250314T091936Z
LAST-MODIFIED:20250314T105410Z
UID:13284-1744453800-1744457400@www.ville-ruellesurtouvre.fr
SUMMARY:Aqua’Zik
DESCRIPTION:Rejoins la Fabrik’ Ecolozik pour un atelier créatif où tu apprendras à fabriquer ta propre flûte à eau ou harpe aquatique ! Explore le monde fascinant des sons et des mélodies créés par l’eau. \nDans le cadre du festival Graines de Mômes\, avec la Médiathèque départementale de Charente. \nGratuit sur inscription : 05 45 65 34 89 – à partir de 3 ans.
URL:https://www.ville-ruellesurtouvre.fr/evenement/aquazik/
LOCATION:Médiathèque La Médiaporte
CATEGORIES:Agenda culturel,Agenda jeunesse
ATTACH;FMTTYPE=image/png:https://www.ville-ruellesurtouvre.fr/wp-content/uploads/2025/03/Aquazik.png
END:VEVENT
BEGIN:VEVENT
DTSTART;TZID=Europe/Paris:20250412T143000
DTEND;TZID=Europe/Paris:20250412T163000
DTSTAMP:20260420T175009
CREATED:20250314T092937Z
LAST-MODIFIED:20250314T092937Z
UID:13286-1744468200-1744475400@www.ville-ruellesurtouvre.fr
SUMMARY:Micro pour tous – Atelier jaspage
DESCRIPTION:Embellissez la tranche de votre livre préféré avec cet atelier jaspage.  \nCette technique\, utilisée aux Moyen Age et à la Renaissance\, revient à la mode\, pour le plus grand plaisir des bibliophiles et de leurs bibliothèques. \nGratuit sur inscription : 05 45 65 34 89 – Tout-public
URL:https://www.ville-ruellesurtouvre.fr/evenement/micro-pour-tous-atelier-jaspage/
LOCATION:Médiathèque La Médiaporte
CATEGORIES:Agenda culturel,Agenda jeunesse
ATTACH;FMTTYPE=image/jpeg:https://www.ville-ruellesurtouvre.fr/wp-content/uploads/2025/03/Jaspage-scaled.jpg
END:VEVENT
BEGIN:VEVENT
DTSTART;TZID=Europe/Paris:20250419T100000
DTEND;TZID=Europe/Paris:20250419T113000
DTSTAMP:20260420T175009
CREATED:20250314T104035Z
LAST-MODIFIED:20250314T105740Z
UID:13308-1745056800-1745062200@www.ville-ruellesurtouvre.fr
SUMMARY:Initiation au ukulélé
DESCRIPTION:Découvrez en famille la petite guitare d’Hawaï avec Fabien de l’école Ukulélé Ukuskull. Avec cet instrument\, facile d’accès\, pas besoin de connaître la musique. Quelques accords et voilà\, le tour est joué : des mélodies simples\, chaleureuses et efficaces.  \nAmusez-vous ! Et devenez musiciens ! \nGratuit sur inscription / 05 45 65  34 89– à partir de 7 ans.
URL:https://www.ville-ruellesurtouvre.fr/evenement/initiation-au-ukulele/
LOCATION:Médiathèque La Médiaporte
CATEGORIES:Agenda culturel,Agenda jeunesse
ATTACH;FMTTYPE=image/png:https://www.ville-ruellesurtouvre.fr/wp-content/uploads/2025/03/Intiation-Ukulele.png
END:VEVENT
BEGIN:VEVENT
DTSTART;TZID=Europe/Paris:20250419T140000
DTEND;TZID=Europe/Paris:20250419T160000
DTSTAMP:20260420T175009
CREATED:20250314T093120Z
LAST-MODIFIED:20250314T101402Z
UID:13289-1745071200-1745078400@www.ville-ruellesurtouvre.fr
SUMMARY:Atelier couture
DESCRIPTION:Venez recycler des matières pour créer de nouveaux accessoires utiles à votre quotidien. Un atelier co-animé par l’association AHVEC. L’association vous présentera à cette occasion\, ses kits pour continuer votre apprentissage à la maison. \nGratuit sur inscription : 05 45 65 34 89 – à partir de 10 ans.
URL:https://www.ville-ruellesurtouvre.fr/evenement/atelier-couture-2/
LOCATION:Médiathèque La Médiaporte
CATEGORIES:Agenda culturel,Agenda jeunesse
END:VEVENT
BEGIN:VEVENT
DTSTART;TZID=Europe/Paris:20250423T143000
DTEND;TZID=Europe/Paris:20250423T160000
DTSTAMP:20260420T175009
CREATED:20250314T104225Z
LAST-MODIFIED:20250314T104225Z
UID:13310-1745418600-1745424000@www.ville-ruellesurtouvre.fr
SUMMARY:Mon p'tit ciné
DESCRIPTION:Petit moment cinéma suivi d’un atelier. C’est l’occasion pour les enfants d’emmener leurs parents au cinéma ! En partenariat avec la bibliothèque numérique de Charente\, Sésame.
URL:https://www.ville-ruellesurtouvre.fr/evenement/mon-ptit-cine-5/
LOCATION:Médiathèque La Médiaporte
CATEGORIES:Agenda culturel,Agenda jeunesse
ATTACH;FMTTYPE=image/jpeg:https://www.ville-ruellesurtouvre.fr/wp-content/uploads/2024/12/sticker-clap-de-cinema-3-ambiance-sticker-SI_0401.jpg
END:VEVENT
BEGIN:VEVENT
DTSTART;TZID=Europe/Paris:20250426T150000
DTEND;TZID=Europe/Paris:20250426T170000
DTSTAMP:20260420T175009
CREATED:20250314T103902Z
LAST-MODIFIED:20250331T114424Z
UID:13304-1745679600-1745686800@www.ville-ruellesurtouvre.fr
SUMMARY:Spectacle familial de la Compagnie la Cadence Pétillante «  Le voyage magique de Rayponce »
DESCRIPTION:Organisé par l’association AHVEC au profit des enfants de la Source au Cameroun. \nVenez vivre cette merveilleuse histoire musicale\, un périple tendre et magique pour tous les enfants. \nAu royaume magique les lutins fêtent la saint Patrick dans la joie et la bonne humeur. Mais la méchante sorcière Pluckt\, sans aucune raison\, arrache le cœur d’or du lutin Kestion\, l’enferme dans une boîte magique et disperse les clés aux quatre coins du monde. Rayponce qui se promène dans la forêt propose à Kestion de l’aider à retrouver les 5 clés qui lui permettront de retrouver son cœur d’or. Aidés par les enfants\, nos deux amis accompliront leur mission et se feront de nouveaux amis en chemin. \nTarif 12€/ 8€ – 10 ans\nAchat des billets sur Helloasso : https://www.helloasso.com/associations/axe-humanitaire-des-volontes-europeennes-et-camerounaises-de-france-ahvec/evenements/le-voyage-magique-de-rayponce \nRenseignements 06 89 26 87 98
URL:https://www.ville-ruellesurtouvre.fr/evenement/spectacle-familial-de-la-compagnie-la-cadence-petillante-le-voyage-magique-de-rayponce/
LOCATION:Théâtre Jean Ferrat
CATEGORIES:Agenda associatif,Agenda culturel,Agenda jeunesse
ATTACH;FMTTYPE=image/jpeg:https://www.ville-ruellesurtouvre.fr/wp-content/uploads/2025/03/Le-voyage-magique-de-Rayponce.jpg
END:VEVENT
BEGIN:VEVENT
DTSTART;TZID=Europe/Paris:20250429T100000
DTEND;TZID=Europe/Paris:20250429T180000
DTSTAMP:20260420T175009
CREATED:20250314T104535Z
LAST-MODIFIED:20250314T105334Z
UID:13315-1745920800-1745949600@www.ville-ruellesurtouvre.fr
SUMMARY:Jeu m’amuse !
DESCRIPTION:Jeux de société et jeux vidéo\, pour s’amuser et se défier. Venez jouer tout au long de la journée. En partenariat avec le Dé Calé
URL:https://www.ville-ruellesurtouvre.fr/evenement/jeu-mamuse-7/
LOCATION:Médiathèque La Médiaporte
CATEGORIES:Agenda jeunesse
ATTACH;FMTTYPE=image/jpeg:https://www.ville-ruellesurtouvre.fr/wp-content/uploads/2025/03/Jeu-mamuse-scaled.jpeg
END:VEVENT
END:VCALENDAR