BEGIN:VCALENDAR
VERSION:2.0
PRODID:-//Ruelle sur Touvre - ECPv6.15.17//NONSGML v1.0//EN
CALSCALE:GREGORIAN
METHOD:PUBLISH
X-ORIGINAL-URL:https://www.ville-ruellesurtouvre.fr
X-WR-CALDESC:Évènements pour Ruelle sur Touvre
REFRESH-INTERVAL;VALUE=DURATION:PT1H
X-Robots-Tag:noindex
X-PUBLISHED-TTL:PT1H
BEGIN:VTIMEZONE
TZID:Europe/Paris
BEGIN:DAYLIGHT
TZOFFSETFROM:+0100
TZOFFSETTO:+0200
TZNAME:CEST
DTSTART:20240331T010000
END:DAYLIGHT
BEGIN:STANDARD
TZOFFSETFROM:+0200
TZOFFSETTO:+0100
TZNAME:CET
DTSTART:20241027T010000
END:STANDARD
BEGIN:DAYLIGHT
TZOFFSETFROM:+0100
TZOFFSETTO:+0200
TZNAME:CEST
DTSTART:20250330T010000
END:DAYLIGHT
BEGIN:STANDARD
TZOFFSETFROM:+0200
TZOFFSETTO:+0100
TZNAME:CET
DTSTART:20251026T010000
END:STANDARD
BEGIN:DAYLIGHT
TZOFFSETFROM:+0100
TZOFFSETTO:+0200
TZNAME:CEST
DTSTART:20260329T010000
END:DAYLIGHT
BEGIN:STANDARD
TZOFFSETFROM:+0200
TZOFFSETTO:+0100
TZNAME:CET
DTSTART:20261025T010000
END:STANDARD
END:VTIMEZONE
BEGIN:VEVENT
DTSTART;VALUE=DATE:20250505
DTEND;VALUE=DATE:20250518
DTSTAMP:20260420T162817
CREATED:20250314T105051Z
LAST-MODIFIED:20250314T105051Z
UID:13317-1746403200-1747526399@www.ville-ruellesurtouvre.fr
SUMMARY:Exposition Le festival Petites Oreilles en Goguette
DESCRIPTION:Bébé lion\, tu me surprends ! \nPetit Lion a une drôle de crinière\, qui lui en fait voir de toutes les couleurs ! Une exposition à portée de main des bébés et enfants de maternelle pour parler de la différence\, du regard des autres sur soi et pour apprendre par le jeu à en faire un atout pour bien grandir !\nÀ partir de l’album «Camélion» écrit par Nicole Snitselaar et illustré par Coralie Saudo publié aux Éditions Balivernes. \nGratuit – aux heures d’ouverture de la médiathèque
URL:https://www.ville-ruellesurtouvre.fr/evenement/exposition-le-festival-petites-oreilles-en-goguette/
LOCATION:Médiathèque La Médiaporte
CATEGORIES:Agenda culturel,Agenda jeunesse
ATTACH;FMTTYPE=image/jpeg:https://www.ville-ruellesurtouvre.fr/wp-content/uploads/2025/03/POG-2025.jpg
END:VEVENT
BEGIN:VEVENT
DTSTART;TZID=Europe/Paris:20250507T100000
DTEND;TZID=Europe/Paris:20250507T110000
DTSTAMP:20260420T162817
CREATED:20250314T110037Z
LAST-MODIFIED:20250314T110037Z
UID:13325-1746612000-1746615600@www.ville-ruellesurtouvre.fr
SUMMARY:Atelier Roaaar - Le festival Petites Oreilles en Goguette
DESCRIPTION:Une patte après l’autre\, visite l’exposition avec Bébé Lion avant de plonger tes griffes dans la peinture pour créer la plus belle des crinières.
URL:https://www.ville-ruellesurtouvre.fr/evenement/atelier-roaaar-le-festival-petites-oreilles-en-goguette/
LOCATION:Médiathèque La Médiaporte
CATEGORIES:Agenda culturel,Agenda jeunesse
ATTACH;FMTTYPE=image/jpeg:https://www.ville-ruellesurtouvre.fr/wp-content/uploads/2025/03/POG-2025.jpg
END:VEVENT
BEGIN:VEVENT
DTSTART;TZID=Europe/Paris:20250514T160000
DTEND;TZID=Europe/Paris:20250514T170000
DTSTAMP:20260420T162817
CREATED:20250314T110215Z
LAST-MODIFIED:20250314T123154Z
UID:13328-1747238400-1747242000@www.ville-ruellesurtouvre.fr
SUMMARY:Atelier Roaaar - Le festival Petites Oreilles en Goguette
DESCRIPTION:Une patte après l’autre\, visite l’exposition avec Bébé Lion avant de plonger tes griffes dans la peinture pour créer la plus belle des crinières.
URL:https://www.ville-ruellesurtouvre.fr/evenement/atelier-roaaar-le-festival-petites-oreilles-en-goguette-2/
LOCATION:Médiathèque La Médiaporte
CATEGORIES:Agenda culturel,Agenda jeunesse
ATTACH;FMTTYPE=image/jpeg:https://www.ville-ruellesurtouvre.fr/wp-content/uploads/2025/03/POG-2025.jpg
END:VEVENT
BEGIN:VEVENT
DTSTART;TZID=Europe/Paris:20250517T103000
DTEND;TZID=Europe/Paris:20250517T113000
DTSTAMP:20260420T162817
CREATED:20250314T123308Z
LAST-MODIFIED:20250314T123350Z
UID:13330-1747477800-1747481400@www.ville-ruellesurtouvre.fr
SUMMARY:Les Z’écoutilles
DESCRIPTION:Papoudim\, papoudam… Embarquez vos p’tites z’oreilles et vos p’tits yeux pour 30 minutes de comptines et d’histoires. \nUne séance spéciale Coralie Saudo.  1\, 2\, 3\, c’est le départ ! \n 
URL:https://www.ville-ruellesurtouvre.fr/evenement/les-zecoutilles-18/
LOCATION:Médiathèque La Médiaporte
CATEGORIES:Agenda culturel,Agenda jeunesse
ATTACH;FMTTYPE=image/png:https://www.ville-ruellesurtouvre.fr/wp-content/uploads/2025/03/Zecoutilles-mai-Saudo.png
END:VEVENT
BEGIN:VEVENT
DTSTART;TZID=Europe/Paris:20250521T143000
DTEND;TZID=Europe/Paris:20250521T163000
DTSTAMP:20260420T162817
CREATED:20250314T123819Z
LAST-MODIFIED:20250314T123819Z
UID:13333-1747837800-1747845000@www.ville-ruellesurtouvre.fr
SUMMARY:Les Z’arteliers – Perles
DESCRIPTION:Passe l’après-midi à enfiler des perles… Oui mais pas n’importe quelles perles ! Des perles à la manière des Camerounais\, qui depuis des siècles sont passés experts dans l’art de créer des parures.  L’association AHVEC (Axe Humanitaire des Volontés Européennes et Camerounaises) te fait découvrir les secrets de fabrication des perles du Cameroun. A toi de créer ton bracelet ! \n 
URL:https://www.ville-ruellesurtouvre.fr/evenement/les-zarteliers-perles/
LOCATION:Médiathèque La Médiaporte
CATEGORIES:Agenda jeunesse
ATTACH;FMTTYPE=image/jpeg:https://www.ville-ruellesurtouvre.fr/wp-content/uploads/2025/03/Bracelets-1.jpg
END:VEVENT
END:VCALENDAR