BEGIN:VCALENDAR
VERSION:2.0
PRODID:-//Ruelle sur Touvre - ECPv6.15.17//NONSGML v1.0//EN
CALSCALE:GREGORIAN
METHOD:PUBLISH
X-ORIGINAL-URL:https://www.ville-ruellesurtouvre.fr
X-WR-CALDESC:Évènements pour Ruelle sur Touvre
REFRESH-INTERVAL;VALUE=DURATION:PT1H
X-Robots-Tag:noindex
X-PUBLISHED-TTL:PT1H
BEGIN:VTIMEZONE
TZID:Europe/Paris
BEGIN:DAYLIGHT
TZOFFSETFROM:+0100
TZOFFSETTO:+0200
TZNAME:CEST
DTSTART:20250330T010000
END:DAYLIGHT
BEGIN:STANDARD
TZOFFSETFROM:+0200
TZOFFSETTO:+0100
TZNAME:CET
DTSTART:20251026T010000
END:STANDARD
BEGIN:DAYLIGHT
TZOFFSETFROM:+0100
TZOFFSETTO:+0200
TZNAME:CEST
DTSTART:20260329T010000
END:DAYLIGHT
BEGIN:STANDARD
TZOFFSETFROM:+0200
TZOFFSETTO:+0100
TZNAME:CET
DTSTART:20261025T010000
END:STANDARD
BEGIN:DAYLIGHT
TZOFFSETFROM:+0100
TZOFFSETTO:+0200
TZNAME:CEST
DTSTART:20270328T010000
END:DAYLIGHT
BEGIN:STANDARD
TZOFFSETFROM:+0200
TZOFFSETTO:+0100
TZNAME:CET
DTSTART:20271031T010000
END:STANDARD
END:VTIMEZONE
BEGIN:VEVENT
DTSTART;TZID=Europe/Paris:20260207T143000
DTEND;TZID=Europe/Paris:20260207T160000
DTSTAMP:20260419T153744
CREATED:20260105T145301Z
LAST-MODIFIED:20260105T145301Z
UID:14183-1770474600-1770480000@www.ville-ruellesurtouvre.fr
SUMMARY:Les Z'arteliers : L'art aborigène
DESCRIPTION:Plonge dans l’univers coloré de l’art aborigène. Laisse libre cours à ton imagination avec ces cercles et ces lignes ondulées si caractéristiques. Kangourous et koalas prendront forme sous tes yeux ! \nAtelier à partir de 5 ans – Gratuit sur inscription : 05 45 65 34 89
URL:https://www.ville-ruellesurtouvre.fr/evenement/les-zarteliers-lart-aborigene/
LOCATION:Médiathèque La Médiaporte
CATEGORIES:Agenda jeunesse
ATTACH;FMTTYPE=image/png:https://www.ville-ruellesurtouvre.fr/wp-content/uploads/2026/01/FEV202601.png
END:VEVENT
BEGIN:VEVENT
DTSTART;TZID=Europe/Paris:20260211T143000
DTEND;TZID=Europe/Paris:20260211T160000
DTSTAMP:20260419T153745
CREATED:20260105T145408Z
LAST-MODIFIED:20260105T145408Z
UID:14186-1770820200-1770825600@www.ville-ruellesurtouvre.fr
SUMMARY:Les Z'arteliers : L'art aborigène
DESCRIPTION:Plonge dans l’univers coloré de l’art aborigène. Laisse libre cours à ton imagination avec ces cercles et ces lignes ondulées si caractéristiques. Kangourous et koalas prendront forme sous tes yeux ! \nAtelier à partir de 5 ans – Gratuit sur inscription : 05 45 65 34 89
URL:https://www.ville-ruellesurtouvre.fr/evenement/les-zarteliers-lart-aborigene-2/
LOCATION:Médiathèque La Médiaporte
CATEGORIES:Agenda jeunesse
ATTACH;FMTTYPE=image/png:https://www.ville-ruellesurtouvre.fr/wp-content/uploads/2026/01/FEV202601.png
END:VEVENT
BEGIN:VEVENT
DTSTART;TZID=Europe/Paris:20260213T143000
DTEND;TZID=Europe/Paris:20260213T160000
DTSTAMP:20260419T153745
CREATED:20260105T145803Z
LAST-MODIFIED:20260105T145803Z
UID:14188-1770993000-1770998400@www.ville-ruellesurtouvre.fr
SUMMARY:Mon p'tit ciné
DESCRIPTION:Petit moment cinéma suivi d’un atelier. C’est l’occasion pour les enfants d’emmener leurs parents au cinéma !  \nEn partenariat avec la bibliothèque numérique de Charente\, Sésame.
URL:https://www.ville-ruellesurtouvre.fr/evenement/mon-ptit-cine-6/
LOCATION:Médiathèque La Médiaporte
CATEGORIES:Agenda jeunesse
ATTACH;FMTTYPE=image/png:https://www.ville-ruellesurtouvre.fr/wp-content/uploads/2024/12/Clap-cine.png
END:VEVENT
END:VCALENDAR